Workbook
Name ABC: options!$AD$1:$AD$4
Name agreement: options!$R$2:$R$6
Name CapTD: options!$D$17:$D$17
Name employment: options!$D$2:$D$7
Name employment_after_graduation: options!$E$2:$E$5
Name fe_cert: options!$AA$2:$AA$6
Name future_plans: options!$R$2:$R$3
Name gender: options!$C$2:$C$3
Name hierarchy: options!$I$2:$I$11
Name improvement: options!$N$2:$N$8
Name industry: options!$S$2:$S$8
Name job_training_dur: options!$H$2:$H$6
Name jobapply: options!$L$2:$L$4
Name jobfind: options!$F$2:$F$8
Name jobreason: options!$K$2:$K$4
Name level: options!$W$2:$W$6
Name lydo: options!$M$2:$M$8
Name lydohocnghe: options!$AC$9:$AC$12
Name LydokoVL: options!$M$16:$M$18
Name noacceptreason: options!$M$2:$M$8
Name number: options!$V$2:$V$6
Name perception: options!$S$2:$S$6
Name rankcert: options!$T$2:$T$6
Name related: options!$U$2:$U$4
Name salary: options!$G$2:$G$6
Name School: options!$B$2:$B$27
Name schooling: options!$X$2:$X$7
Name sector: options!$J$2:$J$12
Name Thời_gian_bắt_đầu_công_việc: 'Nhập liệu'!$AL$2
Name timetraining: options!$H$2:$H$6
Name University_of_Technical_Education_Hung_Yen: 'Hướng dẫn'!$B$5
Name vt_level: options!$Y$2:$Y$5
Name vt_place: options!$Z$2:$Z$5
Name yesno: options!$Q$2:$Q$3
Name yesno2: options!$AB$2:$AB$3

Sheet Hướng dẫn
A3: Mã Trường | B3: Xin ghi mã trường in trong cuốn Hướng dẫn tuyển sinh
B4: Xin lựa chọn tên trường trong ô dưới đây
B5: 2.NI_CĐN Bách Nghệ Hải Phòng
B9: Một số điểm lưu ý khi nhập liệu
B10: 1. Mã học viên là Mã đã được lưu trong hệ thống quản lý dữ liệu của nhà trường. Nếu chưa có thì nhà trường tự lấy mã
B11: 2. Phần nhập liệu đã được xây dựng để kiểm tra tính logic đối với các câu trả lời của phiếu
B12: Cụ thể là:nếu chọn "Chưa" ở câu 6 sẽ chuyển câu 11
B13: Nếu lựa chọn "Không đi làm" câu 11 sẽ chuyển sang câu 22
B14: Lựa chọn "Đi học tiếp" trong câu 22, sẽ chuyển sang câu 25…
B15: Và các câu khác
B16: Do đó: Không nhập liệu vào ô chuyển sang màu đỏ
B17: 3. Để nhập Ô ngày/tháng/năm sinh theo đúng thứ tự cần cài đặt lại định dạng Thời gian của máy tính thống qua các bước sau:
B18: Vào thanh Start, chọn Setting,
... B27: Các nội dung nhập liệu khác tương tự như trong phần nhập thông tin cơ bản

Sheet Sheet2
A2: Row Labels | B2: Số lượng Cấp trình độ | C2: Tỉ lệ % Cấp trình độ2
A3: 1.Cao đẳng nghề | B3: 123 | C3: 0.82550336
A4: 2.Trung cấp nghề | B4: 26 | C4: 0.17449664
A5: Grand Total | B5: 149 | C5: 1

Sheet Sheet1
A3: Row Labels
A4: 1.Có liên quan
A5: 2.Liên quan
A6: 3.Không liên quan
A7: (blank)
A8: Grand Total
A21: Công nghệ kỹ thuật Cơ khí | B21: Công nghệ kỹ thuật Cơ khí | F21: 1.Có liên quan | G21: 1.Có liên quan
A22: Công nghệ kỹ thuật nhiệt lanj | B22: Công nghệ kỹ thuật nhiệt lanj | F22: 2.Liên quan | G22: 2.Liên quan
A23: Công nghệ Kỹ Thuật Ô Tô | B23: Công nghệ Kỹ Thuật Ô Tô | F23: 3.Không liên quan | G23: 3.Không liên quan
A24: Công nghệ Mạng máy tính | B24: Công nghệ Mạng máy tính
A25: Công nghệ May | B25: Công nghệ May
A26: Công nghệ Ô Tô | B26: Công nghệ Kỹ Thuật Ô Tô
A27: Công nghệ Phần mềm | B27: Công nghệ Phần mềm
A28: Điện công nghiệp | B28: Điện công nghiệp
A29: Điện Dân Dụng | B29: Điện Dân Dụng
A30: Điện tử công nghiệp | B30: Điện tử công nghiệp

Sheet Nhập liệu
A1: STT | B1: Trường | C1: Mã Học Viên | D1: Họ | E1: Tên đệm | F1: Tên | G1: 2.Lớp | H1: 2.Khoa | I1: 2. Ngành/ Nghề đào tạo | J1: Chuẩn hóa nghề | K1: 2.Cấp trình độ | L1: 3.Địa chỉ -Số nhà/ đường phố | M1: 3.Quận-Huyện/ Xã - Phường | N1: 3.Tỉnh - Thành Phố | O1: Số ĐT | P1: Email | Q1: 4.Giới tính | R1: 5.NĂM SINH | S1: Tuổi | T1: Nhóm tuổi | U1: 6.Bằng TN cao nhất | V1: 7.Đã từng học nghề trước khi vào trường | W1: 7.1Bằng nghề cao nhất | X1: 7.2Học nghề ở đâu | Y1: 7.3 Số tháng học nghề | Z1: 8.Xếp loại tốt nghiệp | AA1: 9.Tình trạng việc làm | AB1: Tình trạng khác, cụ thể | AC1: 10.Lĩnh vực kinh doanh | AD1: 10.Ngành khác, nêu cụ thể | AE1: 11.Tên công ty | AF1: Địa chỉ công ty (Số nhà và phố) | AG1: Quận/ huyện | AH1: Tỉnh/TP | AI1: Số ĐT | AJ1: E-mail- Website | AK1: 12.Số giờ làm việc trong 1 tuần | AL1: 13.Thời gian bắt đầu công việc | AM1: 14.Cách thức tìm việc | AN1: Nếu chọn Khác, xin ghi cụ thể | AO1: 15.Đánh giá về Lý thuyết | AP1: 15.Đánh giá về Kỹ năng nghề | AQ1: Công việc liên quan đến nghề đào tạo | AR1: Chuẩn hóa công việc liên quan | AS1: 17.1 Thu nhập chính xác | AT1: 17.2 Mức lương | AU1: 18.Số người cùng làm việc trong công ty | AV1: 19.Đào tạo kèm cặp trong khi làm | AW1: 19.Thời gian đào tạo | AX1: 20.Vị trí công tác | AY1: Vị trí khác, ghi cụ thể | AZ1: 21.Nhu cầu học tiếp | BA1: 21.Tên nghề/kỹ năng muốn học | BB1: 21.Cấp trình độ muốn học tiếp | BC1: 22.Lý do không đi làm | BD1: 23.Công việc đã xin | BE1: 24.Lý do 1 | BF1: 24.Lý do 2 | BG1: 24.Lý do 3 | BH1: 24.Khác, cụ thể | BI1: 25.Lý do tiếp tục đi học? | BJ1: 26.Tên cơ sở đào tạo | BK1: 26.Ngành nghề đào tạo | BL1: 26.Cấp trình độ của khoá học | BM1: 27.Đánh giá trình độ giáo viên | BN1: 28.Đánh giá giáo trình và nội dung | BO1: 29.Đánh giá về mức độ đáp ứng | BP1: 30.Lĩnh vực cần được cải tiến nhất 1 | BQ1: 30.Lĩnh vực cần được cải tiến thứ 2 | BR1: 30.Lĩnh vực cần được cải tiến thứ 3 | BS1: 30. Lĩnh vực khác, cụ thể | BT1: 31.Đánh giá về danh tiếng cơ sở đào tạo | BU1: 32.Đánh giá mức độ hài lòng về chất lượng đào tạo
A2: 1 | B2: Trường Cao đẳng Lý Tự Trọng thành Phố Hồ Chí Minh | C2: 14000645 | D2: Đặng | F2: Hùng | G2: 14CĐ - CK1 | H2: Công nghệ Cơ khí | I2: Công nghệ kỹ thuật Cơ khí | J2: =VLOOKUP(I2,Sheet1!$A$20:$B$30,2) -> Công nghệ kỹ thuật Cơ khí | K2: 1.Cao đẳng nghề | L2: 194 Bàu Cát, | M2: Quận Tân Bình | N2: Tp.hcm | O2: 01657255832 | P2: hungo99996@gmail.com | Q2: Nam | R2: 1996 | S2: =2018-R2:R150 -> 22 | T2: =VLOOKUP(S2,'Nhóm tuổi'!$A$10:$B$16,2) -> Dưới 25 tuổi | U2: 4.Cao đẳng | V2: Chưa | Z2: 5.Trung bình | AA2: A1.Làm công ăn lương | AC2: 5. Sản xuất, phân phối điện, ga, nước | AE2: TNHHTBM Minh Phát | AF2: 3A/7 Nguyễn Cửa Phú, | AG2: Quận Bình Chánh | AH2: Tp.hcm | AI2: 2838770057 | AJ2: http://www.tbm.com.vn | AK2: 48 | AL2: 2.Dưới 1 tháng | AM2: Quan hệ cá nhân | AO2: 2.Tốt | AP2: 2.Tốt | AQ2: 1.Có liên quan | AR2: =VLOOKUP(AQ2,Sheet1!$F$21:$G$23,2) -> 1.Có liên quan | AT2: 4. Từ 6-8 triệu | AU2: 3. Từ 10-200 người | AV2: Có | AW2: 2. Từ 2-4 tuần | AX2: 2. Nhân viên chính thức | AZ2: Có | BA2: Công nghệ kỹ thuật cơ khí | BB2: 1.Đại học | BI2: Học nâng cao trình độ | BJ2: Truường Đại học sư phạm Kỹ thuật Tp.HCM | BK2: CN Kỹ thuật Cơ khí | BL2: 1.Đại học | BM2: 2.Đồng ý | BN2: 2.Đồng ý | BO2: 2.Đồng ý | BP2: Tài liệu,chương trình (sách, v.v.) | BQ2: Trang thiết bị (máy móc, công cụ, v.v.) | BR2: Cơ sở vật chất (phòng học, thư việnv.v.) | BT2: 2.Đồng ý | BU2: 2.Đồng ý
A3: 2 | B3: Trường Cao đẳng Lý Tự Trọng thành Phố Hồ Chí Minh | C3: 14000662 | D3: Trần | E3: Văn | F3: Nhựt | G3: 14CĐ - CK1 | H3: Công nghệ Cơ khí | I3: Công nghệ kỹ thuật Cơ khí | J3: =VLOOKUP(I3,Sheet1!$A$20:$B$30,2) -> Công nghệ kỹ thuật Cơ khí | K3: 1.Cao đẳng nghề | L3: Đường Dương Quảng Hàm, Phường 5 | M3: Quận Gò Vấp | N3: Tp.hcm | O3: 1698981118 | Q3: Nam | R3: 1996 | S3: =2018-R3:R151 -> 22 | T3: =VLOOKUP(S3,'Nhóm tuổi'!$A$10:$B$16,2) -> Dưới 25 tuổi | U3: 4.Cao đẳng | V3: Chưa | Z3: 5.Trung bình | AA3: B1.Vừa học vừa làm | AC3: 5. Sản xuất, phân phối điện, ga, nước | AK3: 48 | AL3: 1.Trước khi TN | AM3: Do trường giới thiệu | AO3: 2.Tốt | AP3: 2.Tốt | AQ3: 1.Có liên quan | AR3: =VLOOKUP(AQ3,Sheet1!$F$21:$G$23,2) -> 1.Có liên quan | AT3: 3.Từ 4-6 triệu | AU3: 3. Từ 10-200 người | AV3: Không | AW3: 2. Từ 2-4 tuần | AX3: 2. Nhân viên chính thức | AZ3: Có | BA3: Công nghệ kỹ thuật cơ khí | BB3: 1.Đại học | BI3: Học nâng cao trình độ | BJ3: Truường Đại học sư phạm Kỹ thuật Tp.HCM | BK3: CN Kỹ thuật Cơ khí | BL3: 1.Đại học | BM3: 2.Đồng ý | BN3: 2.Đồng ý | BO3: 2.Đồng ý | BP3: Trang thiết bị (máy móc, công cụ, v.v.) | BQ3: Cơ sở vật chất (phòng học, thư việnv.v.) | BR3: Thực tập/ thực hành tại doanh nghiệp | BT3: 2.Đồng ý | BU3: 2.Đồng ý
A4: 3 | B4: Trường Cao đẳng Lý Tự Trọng thành Phố Hồ Chí Minh | C4: 14000633 | D4: Đặng | E4: Hữu | F4: Cảnh | G4: 14CĐ - CK1 | H4: Công nghệ Cơ khí | I4: Công nghệ kỹ thuật Cơ khí | J4: =VLOOKUP(I4,Sheet1!$A$20:$B$30,2) -> Công nghệ kỹ thuật Cơ khí | K4: 1.Cao đẳng nghề | L4: 105/363 Mũi Lớn 2, Phường Tân An Hội | M4: Huyện Củ Chi | N4: Tp.hcm | O4: 01676791293 | Q4: Nam | R4: 1996 | S4: =2018-R4:R152 -> 22 | T4: =VLOOKUP(S4,'Nhóm tuổi'!$A$10:$B$16,2) -> Dưới 25 tuổi | U4: 4.Cao đẳng | V4: Chưa | Z4: 5.Trung bình | AA4: B1.Vừa học vừa làm | AC4: 11.Khác, ghi cụ thể | AD4: Công nghệ Chế tạo | AE4: Công ty TNHH Máy và sản xuất thép việt | AF4: 86/6D Đường Dương Công Khi, Xã Xuân Thới Sơn | AG4: Hốc Môn | AH4: Tp.hcm | AI4: 028 62598102 | AJ4: http://www.vietsteel.com.vn | AK4: 48 | AL4: 4.Trên 3 tháng | AM4: Quan hệ cá nhân | AO4: 2.Tốt | AP4: 2.Tốt | AQ4: 1.Có liên quan | AR4: =VLOOKUP(AQ4,Sheet1!$F$21:$G$23,2) -> 1.Có liên quan | AT4: 3.Từ 4-6 triệu | AU4: 3. Từ 10-200 người | AV4: Có | AW4: 2. Từ 2-4 tuần | AX4: 1. Nhân viên trong thời gian thử việc (thợ học việc | AZ4: Không | BB4: 1.Đại học | BM4: 2.Đồng ý | BN4: 2.Đồng ý | BO4: 2.Đồng ý | BP4: Trang thiết bị (máy móc, công cụ, v.v.) | BQ4: Thực tập/ thực hành tại doanh nghiệp | BR4: Phương pháp giảng dạy của giáo viên | BT4: 2.Đồng ý | BU4: 2.Đồng ý
A5: 4 | B5: Trường Cao đẳng Lý Tự Trọng thành Phố Hồ Chí Minh | C5: 14000769 | D5: Trương | E5: Ngọc | F5: Dũng | G5: 14CĐ - CK1 | H5: Công nghệ Cơ khí | I5: Công nghệ kỹ thuật Cơ khí | J5: =VLOOKUP(I5,Sheet1!$A$20:$B$30,2) -> Công nghệ kỹ thuật Cơ khí | K5: 1.Cao đẳng nghề | L5: Thôn 2, Tân Phúc | M5: Huyện Hàm Tân | N5: Bình Thuận | O5: 0975428945 | Q5: Nam | R5: 1995 | S5: =2018-R5:R153 -> 23 | T5: =VLOOKUP(S5,'Nhóm tuổi'!$A$10:$B$16,2) -> Dưới 25 tuổi | U5: 4.Cao đẳng | V5: Chưa | Z5: 5.Trung bình | AA5: A2.Tự SX-KD | AC5: 11.Khác, ghi cụ thể | AD5: Cơ khí nông nghiệp | AE5: Tại gia | AF5: Thôn 2, Tân Phúc | AG5: Hàm tân | AH5: Bình Thuận | AI5: 0975428945 | AK5: 48 | AL5: 2.Dưới 1 tháng | AM5: Quan hệ cá nhân | AO5: 2.Tốt | AP5: 2.Tốt | AQ5: 1.Có liên quan | AR5: =VLOOKUP(AQ5,Sheet1!$F$21:$G$23,2) -> 1.Có liên quan | AT5: 4. Từ 6-8 triệu | AU5: 3. Từ 10-200 người | AV5: Không | AX5: 2. Nhân viên chính thức | AZ5: Không | BB5: 1.Đại học | BM5: 2.Đồng ý | BN5: 2.Đồng ý | BO5: 2.Đồng ý | BP5: Trang thiết bị (máy móc, công cụ, v.v.) | BQ5: Thực tập/ thực hành tại doanh nghiệp | BR5: Khác | BS5: Đầu tư nhiều cho lĩnh vực tự động hóa, thủy lực | BT5: 2.Đồng ý | BU5: 2.Đồng ý
A6: 5 | B6: Trường Cao đẳng Lý Tự Trọng thành Phố Hồ Chí Minh | C6: 13D2010274 | D6: Nguyễn | E6: Nhật | F6: Duy | G6: 14CĐ - CK1 | H6: Công nghệ Cơ khí | I6: Công nghệ kỹ thuật Cơ khí | J6: =VLOOKUP(I6,Sheet1!$A$20:$B$30,2) -> Công nghệ kỹ thuật Cơ khí | K6: 1.Cao đẳng nghề | L6: 202A Vĩnh Bình A, | M6: Vĩnh Thạnh, Huyện Lấp Vò | N6: Đồng Tháp | O6: 01225898995 | Q6: Nam | R6: 1995 | S6: =2018-R6:R154 -> 23 | T6: =VLOOKUP(S6,'Nhóm tuổi'!$A$10:$B$16,2) -> Dưới 25 tuổi | U6: 4.Cao đẳng | V6: Chưa | Z6: 5.Trung bình | AA6: D.Khác | AB6: Hợp tác lao động tại Nhật | AC6: 11.Khác, ghi cụ thể | AD6: Cơ khí tự động | AE6: Haindeco SaiGon | AF6: 75A Nguyễn Sỹ Sách, Phường 15 | AG6: Quận Tân Bình | AH6: Tp.hcm | AI6: 02862939539 | AJ6: haindesaigon.com | AK6: 48 | AL6: 4.Trên 3 tháng | AM6: Qua quảng cáo trên Internet | AO6: 2.Tốt | AP6: 2.Tốt | AQ6: 2.Liên quan | AR6: =VLOOKUP(AQ6,Sheet1!$F$21:$G$23,2) -> 2.Liên quan | AT6: 5. Trên 8 triệu | AU6: 2. Từ 2-10người | AV6: Có | AW6: 5.Trên 8 tuần | AX6: 1. Nhân viên trong thời gian thử việc (thợ học việc | AZ6: Không | BB6: 1.Đại học | BM6: 2.Đồng ý | BN6: 2.Đồng ý | BO6: 2.Đồng ý | BP6: Tài liệu,chương trình (sách, v.v.) | BQ6: Trang thiết bị (máy móc, công cụ, v.v.) | BR6: Thực tập/ thực hành tại doanh nghiệp | BT6: 2.Đồng ý | BU6: 2.Đồng ý
A7: 6 | B7: Trường Cao đẳng Lý Tự Trọng thành Phố Hồ Chí Minh | C7: 13D2010036 | D7: Nguyễn | E7: Vĩnh | F7: Đạt | G7: 14CĐ - CK1 | H7: Công nghệ Cơ khí | I7: Công nghệ kỹ thuật Cơ khí | J7: =VLOOKUP(I7,Sheet1!$A$20:$B$30,2) -> Công nghệ kỹ thuật Cơ khí | K7: 1.Cao đẳng nghề | L7: 945/66 Thống Nhất, Phường 16 | M7: Quận Gò Vấp | N7: Tp.hcm | O7: 0934722310 | Q7: Nam | R7: 1995 | S7: =2018-R7:R155 -> 23 | T7: =VLOOKUP(S7,'Nhóm tuổi'!$A$10:$B$16,2) -> Dưới 25 tuổi | U7: 4.Cao đẳng | V7: Chưa | Z7: 5.Trung bình | AA7: D.Khác | AB7: Phụ gia đình | AC7: 11.Khác, ghi cụ thể | AD7: Vui chơi, giải trí | AE7: Tại gia | AF7: 945/66 Thống Nhất, Phường 16 | AG7: Quận Gò Vấp | AH7: Tp.hcm | AI7: 0934722310 | AK7: 48 | AL7: 4.Trên 3 tháng | AM7: Quan hệ cá nhân | AO7: 2.Tốt | AP7: 2.Tốt | AQ7: 3.Không liên quan | AR7: =VLOOKUP(AQ7,Sheet1!$F$21:$G$23,2) -> 3.Không liên quan | AT7: 3.Từ 4-6 triệu | AU7: 2. Từ 2-10người | AV7: Không | AX7: 2. Nhân viên chính thức | AZ7: Không | BM7: 2.Đồng ý | BN7: 2.Đồng ý | BO7: 2.Đồng ý | BP7: Tài liệu,chương trình (sách, v.v.) | BQ7: Thực tập/ thực hành tại doanh nghiệp | BT7: 2.Đồng ý | BU7: 2.Đồng ý
A8: 7 | B8: Trường Cao đẳng Lý Tự Trọng thành Phố Hồ Chí Minh | C8: 14000659 | D8: Bùi | E8: Thị | F8: Nguyệt | G8: 14CĐ - CK1 | H8: Công nghệ Cơ khí | I8: Công nghệ kỹ thuật Cơ khí | J8: =VLOOKUP(I8,Sheet1!$A$20:$B$30,2) -> Công nghệ kỹ thuật Cơ khí | K8: 1.Cao đẳng nghề | L8: F4/29X Ấp 6C, Vĩnh Lộc A, | M8: Huyện Bình Chánh | N8: Tp.hcm | O8: 01657367744 | P8: buinguyet2109@gmail.com | Q8: Nữ | R8: 1995 | S8: =2018-R8:R156 -> 23 | T8: =VLOOKUP(S8,'Nhóm tuổi'!$A$10:$B$16,2) -> Dưới 25 tuổi | U8: 4.Cao đẳng | V8: Chưa | Z8: 3.Khá | AA8: A1.Làm công ăn lương | AC8: 11.Khác, ghi cụ thể | AD8: Kỹ thuật xử lý Bản vẽ thiết kế | AE8: Cổ phần kỹ thuật ý tưởng | AF8: 16 Bình Lợi, Phường 13 | AG8: Quận Bình Thạnh | AH8: Tp.hcm | AI8: 02862800666 | AJ8: http://cadcam-vn.com/english/ | AK8: 48 | AL8: 2.Dưới 1 tháng | AM8: Qua quảng cáo trên Internet | AO8: 1.Rất tốt | AP8: 1.Rất tốt | AQ8: 1.Có liên quan | AR8: =VLOOKUP(AQ8,Sheet1!$F$21:$G$23,2) -> 1.Có liên quan | AT8: 4. Từ 6-8 triệu | AU8: 3. Từ 10-200 người | AV8: Có | AW8: 5.Trên 8 tuần | AX8: 2. Nhân viên chính thức | AZ8: Có | BA8: Gia công Master Cam | BB8: 4.Sơ cấp | BM8: 2.Đồng ý | BN8: 2.Đồng ý | BO8: 2.Đồng ý | BP8: Tài liệu,chương trình (sách, v.v.) | BQ8: Trang thiết bị (máy móc, công cụ, v.v.) | BR8: Cơ sở vật chất (phòng học, thư việnv.v.) | BT8: 2.Đồng ý | BU8: 2.Đồng ý
A9: 8 | B9: Trường Cao đẳng Lý Tự Trọng thành Phố Hồ Chí Minh | C9: 14000646 | D9: Đỗ | E9: Ngọc | F9: Huy | G9: 14CĐ - CK1 | H9: Công nghệ Cơ khí | I9: Công nghệ kỹ thuật Cơ khí | J9: =VLOOKUP(I9,Sheet1!$A$20:$B$30,2) -> Công nghệ kỹ thuật Cơ khí | K9: 1.Cao đẳng nghề | L9: 2072/G Bến Nân 1, Phú Cường | M9: Huyện Định Quán | N9: Đồng Nai | O9: 01686754060 | Q9: Nam | R9: 1996 | S9: =2018-R9:R157 -> 22 | T9: =VLOOKUP(S9,'Nhóm tuổi'!$A$10:$B$16,2) -> Dưới 25 tuổi | U9: 4.Cao đẳng | V9: Chưa | Z9: 5.Trung bình | AA9: A1.Làm công ăn lương | AC9: 11.Khác, ghi cụ thể | AD9: Cơ khí, đúc nhôm | AE9: TMB Minh Phát | AF9: 20 Nguyễn Cửa Phú, Xã Tân Kiên, | AG9: Huyện Bình Chánh | AH9: Tp.hcm | AI9: 0283877057 | AJ9: www.tbm.com.vn | AK9: 48 | AL9: 4.Trên 3 tháng | AM9: Quan hệ cá nhân | AO9: 2.Tốt | AP9: 2.Tốt | AQ9: 1.Có liên quan | AR9: =VLOOKUP(AQ9,Sheet1!$F$21:$G$23,2) -> 1.Có liên quan | AT9: 4. Từ 6-8 triệu | AU9: 3. Từ 10-200 người | AV9: Có | AW9: 1. Dưới 2 tuần | AX9: 2. Nhân viên chính thức | AZ9: Không | BM9: 2.Đồng ý | BN9: 2.Đồng ý | BO9: 2.Đồng ý | BP9: Tài liệu,chương trình (sách, v.v.) | BQ9: Trang thiết bị (máy móc, công cụ, v.v.) | BR9: Thực tập/ thực hành tại doanh nghiệp | BT9: 2.Đồng ý | BU9: 2.Đồng ý
A10: 9 | B10: Trường Cao đẳng Lý Tự Trọng thành Phố Hồ Chí Minh | C10: 14000642 | D10: Phạm | E10: Nguyễn Thái | F10: Hiền | G10: 14CĐ - CK1 | H10: Công nghệ Cơ khí | I10: Công nghệ kỹ thuật Cơ khí | J10: =VLOOKUP(I10,Sheet1!$A$20:$B$30,2) -> Công nghệ kỹ thuật Cơ khí | K10: 1.Cao đẳng nghề | L10: Võ Thành Trang, Phường 10 | M10: Quận Tân Bình | N10: Tp.hcm | O10: 01679069226 | P10: trannam1cuoctinh@gmail.com | Q10: Nam | R10: 1996 | S10: =2018-R10:R158 -> 22 | T10: =VLOOKUP(S10,'Nhóm tuổi'!$A$10:$B$16,2) -> Dưới 25 tuổi | U10: 4.Cao đẳng | V10: Chưa | Z10: 5.Trung bình | AA10: A1.Làm công ăn lương | AC10: 11.Khác, ghi cụ thể | AD10: Cơ khí, đúc nhôm | AE10: TMB Minh Phát | AF10: 20 Nguyễn Cửa Phú, Xã Tân Kiên, | AG10: Huyện Bình Chánh | AH10: Tp.hcm | AI10: 0283877057 | AJ10: www.tbm.com.vn | AK10: 48 | AL10: 4.Trên 3 tháng | AM10: Quan hệ cá nhân | AO10: 2.Tốt | AP10: 3.Trung bình | AQ10: 1.Có liên quan | AR10: =VLOOKUP(AQ10,Sheet1!$F$21:$G$23,2) -> 1.Có liên quan | AT10: 4. Từ 6-8 triệu | AU10: 3. Từ 10-200 người | AV10: Có | AW10: 1. Dưới 2 tuần | AX10: 2. Nhân viên chính thức | AZ10: Có | BA10: Công nghệ kỹ thuật cơ khí | BB10: 1.Đại học | BM10: 2.Đồng ý | BN10: 2.Đồng ý | BO10: 2.Đồng ý | BP10: Tài liệu,chương trình (sách, v.v.) | BQ10: Trang thiết bị (máy móc, công cụ, v.v.) | BR10: Thực tập/ thực hành tại doanh nghiệp | BT10: 2.Đồng ý | BU10: 2.Đồng ý
A11: 10 | B11: Trường Cao đẳng Lý Tự Trọng thành Phố Hồ Chí Minh | C11: 14000660 | D11: Huỳnh | E11: Minh | F11: Nhàn | G11: 14CĐ - CK1 | H11: Công nghệ Cơ khí | I11: Công nghệ kỹ thuật Cơ khí | J11: =VLOOKUP(I11,Sheet1!$A$20:$B$30,2) -> Công nghệ kỹ thuật Cơ khí | K11: 1.Cao đẳng nghề | L11: 5/10 Võ Trường Toản, Phường 15 | M11: Quận 5 | N11: Tp.hcm | O11: 0966276729 | P11: minhnhan2729@gmail.com | Q11: Nam | R11: 1996 | S11: =2018-R11:R159 -> 22 | T11: =VLOOKUP(S11,'Nhóm tuổi'!$A$10:$B$16,2) -> Dưới 25 tuổi | U11: 4.Cao đẳng | V11: Chưa | Z11: 5.Trung bình | AA11: A1.Làm công ăn lương | AC11: 11.Khác, ghi cụ thể | AD11: Cơ khí quản cáo | AE11: Quảng cáo Trí Việt | AF11: 195B Nam Kỳ Khởi Nghĩa, Phường 7 | AG11: Quận 3 | AH11: Tp.hcm | AI11: 02839325092 | AK11: 48 | AL11: 4.Trên 3 tháng | AM11: Qua quảng cáo trên Internet | AO11: 2.Tốt | AP11: 2.Tốt | AQ11: 1.Có liên quan | AR11: =VLOOKUP(AQ11,Sheet1!$F$21:$G$23,2) -> 1.Có liên quan | AT11: 3.Từ 4-6 triệu | AU11: 2. Từ 2-10người | AV11: Có | AW11: 2. Từ 2-4 tuần | AX11: 1. Nhân viên trong thời gian thử việc (thợ học việc | AZ11: Không | BM11: 1.Hoàn toàn đồng ý | BN11: 1.Hoàn toàn đồng ý | BO11: 1.Hoàn toàn đồng ý | BP11: Tài liệu,chương trình (sách, v.v.) | BQ11: Trang thiết bị (máy móc, công cụ, v.v.) | BR11: Thực tập/ thực hành tại doanh nghiệp | BT11: 2.Đồng ý | BU11: 2.Đồng ý
A12: 11 | B12: Trường Cao đẳng Lý Tự Trọng thành Phố Hồ Chí Minh | C12: 14000674 | D12: Ngô | E12: Huỳnh Minh | F12: Tự | G12: 14CĐ - CK1 | H12: Công nghệ Cơ khí | I12: Công nghệ kỹ thuật Cơ khí | J12: =VLOOKUP(I12,Sheet1!$A$20:$B$30,2) -> Công nghệ kỹ thuật Cơ khí | K12: 1.Cao đẳng nghề | L12: Quốc Lộ 13, Phường Hiệp Bình Chánh | M12: Quận Thủ Đức | N12: Tp.hcm | O12: 01686725052 | P12: huynhminh107@gmail.com | Q12: Nam | R12: 1996 | S12: =2018-R12:R160 -> 22 | T12: =VLOOKUP(S12,'Nhóm tuổi'!$A$10:$B$16,2) -> Dưới 25 tuổi | U12: 4.Cao đẳng | V12: Chưa | Z12: 5.Trung bình | AA12: A1.Làm công ăn lương | AC12: 11.Khác, ghi cụ thể | AD12: Thanh máy | AE12: TNHH Tập Đoàn Thang Máy Thiết Bị Thăng Long | AF12: 17A Điện Biên Phủ,Phường 25, | AG12: Quận Bình Thạnh | AH12: Tp.hcm | AI12: 02835112607 | AJ12: http://www.tle.com.vn | AK12: 48 | AL12: 2.Dưới 1 tháng | AM12: Quan hệ cá nhân | AO12: 1.Rất tốt | AP12: 1.Rất tốt | AQ12: 1.Có liên quan | AR12: =VLOOKUP(AQ12,Sheet1!$F$21:$G$23,2) -> 1.Có liên quan | AT12: 4. Từ 6-8 triệu | AU12: 3. Từ 10-200 người | AV12: Có | AW12: 2. Từ 2-4 tuần | AX12: 2. Nhân viên chính thức | AZ12: Có | BA12: Công nghệ kỹ thuật cơ khí | BB12: 1.Đại học | BM12: 2.Đồng ý | BN12: 3.Đồng ý phần nào | BO12: 2.Đồng ý | BP12: Tài liệu,chương trình (sách, v.v.) | BQ12: Trang thiết bị (máy móc, công cụ, v.v.) | BR12: Thực tập/ thực hành tại doanh nghiệp | BT12: 2.Đồng ý | BU12: 2.Đồng ý
A13: 12 | B13: Trường Cao đẳng Lý Tự Trọng thành Phố Hồ Chí Minh | C13: 14000666 | D13: Phạm | E13: Hoài | F13: Phương | G13: 14CĐ - CK1 | H13: Công nghệ Cơ khí | I13: Công nghệ kỹ thuật Cơ khí | J13: =VLOOKUP(I13,Sheet1!$A$20:$B$30,2) -> Công nghệ kỹ thuật Cơ khí | K13: 1.Cao đẳng nghề | L13: 468 Trường Chinh, Phường 13 | M13: Quận Tân Bình | N13: Tp.hcm | O13: 0964301800 | P13: phamphuong083@gmail | Q13: Nam | R13: 1996 | S13: =2018-R13:R161 -> 22 | T13: =VLOOKUP(S13,'Nhóm tuổi'!$A$10:$B$16,2) -> Dưới 25 tuổi | U13: 4.Cao đẳng | V13: Chưa | Z13: 5.Trung bình | AA13: A1.Làm công ăn lương | AC13: 11.Khác, ghi cụ thể | AD13: Gia công cơ khí | AE13: TNHH Hỗ Trợ Kiểm Định và DVCN Toàn Quốc | AF13: E29 KDC Vạn Hưng Phát, Hoàng Quốc Việt, Phường Phú Thuận | AG13: Quận 7 | AH13: Tp.hcm | AI13: 908271217 | AJ13: hotro@congnghieptoanquoc.com | AK13: 48 | AL13: 2.Dưới 1 tháng | AM13: Do trường giới thiệu | AO13: 2.Tốt | AP13: 3.Trung bình | AQ13: 3.Không liên quan | AR13: =VLOOKUP(AQ13,Sheet1!$F$21:$G$23,2) -> 3.Không liên quan | AT13: 4. Từ 6-8 triệu | AU13: 2. Từ 2-10người | AV13: Có | AW13: 5.Trên 8 tuần | AX13: 2. Nhân viên chính thức | AZ13: Không | BM13: 2.Đồng ý | BN13: 2.Đồng ý | BO13: 2.Đồng ý | BP13: Trang thiết bị (máy móc, công cụ, v.v.) | BQ13: Thực tập/ thực hành tại doanh nghiệp | BT13: 2.Đồng ý | BU13: 1.Hoàn toàn đồng ý
A14: 13 | B14: Trường Cao đẳng Lý Tự Trọng thành Phố Hồ Chí Minh | C14: 14000668 | D14: Trần | E14: Văn | F14: Qúi | G14: 14CĐ - CK1 | H14: Công nghệ Cơ khí | I14: Công nghệ kỹ thuật Cơ khí | J14: =VLOOKUP(I14,Sheet1!$A$20:$B$30,2) -> Công nghệ kỹ thuật Cơ khí | K14: 1.Cao đẳng nghề | L14: 149/61/20 Bành Văn Trân, Phường 7 | M14: Quận Tân Bình | N14: Tp.hcm | O14: 01669148819 | P14: tranqui634@gmail.com | Q14: Nam | R14: 1996 | S14: =2018-R14:R162 -> 22 | T14: =VLOOKUP(S14,'Nhóm tuổi'!$A$10:$B$16,2) -> Dưới 25 tuổi | U14: 4.Cao đẳng | V14: Chưa | Z14: 5.Trung bình | AA14: A1.Làm công ăn lương | AC14: 11.Khác, ghi cụ thể | AD14: Phụ bếp | AE14: Cười Lên Cái Coi | AF14: 1012 Trường Sa, Phường 12 | AG14: Quận 3 | AH14: Tp.hcm | AI14: 0905887486 | AK14: 56 | AL14: 4.Trên 3 tháng | AM14: Qua quảng cáo trên Internet | AO14: 2.Tốt | AP14: 2.Tốt | AQ14: 3.Không liên quan | AR14: =VLOOKUP(AQ14,Sheet1!$F$21:$G$23,2) -> 3.Không liên quan | AT14: 3.Từ 4-6 triệu | AU14: 3. Từ 10-200 người | AV14: Có | AW14: 5.Trên 8 tuần | AX14: 2. Nhân viên chính thức | AZ14: Không | BM14: 2.Đồng ý | BN14: 2.Đồng ý | BO14: 2.Đồng ý | BP14: Trang thiết bị (máy móc, công cụ, v.v.) | BQ14: Thực tập/ thực hành tại doanh nghiệp | BR14: Kỹ năng thực hành của giáo viên | BT14: 2.Đồng ý | BU14: 2.Đồng ý
A15: 14 | B15: Trường Cao đẳng Lý Tự Trọng thành Phố Hồ Chí Minh | C15: 14000634 | D15: Nguyễn | E15: Thị Thùy | F15: Dương | G15: 14CĐ - CK1 | H15: Công nghệ Cơ khí | I15: Công nghệ kỹ thuật Cơ khí | J15: =VLOOKUP(I15,Sheet1!$A$20:$B$30,2) -> Công nghệ kỹ thuật Cơ khí | K15: 1.Cao đẳng nghề | L15: 15 Lê Tấn Quốc, Phường 13 | M15: Quận Tân Bình | N15: Tp.hcm | O15: 0122367223 | P15: chaniduong96@gmail.com | Q15: Nữ | R15: 1996 | S15: =2018-R15:R163 -> 22 | T15: =VLOOKUP(S15,'Nhóm tuổi'!$A$10:$B$16,2) -> Dưới 25 tuổi | U15: 4.Cao đẳng | V15: Chưa | Z15: 5.Trung bình | AA15: A1.Làm công ăn lương | AC15: 11.Khác, ghi cụ thể | AD15: Kiểm tra hàng cơ khí | AE15: Việt Nhật Tân | AF15: 35/15 Phan Văn Hớn, Phường Tân Thới Nhất | AG15: Quận 12 | AH15: Tp.hcm | AI15: 02862591213 | AJ15: http://www.vietnhattan.com.vn | AK15: 48 | AL15: 2.Dưới 1 tháng | AM15: Qua quảng cáo trên Internet | AO15: 2.Tốt | AP15: 2.Tốt | AQ15: 1.Có liên quan | AR15: =VLOOKUP(AQ15,Sheet1!$F$21:$G$23,2) -> 1.Có liên quan | AT15: 4. Từ 6-8 triệu | AU15: 3. Từ 10-200 người | AV15: Có | AW15: 2. Từ 2-4 tuần | AX15: 2. Nhân viên chính thức | AZ15: Có | BA15: Ngôn ngữ Nhật | BB15: 2.Cao đẳng | BM15: 2.Đồng ý | BN15: 2.Đồng ý | BO15: 2.Đồng ý | BP15: Thực tập/ thực hành tại doanh nghiệp | BQ15: Phương pháp giảng dạy của giáo viên | BT15: 2.Đồng ý | BU15: 2.Đồng ý
A16: 15 | B16: Trường Cao đẳng Lý Tự Trọng thành Phố Hồ Chí Minh | C16: 14000661 | D16: Nguyễn | E16: Trọng | F16: Nhân | G16: 14CĐ - CK1 | H16: Công nghệ Cơ khí | I16: Công nghệ kỹ thuật Cơ khí | J16: =VLOOKUP(I16,Sheet1!$A$20:$B$30,2) -> Công nghệ kỹ thuật Cơ khí | K16: 1.Cao đẳng nghề | L16: 131/49 Đường Số 1, Phường Bình Hưng Hòa | M16: Quận Bình Tân | N16: Tp.hcm | O16: 01285069677 | Q16: Nam | R16: 1996 | S16: =2018-R16:R164 -> 22 | T16: =VLOOKUP(S16,'Nhóm tuổi'!$A$10:$B$16,2) -> Dưới 25 tuổi | U16: 4.Cao đẳng | V16: Chưa | Z16: 5.Trung bình | AA16: A1.Làm công ăn lương | AC16: 11.Khác, ghi cụ thể | AD16: Gia công cơ khí | AE16: Cổ Phần Cơ Điện Năng Lượng Tân Phú | AF16: 50/30 Gò Dầu, Phường Tân Qúi | AG16: Quận Tân Phú | AH16: Tp.hcm | AI16: 028738114792 | AJ16: http://tamepco.com/sam-pham.html(tamepco@gmail.com | AK16: 48 | AL16: 2.Dưới 1 tháng | AM16: Qua quảng cáo trên Internet | AO16: 1.Rất tốt | AP16: 2.Tốt | AQ16: 1.Có liên quan | AR16: =VLOOKUP(AQ16,Sheet1!$F$21:$G$23,2) -> 1.Có liên quan | AT16: 4. Từ 6-8 triệu | AU16: 3. Từ 10-200 người | AV16: Có | AW16: 2. Từ 2-4 tuần | AX16: 2. Nhân viên chính thức | BM16: 2.Đồng ý | BN16: 2.Đồng ý | BO16: 2.Đồng ý | BP16: Trang thiết bị (máy móc, công cụ, v.v.) | BQ16: Cơ sở vật chất (phòng học, thư việnv.v.) | BR16: Thực tập/ thực hành tại doanh nghiệp | BT16: 2.Đồng ý | BU16: 2.Đồng ý
A17: 16 | B17: Trường Cao đẳng Lý Tự Trọng thành Phố Hồ Chí Minh | C17: 14000624 | D17: Trần | E17: Thiện | F17: Minh | G17: 14CĐ - CK2 | H17: Công nghệ Cơ khí | I17: Công nghệ kỹ thuật Cơ khí | J17: =VLOOKUP(I17,Sheet1!$A$20:$B$30,2) -> Công nghệ kỹ thuật Cơ khí | K17: 1.Cao đẳng nghề | L17: An Thạnh, An Ninh Tây | M17: Đức Hòa | N17: Long An | O17: 01667205923 | Q17: Nam | R17: 1996 | S17: =2018-R17:R165 -> 22 | T17: =VLOOKUP(S17,'Nhóm tuổi'!$A$10:$B$16,2) -> Dưới 25 tuổi | U17: 4.Cao đẳng | V17: Chưa | Z17: 5.Trung bình | AA17: A1.Làm công ăn lương | AC17: 6.Thương mại & Dịch vụ (Bán buôn, bán lẻ) | AE17: NOWZONE, FASHION MALL | AF17: 235 Nguyễn Văn Cừ, Phường Nguyễn Cư Trinh | AG17: Quận 1 | AH17: Tp.hcm | AI17: 02839251550 | AJ17: www.nowzone.com.vn | AK17: 48 | AL17: 3. Từ 1-3 tháng | AM17: Qua quảng cáo trên Internet | AO17: 2.Tốt | AP17: 2.Tốt | AQ17: 2.Liên quan | AR17: =VLOOKUP(AQ17,Sheet1!$F$21:$G$23,2) -> 2.Liên quan | AT17: 3.Từ 4-6 triệu | AU17: 3. Từ 10-200 người | AV17: Có | AW17: 2. Từ 2-4 tuần | AX17: 2. Nhân viên chính thức | AZ17: Không | BM17: 2.Đồng ý | BN17: 2.Đồng ý | BO17: 2.Đồng ý | BP17: Tài liệu,chương trình (sách, v.v.) | BQ17: Trang thiết bị (máy móc, công cụ, v.v.) | BR17: Thực tập/ thực hành tại doanh nghiệp | BT17: 2.Đồng ý | BU17: 2.Đồng ý
A18: 17 | B18: Trường Cao đẳng Lý Tự Trọng thành Phố Hồ Chí Minh | C18: 14000681 | D18: Đàng | E18: Năng Xuân | F18: Định | G18: 14CĐ - CK2 | H18: Công nghệ Cơ khí | I18: Công nghệ kỹ thuật Cơ khí | J18: =VLOOKUP(I18,Sheet1!$A$20:$B$30,2) -> Công nghệ kỹ thuật Cơ khí | K18: 1.Cao đẳng nghề | L18: 45 Đỗ Xuân Hợp, Phường Phước Long, | M18: Quận 9 | N18: Tp.hcm | O18: 01693742536 | P18: noya14185@gmaial.com | Q18: Nam | R18: 1995 | S18: =2018-R18:R166 -> 23 | T18: =VLOOKUP(S18,'Nhóm tuổi'!$A$10:$B$16,2) -> Dưới 25 tuổi | U18: 4.Cao đẳng | V18: Chưa | Z18: 5.Trung bình | AA18: A1.Làm công ăn lương | AC18: 11.Khác, ghi cụ thể | AD18: Đứng máy tiện | AE18: Công ty Tinh Minh Đống | AF18: 181 Đặng Văn Bi, KP4, Phường Trường Thọ, | AG18: Quận Thủ Đức | AH18: Tp.hcm | AI18: 02837220977 | AJ18: minh_dong@vnn.vn | AK18: 48 | AL18: 3. Từ 1-3 tháng | AM18: Qua quảng cáo trên báo/đài/TV | AO18: 2.Tốt | AP18: 2.Tốt | AQ18: 1.Có liên quan | AR18: =VLOOKUP(AQ18,Sheet1!$F$21:$G$23,2) -> 1.Có liên quan | AT18: 3.Từ 4-6 triệu | AU18: 3. Từ 10-200 người | AV18: Có | AW18: 2. Từ 2-4 tuần | AX18: 1. Nhân viên trong thời gian thử việc (thợ học việc | AZ18: Không | BM18: 2.Đồng ý | BN18: 2.Đồng ý | BO18: 2.Đồng ý | BP18: Tài liệu,chương trình (sách, v.v.) | BQ18: Trang thiết bị (máy móc, công cụ, v.v.) | BR18: Thực tập/ thực hành tại doanh nghiệp | BT18: 2.Đồng ý | BU18: 2.Đồng ý
A19: 18 | B19: Trường Cao đẳng Lý Tự Trọng thành Phố Hồ Chí Minh | C19: 14000781 | D19: Phan | E19: Sỹ | F19: Lâm | G19: 14CĐ - CK2 | H19: Công nghệ Cơ khí | I19: Công nghệ kỹ thuật Cơ khí | J19: =VLOOKUP(I19,Sheet1!$A$20:$B$30,2) -> Công nghệ kỹ thuật Cơ khí | K19: 1.Cao đẳng nghề | L19: 66 Lê Đình Cẩn, Phường Bình Trị Đông, | M19: Quận Bình Tân | N19: Tp.hcm | O19: 01264158671 | P19: phansylam1996@gmail.com | Q19: Nam | R19: 1996 | S19: =2018-R19:R167 -> 22 | T19: =VLOOKUP(S19,'Nhóm tuổi'!$A$10:$B$16,2) -> Dưới 25 tuổi | U19: 4.Cao đẳng | V19: Chưa | Z19: 5.Trung bình | AA19: C.Không tìm được việc làm | AR19: =VLOOKUP(AQ19,Sheet1!$F$21:$G$23,2) -> #N/A | BC19: Vì không tìm được việc làm đúng với ngành nghề được đào tạo | BD19: 2.CV không liên quan đến nghề được đào tạo | BE19: Kỹ năng nghề không đáp ứng được yêu cầu công việc | BF19: Thiếu kinh nghiệm làm việc | BG19: Thiếu thông tin về việc làm | BM19: 2.Đồng ý | BN19: 3.Đồng ý phần nào | BO19: 2.Đồng ý | BP19: Tài liệu,chương trình (sách, v.v.) | BQ19: Thực tập/ thực hành tại doanh nghiệp | BT19: 2.Đồng ý | BU19: 3.Đồng ý phần nào
A20: 19 | B20: Trường Cao đẳng Lý Tự Trọng thành Phố Hồ Chí Minh | C20: 14000722 | D20: Nguyễn | E20: Văn | F20: Vương | G20: 14CĐ - CK2 | H20: Công nghệ Cơ khí | I20: Công nghệ kỹ thuật Cơ khí | J20: =VLOOKUP(I20,Sheet1!$A$20:$B$30,2) -> Công nghệ kỹ thuật Cơ khí | K20: 1.Cao đẳng nghề | L20: 3953 Lê Quang Định, Phường 11 | M20: Quận Bình Thạnh | N20: Tp.hcm | O20: 0975930661 | Q20: Nam | R20: 1995 | S20: =2018-R20:R168 -> 23 | T20: =VLOOKUP(S20,'Nhóm tuổi'!$A$10:$B$16,2) -> Dưới 25 tuổi | U20: 4.Cao đẳng | V20: Chưa | Z20: 5.Trung bình | AA20: A1.Làm công ăn lương | AC20: 11.Khác, ghi cụ thể | AD20: Làm khuôn nhựa | AE20: Công ty Cổ Phần Đại Đồng Tiến | AF20: 216 Tân Thành, Phường 15 | AG20: Quận 5 | AH20: Tp.hcm | AI20: 906600183 | AJ20: www.daidongtien.com.vn | AK20: 48 | AL20: 4.Trên 3 tháng | AM20: Quan hệ cá nhân | AO20: 2.Tốt | AP20: 2.Tốt | AQ20: 1.Có liên quan | AR20: =VLOOKUP(AQ20,Sheet1!$F$21:$G$23,2) -> 1.Có liên quan | AT20: 3.Từ 4-6 triệu | AU20: 5. Trên 300 người | AV20: Có | AW20: 2. Từ 2-4 tuần | AX20: 2. Nhân viên chính thức | AZ20: Không | BM20: 2.Đồng ý | BN20: 2.Đồng ý | BO20: 2.Đồng ý | BP20: Thực tập/ thực hành tại doanh nghiệp | BS20: Thời gian học CNC ngắn cần bổ sung thời gian | BT20: 2.Đồng ý | BU20: 2.Đồng ý
A21: 20 | B21: Trường Cao đẳng Lý Tự Trọng thành Phố Hồ Chí Minh | C21: 14000786 | D21: Trần | E21: Ngọc | F21: Ngọc | G21: 14CĐ - CK2 | H21: Công nghệ Cơ khí | I21: Công nghệ kỹ thuật Cơ khí | J21: =VLOOKUP(I21,Sheet1!$A$20:$B$30,2) -> Công nghệ kỹ thuật Cơ khí | K21: 1.Cao đẳng nghề | L21: 40/41 Lê Lợi , Phường 03 | M21: Quận Gò Vấp | N21: Tp.hcm | O21: 01649234858 | Q21: Nam | R21: 1995 | S21: =2018-R21:R169 -> 23 | T21: =VLOOKUP(S21,'Nhóm tuổi'!$A$10:$B$16,2) -> Dưới 25 tuổi | U21: 4.Cao đẳng | V21: Chưa | Z21: 5.Trung bình | AA21: C.Không tìm được việc làm | AR21: =VLOOKUP(AQ21,Sheet1!$F$21:$G$23,2) -> #N/A | BC21: Lý do khác | BD21: 2.CV không liên quan đến nghề được đào tạo | BE21: Ngoại ngữ không đạt | BF21: Thiếu kinh nghiệm làm việc | BG21: Lý do khác | BH21: Chưa sắp sếp được thời gian | BM21: 2.Đồng ý | BN21: 2.Đồng ý | BO21: 2.Đồng ý | BP21: Tài liệu,chương trình (sách, v.v.) | BQ21: Thực tập/ thực hành tại doanh nghiệp | BT21: 3.Đồng ý phần nào | BU21: 2.Đồng ý
A22: 21 | B22: Trường Cao đẳng Lý Tự Trọng thành Phố Hồ Chí Minh | C22: 14000793 | D22: Hồ | E22: Phạm Hoàng | F22: Tâm | G22: 14CĐ - CK2 | H22: Công nghệ Cơ khí | I22: Công nghệ kỹ thuật Cơ khí | J22: =VLOOKUP(I22,Sheet1!$A$20:$B$30,2) -> Công nghệ kỹ thuật Cơ khí | K22: 1.Cao đẳng nghề | L22: 437A Hoàng Văn Thụ, Phường 4 | M22: Quận Tân Bình | N22: Tp.hcm | O22: 01208559991 | P22: hophamhoangtam@gmail.com | Q22: Nam | R22: 1996 | S22: =2018-R22:R170 -> 22 | T22: =VLOOKUP(S22,'Nhóm tuổi'!$A$10:$B$16,2) -> Dưới 25 tuổi | U22: 4.Cao đẳng | V22: Chưa | Z22: 5.Trung bình | AA22: A1.Làm công ăn lương | AD22: Dân quân tự vệ | AE22: Phường 4, Quận Tân Bình | AF22: 324/59 Hoàng Văn Thụ, Phường 4 | AG22: Quận Tân Bình | AH22: Tp.hcm | AK22: 48 | AL22: 3. Từ 1-3 tháng | AM22: Quan hệ cá nhân | AO22: 2.Tốt | AP22: 2.Tốt | AQ22: 3.Không liên quan | AR22: =VLOOKUP(AQ22,Sheet1!$F$21:$G$23,2) -> 3.Không liên quan | AT22: 2. Từ 2-4 triệu | AU22: 3. Từ 10-200 người | AV22: Có | AW22: 2. Từ 2-4 tuần | AX22: 2. Nhân viên chính thức | AZ22: Không | BM22: 2.Đồng ý | BN22: 2.Đồng ý | BO22: 2.Đồng ý | BP22: Trang thiết bị (máy móc, công cụ, v.v.) | BQ22: Cơ sở vật chất (phòng học, thư việnv.v.) | BR22: Thực tập/ thực hành tại doanh nghiệp | BT22: 2.Đồng ý | BU22: 2.Đồng ý
A23: 22 | B23: Trường Cao đẳng Lý Tự Trọng thành Phố Hồ Chí Minh | C23: 14000705 | D23: Đác | E23: Duy | F23: Thắng | G23: 14CĐ - CK2 | H23: Công nghệ Cơ khí | I23: Công nghệ kỹ thuật Cơ khí | J23: =VLOOKUP(I23,Sheet1!$A$20:$B$30,2) -> Công nghệ kỹ thuật Cơ khí | K23: 1.Cao đẳng nghề | L23: 68 Đường Số 1, Trần Não, Phường Bình An | M23: Quận 2 | N23: Tp.hcm | O23: 01654667827 | P23: thangck2011@gmail.com | Q23: Nam | R23: 1992 | S23: =2018-R23:R171 -> 26 | T23: =VLOOKUP(S23,'Nhóm tuổi'!$A$10:$B$16,2) -> Từ 25 đến 30 tuổi | U23: 4.Cao đẳng | V23: Chưa | Z23: 5.Trung bình | AA23: A1.Làm công ăn lương | AC23: 11.Khác, ghi cụ thể | AD23: Công ty Điện Lực | AE23: Cổ Phần Tư Vấn Xây Dựng Điện 2 | AF23: 45 Đường Số 2, Phường Trường Thọ | AG23: Quận Thủ Đức | AH23: Tp.hcm | AI23: 02837311406 | AJ23: xncd@pecc2.com | AK23: 48 | AL23: 2.Dưới 1 tháng | AM23: Khác, ghi cụ thể | AN23: Công ty tuyển dụng | AO23: 2.Tốt | AP23: 2.Tốt | AQ23: 3.Không liên quan | AR23: =VLOOKUP(AQ23,Sheet1!$F$21:$G$23,2) -> 3.Không liên quan | AT23: 5. Trên 8 triệu | AU23: 3. Từ 10-200 người | AV23: Có | AW23: 2. Từ 2-4 tuần | AX23: 2. Nhân viên chính thức | AZ23: Không | BM23: 2.Đồng ý | BN23: 2.Đồng ý | BO23: 2.Đồng ý | BP23: Tài liệu,chương trình (sách, v.v.) | BQ23: Cơ sở vật chất (phòng học, thư việnv.v.) | BT23: 2.Đồng ý | BU23: 2.Đồng ý
A24: 23 | B24: Trường Cao đẳng Lý Tự Trọng thành Phố Hồ Chí Minh | C24: 14000692 | D24: Trần | E24: Tấn | F24: Lộc | G24: 14CĐ - CK2 | H24: Công nghệ Cơ khí | I24: Công nghệ kỹ thuật Cơ khí | J24: =VLOOKUP(I24,Sheet1!$A$20:$B$30,2) -> Công nghệ kỹ thuật Cơ khí | K24: 1.Cao đẳng nghề | L24: Phước Thể | M24: Tuy Phong | N24: Bình Thuận | O24: 01675818299 | P24: ttanloc120@gmail.com | Q24: Nam | R24: 1995 | S24: =2018-R24:R172 -> 23 | T24: =VLOOKUP(S24,'Nhóm tuổi'!$A$10:$B$16,2) -> Dưới 25 tuổi | U24: 4.Cao đẳng | V24: Chưa | Z24: 5.Trung bình | AA24: A2.Tự SX-KD | AC24: 11.Khác, ghi cụ thể | AD24: Thi công công trình xây dựng | AE24: Tại gia | AF24: Phước Thể | AG24: Huyện Tuy Phong | AH24: Bình Thuận | AI24: 01675818299 | AJ24: tta6nloc120@gmail.co..vn | AK24: 48 | AL24: 2.Dưới 1 tháng | AM24: Quan hệ cá nhân | AO24: 3.Trung bình | AP24: 3.Trung bình | AQ24: 1.Có liên quan | AR24: =VLOOKUP(AQ24,Sheet1!$F$21:$G$23,2) -> 1.Có liên quan | AT24: 3.Từ 4-6 triệu | AU24: 3. Từ 10-200 người | AV24: Có | AW24: 2. Từ 2-4 tuần | AX24: 2. Nhân viên chính thức | AZ24: Không | BM24: 2.Đồng ý | BN24: 3.Đồng ý phần nào | BO24: 2.Đồng ý | BP24: Thực tập/ thực hành tại doanh nghiệp | BT24: 2.Đồng ý | BU24: 2.Đồng ý
A25: 24 | B25: Trường Cao đẳng Lý Tự Trọng thành Phố Hồ Chí Minh | C25: 14000758 | D25: Nguyễn | E25: Hải | F25: Triều | G25: 14CĐ - CK3 | H25: Công nghệ Cơ khí | I25: Công nghệ kỹ thuật Cơ khí | J25: =VLOOKUP(I25,Sheet1!$A$20:$B$30,2) -> Công nghệ kỹ thuật Cơ khí | K25: 1.Cao đẳng nghề | L25: 237/42 Trịnh Đình Trọng, Phường Phú Trung | M25: Quận Tân Phú | N25: Tp.hcm | O25: 0942289278 | P25: haitrieunguyen96@gmail.com | Q25: Nam | R25: 1996 | S25: =2018-R25:R173 -> 22 | T25: =VLOOKUP(S25,'Nhóm tuổi'!$A$10:$B$16,2) -> Dưới 25 tuổi | U25: 4.Cao đẳng | V25: Chưa | Z25: 5.Trung bình | AA25: C.Không tìm được việc làm | AR25: =VLOOKUP(AQ25,Sheet1!$F$21:$G$23,2) -> #N/A | BC25: Lý do khác | BD25: 1.CV liên quan đến nghề được đào tạo | BE25: Ngoại ngữ không đạt | BF25: Thiếu kinh nghiệm làm việc | BG25: Thiếu thông tin về việc làm | BM25: 2.Đồng ý | BN25: 2.Đồng ý | BO25: 2.Đồng ý | BP25: Tài liệu,chương trình (sách, v.v.) | BQ25: Cơ sở vật chất (phòng học, thư việnv.v.) | BR25: Phương pháp giảng dạy của giáo viên | BT25: 2.Đồng ý | BU25: 2.Đồng ý
A26: 25 | B26: Trường Cao đẳng Lý Tự Trọng thành Phố Hồ Chí Minh | C26: 14000755 | D26: Lê | E26: Trung | F26: Tín | G26: 14CĐ - CK3 | H26: Công nghệ Cơ khí | I26: Công nghệ kỹ thuật Cơ khí | J26: =VLOOKUP(I26,Sheet1!$A$20:$B$30,2) -> Công nghệ kỹ thuật Cơ khí | K26: 1.Cao đẳng nghề | L26: 47 Phú Lộc, Phường 6 | M26: Quận Tân Bình | N26: Tp.hcm | O26: 01674751540 | P26: tintrungle2310@gmail.com | Q26: Nam | R26: 1996 | S26: =2018-R26:R174 -> 22 | T26: =VLOOKUP(S26,'Nhóm tuổi'!$A$10:$B$16,2) -> Dưới 25 tuổi | U26: 4.Cao đẳng | V26: Chưa | Z26: 5.Trung bình | AA26: B1.Vừa học vừa làm | AC26: 6.Thương mại & Dịch vụ (Bán buôn, bán lẻ) | AO26: 2.Tốt | AP26: 2.Tốt | AQ26: 3.Không liên quan | AR26: =VLOOKUP(AQ26,Sheet1!$F$21:$G$23,2) -> 3.Không liên quan | AT26: 3.Từ 4-6 triệu | AU26: 5. Trên 300 người | AV26: Có | AW26: 1. Dưới 2 tuần | AX26: 2. Nhân viên chính thức | AZ26: Có | BA26: Công nghệ kỹ thuật cơ khí | BB26: 1.Đại học | BI26: Học nâng cao trình độ | BJ26: Truường Đại học sư phạm Kỹ thuật Tp.HCM | BK26: CN Kỹ thuật Cơ khí | BL26: 1.Đại học | BM26: 2.Đồng ý | BN26: 3.Đồng ý phần nào | BO26: 2.Đồng ý | BP26: Tài liệu,chương trình (sách, v.v.) | BQ26: Trang thiết bị (máy móc, công cụ, v.v.) | BR26: Thực tập/ thực hành tại doanh nghiệp | BT26: 2.Đồng ý | BU26: 2.Đồng ý
A27: 26 | B27: Trường Cao đẳng Lý Tự Trọng thành Phố Hồ Chí Minh | C27: 14000729 | D27: Nguyễn | E27: Sỹ | F27: Hải | G27: 14CĐ - CK3 | H27: Công nghệ Cơ khí | I27: Công nghệ kỹ thuật Cơ khí | J27: =VLOOKUP(I27,Sheet1!$A$20:$B$30,2) -> Công nghệ kỹ thuật Cơ khí | K27: 1.Cao đẳng nghề | L27: Tổ 23, Ấp Xà Ban 2, Xã Xà Bang | M27: Huyện Châu Đức | N27: BR-VT | O27: 09082003592 | P27: 1119.syhai@gmail | Q27: Nam | R27: 1996 | S27: =2018-R27:R175 -> 22 | T27: =VLOOKUP(S27,'Nhóm tuổi'!$A$10:$B$16,2) -> Dưới 25 tuổi | U27: 4.Cao đẳng | V27: Chưa | Z27: 5.Trung bình | AA27: C.Không tìm được việc làm | AC27: 11.Khác, ghi cụ thể | AR27: =VLOOKUP(AQ27,Sheet1!$F$21:$G$23,2) -> #N/A | BC27: Lý do khác | BD27: 1.CV liên quan đến nghề được đào tạo | BE27: Kỹ năng nghề không đáp ứng được yêu cầu công việc | BF27: Thiếu kinh nghiệm làm việc | BG27: Thiếu thông tin về việc làm | BM27: 2.Đồng ý | BN27: 2.Đồng ý | BO27: 2.Đồng ý | BP27: Tài liệu,chương trình (sách, v.v.) | BQ27: Trang thiết bị (máy móc, công cụ, v.v.) | BR27: Thực tập/ thực hành tại doanh nghiệp | BT27: 3.Đồng ý phần nào | BU27: 2.Đồng ý
A28: 27 | B28: Trường Cao đẳng Lý Tự Trọng thành Phố Hồ Chí Minh | C28: 14000733 | D28: Thân | E28: Trọng | F28: Hoàng | G28: 14CĐ - CK3 | H28: Công nghệ Cơ khí | I28: Công nghệ kỹ thuật Cơ khí | J28: =VLOOKUP(I28,Sheet1!$A$20:$B$30,2) -> Công nghệ kỹ thuật Cơ khí | K28: 1.Cao đẳng nghề | L28: 164/66/16 Bùi Quang Là, Phường 12 | M28: Quận Gò Vấp | N28: Tp.hcm | O28: 01685789232 | P28: thantronghoang1996@gmail.com | Q28: Nam | R28: 1996 | S28: =2018-R28:R176 -> 22 | T28: =VLOOKUP(S28,'Nhóm tuổi'!$A$10:$B$16,2) -> Dưới 25 tuổi | U28: 4.Cao đẳng | V28: Chưa | Z28: 5.Trung bình | AA28: C.Không tìm được việc làm | AR28: =VLOOKUP(AQ28,Sheet1!$F$21:$G$23,2) -> #N/A | BC28: Lý do khác | BD28: 2.CV không liên quan đến nghề được đào tạo | BE28: Ngoại ngữ không đạt | BF28: Thiếu kinh nghiệm làm việc | BG28: Thiếu thông tin về việc làm | BH28: Chưa muốn đi làm | BM28: 2.Đồng ý | BN28: 2.Đồng ý | BO28: 2.Đồng ý | BP28: Trang thiết bị (máy móc, công cụ, v.v.) | BQ28: Thực tập/ thực hành tại doanh nghiệp | BT28: 2.Đồng ý | BU28: 2.Đồng ý
A29: 28 | B29: Trường Cao đẳng Lý Tự Trọng thành Phố Hồ Chí Minh | C29: 14000760 | D29: Vũ | E29: Thành | F29: Trung | G29: 14CĐ - CK3 | H29: Công nghệ Cơ khí | I29: Công nghệ kỹ thuật Cơ khí | J29: =VLOOKUP(I29,Sheet1!$A$20:$B$30,2) -> Công nghệ kỹ thuật Cơ khí | K29: 1.Cao đẳng nghề | L29: 561 Thị Trấn Thạnh Mỹ | M29: Huyện Đơn Dương | N29: Lâm Đồng | O29: 0964444190 | Q29: Nam | R29: 1996 | S29: =2018-R29:R177 -> 22 | T29: =VLOOKUP(S29,'Nhóm tuổi'!$A$10:$B$16,2) -> Dưới 25 tuổi | U29: 4.Cao đẳng | V29: Chưa | Z29: 5.Trung bình | AA29: A2.Tự SX-KD | AC29: 5. Sản xuất, phân phối điện, ga, nước | AE29: Cơ khí Khoa | AF29: 561 Thị Trấn Thành Mỹ | AG29: Huyện Đơn Dương | AH29: Lâm Đồng | AI29: 0964444190 | AK29: 48 | AL29: 2.Dưới 1 tháng | AM29: Quan hệ cá nhân | AO29: 3.Trung bình | AP29: 2.Tốt | AQ29: 1.Có liên quan | AR29: =VLOOKUP(AQ29,Sheet1!$F$21:$G$23,2) -> 1.Có liên quan | AT29: 3.Từ 4-6 triệu | AU29: 2. Từ 2-10người | AV29: Có | AW29: 5.Trên 8 tuần | AX29: 2. Nhân viên chính thức | AZ29: Không | BM29: 2.Đồng ý | BN29: 2.Đồng ý | BO29: 2.Đồng ý | BP29: Thực tập/ thực hành tại doanh nghiệp | BT29: 2.Đồng ý | BU29: 2.Đồng ý
A30: 29 | B30: Trường Cao đẳng Lý Tự Trọng thành Phố Hồ Chí Minh | C30: 14000759 | D30: Huỳnh | E30: Kim | F30: Trọng | G30: 14CĐ - CK3 | H30: Công nghệ Cơ khí | I30: Công nghệ kỹ thuật Cơ khí | J30: =VLOOKUP(I30,Sheet1!$A$20:$B$30,2) -> Công nghệ kỹ thuật Cơ khí | K30: 1.Cao đẳng nghề | L30: Hẻm 62/23 Nhất Chi Mai, Phường 13 | M30: Quận Tân Bình | N30: Tp.hcm | O30: 01642735268 | P30: htrong53@gmail.com | Q30: Nam | R30: 1996 | S30: =2018-R30:R178 -> 22 | T30: =VLOOKUP(S30,'Nhóm tuổi'!$A$10:$B$16,2) -> Dưới 25 tuổi | U30: 4.Cao đẳng | V30: Chưa | Z30: 5.Trung bình | AA30: B2.Đang đi học | AR30: =VLOOKUP(AQ30,Sheet1!$F$21:$G$23,2) -> #N/A | BI30: Lý do khác | BJ30: Trường Hykri | BK30: Tiếng Nhật | BL30: 4.Sơ cấp | BM30: 2.Đồng ý | BN30: 2.Đồng ý | BO30: 2.Đồng ý | BP30: Trang thiết bị (máy móc, công cụ, v.v.) | BQ30: Trang thiết bị (máy móc, công cụ, v.v.) | BR30: Thực tập/ thực hành tại doanh nghiệp | BT30: 2.Đồng ý | BU30: 2.Đồng ý
A31: 30 | B31: Trường Cao đẳng Lý Tự Trọng thành Phố Hồ Chí Minh | C31: 14000795 | D31: Dương | E31: Công | F31: Thắng | G31: 14CĐ - CK3 | H31: Công nghệ Cơ khí | I31: Công nghệ kỹ thuật Cơ khí | J31: =VLOOKUP(I31,Sheet1!$A$20:$B$30,2) -> Công nghệ kỹ thuật Cơ khí | K31: 1.Cao đẳng nghề | L31: 135/21 Kp6, Phường Trung Mỹ Tây | M31: Quận 12 | N31: Tp.hcm | O31: 0965955371 | Q31: Nam | R31: 1996 | S31: =2018-R31:R179 -> 22 | T31: =VLOOKUP(S31,'Nhóm tuổi'!$A$10:$B$16,2) -> Dưới 25 tuổi | U31: 4.Cao đẳng | V31: Chưa | Z31: 5.Trung bình | AA31: C.Không tìm được việc làm | AR31: =VLOOKUP(AQ31,Sheet1!$F$21:$G$23,2) -> #N/A | BC31: Vì không tìm được việc làm đúng với ngành nghề được đào tạo | BD31: 3.Cả 2 công việc trên | BE31: Ngoại ngữ không đạt | BF31: Thiếu kinh nghiệm làm việc | BG31: Thiếu thông tin về việc làm | BM31: 2.Đồng ý | BN31: 2.Đồng ý | BO31: 2.Đồng ý | BP31: Trang thiết bị (máy móc, công cụ, v.v.) | BQ31: Cơ sở vật chất (phòng học, thư việnv.v.) | BR31: Phương pháp giảng dạy của giáo viên | BT31: 2.Đồng ý | BU31: 2.Đồng ý
A32: 31 | B32: Trường Cao đẳng Lý Tự Trọng thành Phố Hồ Chí Minh | C32: 14000796 | D32: Lê | E32: Đình | F32: Thành | G32: 14CĐ - CK3 | H32: Công nghệ Cơ khí | I32: Công nghệ kỹ thuật Cơ khí | J32: =VLOOKUP(I32,Sheet1!$A$20:$B$30,2) -> Công nghệ kỹ thuật Cơ khí | K32: 1.Cao đẳng nghề | L32: 191 Đồng Đen, Phường 11 | M32: Quận Tân Bình | N32: Tp.hcm | O32: 01629674436 | Q32: Nam | R32: 1995 | S32: =2018-R32:R180 -> 23 | T32: =VLOOKUP(S32,'Nhóm tuổi'!$A$10:$B$16,2) -> Dưới 25 tuổi | U32: 4.Cao đẳng | V32: Chưa | Z32: 5.Trung bình | AA32: B2.Đang đi học | AR32: =VLOOKUP(AQ32,Sheet1!$F$21:$G$23,2) -> #N/A | BI32: Học nâng cao trình độ | BJ32: Trung tâm đào tạo Lý Tự Trong | BK32: Công nghệ thông tin | BL32: 4.Sơ cấp | BM32: 2.Đồng ý | BN32: 1.Hoàn toàn đồng ý | BO32: 2.Đồng ý | BP32: Trang thiết bị (máy móc, công cụ, v.v.) | BQ32: Thực tập/ thực hành tại doanh nghiệp | BT32: 1.Hoàn toàn đồng ý | BU32: 2.Đồng ý
A33: 32 | B33: Trường Cao đẳng Lý Tự Trọng thành Phố Hồ Chí Minh | C33: 14000489 | D33: Đỗ | E33: Trọng | F33: Dũng | G33: 14CĐ - Đ1 | H33: Công nghệ Điện - Điện tử | I33: Điện công nghiệp | J33: =VLOOKUP(I33,Sheet1!$A$20:$B$30,2) -> Điện công nghiệp | K33: 1.Cao đẳng nghề | L33: Thiệu Tân, Thiệu Hóa, | M33: Thiệu Hóa | N33: Thanh Hóa | O33: 01655822636 | P33: dotrongdungth5996@gmail.com | Q33: Nam | R33: 1996 | S33: =2018-R33:R181 -> 22 | T33: =VLOOKUP(S33,'Nhóm tuổi'!$A$10:$B$16,2) -> Dưới 25 tuổi | U33: 4.Cao đẳng | V33: Chưa | Z33: 5.Trung bình | AA33: A1.Làm công ăn lương | AC33: 4. Xây dựng | AE33: Công ty Cổ Phần MePac | AF33: 52 Đường Số 2 | AG33: Quận 7 | AH33: Tp.hcm | AI33: 0988.622964 | AJ33: uyen.tran@mepac.vn | AK33: 48 | AL33: 2.Dưới 1 tháng | AM33: Do trường giới thiệu | AO33: 2.Tốt | AP33: 2.Tốt | AQ33: 1.Có liên quan | AR33: =VLOOKUP(AQ33,Sheet1!$F$21:$G$23,2) -> 1.Có liên quan | AT33: 3.Từ 4-6 triệu | AU33: 3. Từ 10-200 người | AV33: Có | AW33: 1. Dưới 2 tuần | AX33: 1. Nhân viên trong thời gian thử việc (thợ học việc | AZ33: Không | BM33: 2.Đồng ý | BN33: 2.Đồng ý | BO33: 2.Đồng ý | BP33: Tài liệu,chương trình (sách, v.v.) | BQ33: Trang thiết bị (máy móc, công cụ, v.v.) | BR33: Thực tập/ thực hành tại doanh nghiệp | BT33: 2.Đồng ý | BU33: 2.Đồng ý
A34: 33 | B34: Trường Cao đẳng Lý Tự Trọng thành Phố Hồ Chí Minh | C34: 14000487 | D34: Hồ | E34: Gia | F34: Bảo | G34: 14CĐ - Đ1 | H34: Công nghệ Điện - Điện tử | I34: Điện công nghiệp | J34: =VLOOKUP(I34,Sheet1!$A$20:$B$30,2) -> Điện công nghiệp | K34: 1.Cao đẳng nghề | L34: 45/1/9 Đỗ Xuân Hợp | M34: Quận 9 | N34: Tp.hcm | O34: 0934867976 | P34: giabaoqn08@gmail.com | Q34: Nam | R34: 1996 | S34: =2018-R34:R182 -> 22 | T34: =VLOOKUP(S34,'Nhóm tuổi'!$A$10:$B$16,2) -> Dưới 25 tuổi | U34: 4.Cao đẳng | V34: Chưa | Z34: 4.Trung bình khá | AA34: B1.Vừa học vừa làm | AC34: 4. Xây dựng | AE34: Công ty Cổ Phần MePac | AF34: 52 Đường Số 2 | AG34: Quận 7 | AH34: Tp.hcm | AI34: 02862639900 | AJ34: info@mepac.vn | AK34: 80 | AL34: 2.Dưới 1 tháng | AM34: Do trường giới thiệu | AO34: 2.Tốt | AP34: 2.Tốt | AQ34: 1.Có liên quan | AR34: =VLOOKUP(AQ34,Sheet1!$F$21:$G$23,2) -> 1.Có liên quan | AT34: 4. Từ 6-8 triệu | AU34: 3. Từ 10-200 người | AV34: Có | AW34: 4. Từ 6-8 tuần | AX34: 1. Nhân viên trong thời gian thử việc (thợ học việc | AZ34: Có | BA34: Điện công nghiệp | BB34: 1.Đại học | BI34: Học nâng cao trình độ | BJ34: Trường Đại học sư phạm kỹ thuật Tp.HCM | BK34: Điện công nghiệp | BL34: 1.Đại học | BM34: 2.Đồng ý | BN34: 2.Đồng ý | BO34: 1.Hoàn toàn đồng ý | BP34: Tài liệu,chương trình (sách, v.v.) | BQ34: Trang thiết bị (máy móc, công cụ, v.v.) | BR34: Phương pháp giảng dạy của giáo viên | BT34: 2.Đồng ý | BU34: 2.Đồng ý
A35: 34 | B35: Trường Cao đẳng Lý Tự Trọng thành Phố Hồ Chí Minh | C35: 14000484 | D35: Thái | E35: Nhật | F35: Anh | G35: 14CĐ - Đ1 | H35: Công nghệ Điện - Điện tử | I35: Điện công nghiệp | J35: =VLOOKUP(I35,Sheet1!$A$20:$B$30,2) -> Điện công nghiệp | K35: 1.Cao đẳng nghề | L35: 056 Đường Tràm Dơi | M35: Cao Lãnh | N35: Đồng Tháp | O35: 0944835814 | P35: cdktltt@gmail.com | Q35: Nam | R35: 1995 | S35: =2018-R35:R183 -> 23 | T35: =VLOOKUP(S35,'Nhóm tuổi'!$A$10:$B$16,2) -> Dưới 25 tuổi | U35: 4.Cao đẳng | V35: Chưa | Z35: 5.Trung bình | AA35: B1.Vừa học vừa làm | AC35: 4. Xây dựng | AE35: Công ty Cổ Phần MePac | AF35: 52 Đường Số 2 | AG35: Quận 7 | AH35: Tp.hcm | AI35: 0988.622964 | AJ35: uyen.tran@mepac.vn | AK35: 48 | AL35: 1.Trước khi TN | AM35: Qua quảng cáo trên Internet | AO35: 2.Tốt | AP35: 2.Tốt | AQ35: 1.Có liên quan | AR35: =VLOOKUP(AQ35,Sheet1!$F$21:$G$23,2) -> 1.Có liên quan | AT35: 3.Từ 4-6 triệu | AU35: 3. Từ 10-200 người | AV35: Không | AX35: 1. Nhân viên trong thời gian thử việc (thợ học việc | AZ35: Có | BA35: Điện công nghiệp | BB35: 1.Đại học | BL35: 1.Đại học | BM35: 2.Đồng ý | BN35: 2.Đồng ý | BO35: 2.Đồng ý | BP35: Thực tập/ thực hành tại doanh nghiệp | BT35: 2.Đồng ý | BU35: 2.Đồng ý
A36: 35 | B36: Trường Cao đẳng Lý Tự Trọng thành Phố Hồ Chí Minh | C36: 14000527 | D36: Huỳnh | E36: Hữu | F36: Thức | G36: 14CĐ - Đ1 | H36: Công nghệ Điện - Điện tử | I36: Điện công nghiệp | J36: =VLOOKUP(I36,Sheet1!$A$20:$B$30,2) -> Điện công nghiệp | K36: 1.Cao đẳng nghề | L36: xóm 8, Phước Thể, | M36: Tuy Phong | N36: Bình Thuận | O36: 01626555065 | P36: htchuuthuc@gmail.com | Q36: Nam | R36: 1996 | S36: =2018-R36:R184 -> 22 | T36: =VLOOKUP(S36,'Nhóm tuổi'!$A$10:$B$16,2) -> Dưới 25 tuổi | U36: 4.Cao đẳng | V36: Chưa | Z36: 5.Trung bình | AA36: A1.Làm công ăn lương | AC36: 4. Xây dựng | AE36: Công ty Cổ Phần MePac | AF36: 52 Đường Số 2 | AG36: Quận 7 | AH36: Tp.hcm | AI36: 0988.622964 | AJ36: uyen.tran@mepac.vn | AK36: 50 | AL36: 1.Trước khi TN | AM36: Do trường giới thiệu | AO36: 3.Trung bình | AP36: 3.Trung bình | AQ36: 1.Có liên quan | AR36: =VLOOKUP(AQ36,Sheet1!$F$21:$G$23,2) -> 1.Có liên quan | AT36: 2. Từ 2-4 triệu | AU36: 3. Từ 10-200 người | AV36: Có | AW36: 2. Từ 2-4 tuần | AX36: 2. Nhân viên chính thức | AZ36: Không | BM36: 2.Đồng ý | BN36: 2.Đồng ý | BO36: 2.Đồng ý | BP36: Thực tập/ thực hành tại doanh nghiệp | BT36: 2.Đồng ý | BU36: 2.Đồng ý
A37: 36 | B37: Trường Cao đẳng Lý Tự Trọng thành Phố Hồ Chí Minh | C37: 14000484 | D37: Thái | E37: Nhật | F37: Anh | G37: 14CĐ - Đ1 | H37: Công nghệ Điện - Điện tử | I37: Điện công nghiệp | J37: =VLOOKUP(I37,Sheet1!$A$20:$B$30,2) -> Điện công nghiệp | K37: 1.Cao đẳng nghề | L37: 56 Tổ 2, Ấp Mỹ Đông 2, | M37: Huyện Cao Lãnh, Tỉnh Đồng Tháp | N37: Tp.hcm | O37: 0944835814 | P37: Cdktltt@gmail.com | Q37: Nam | R37: 1995 | S37: =2018-R37:R185 -> 23 | T37: =VLOOKUP(S37,'Nhóm tuổi'!$A$10:$B$16,2) -> Dưới 25 tuổi | U37: 4.Cao đẳng | V37: Chưa | Z37: 5.Trung bình | AA37: B1.Vừa học vừa làm | AC37: 4. Xây dựng | AE37: Công ty Cổ Phần MePac | AF37: 52 Đường Số 2 | AG37: Quận 7 | AH37: Tp.hcm | AI37: 0988.622964 | AJ37: uyen.tran@mepac.vn | AK37: 48 | AL37: 2.Dưới 1 tháng | AM37: Do trường giới thiệu | AO37: 2.Tốt | AP37: 2.Tốt | AQ37: 1.Có liên quan | AR37: =VLOOKUP(AQ37,Sheet1!$F$21:$G$23,2) -> 1.Có liên quan | AT37: 3.Từ 4-6 triệu | AU37: 3. Từ 10-200 người | AV37: Không | AX37: 1. Nhân viên trong thời gian thử việc (thợ học việc | AZ37: Có | BA37: Điện công nghiệp | BB37: 1.Đại học | BI37: Học nâng cao trình độ | BJ37: Trường Đại học sư phạm kỹ thuật Tp.HCM | BK37: Điện Công nghiệp | BL37: 1.Đại học | BM37: 2.Đồng ý | BN37: 2.Đồng ý | BO37: 2.Đồng ý | BP37: Trang thiết bị (máy móc, công cụ, v.v.) | BQ37: Thực tập/ thực hành tại doanh nghiệp | BR37: Phương pháp giảng dạy của giáo viên | BT37: 2.Đồng ý | BU37: 2.Đồng ý
A38: 37 | B38: Trường Cao đẳng Lý Tự Trọng thành Phố Hồ Chí Minh | C38: 14000499 | D38: Trần | E38: Minh | F38: Hiếu | G38: 14CĐ - Đ1 | H38: Công nghệ Điện - Điện tử | I38: Điện công nghiệp | J38: =VLOOKUP(I38,Sheet1!$A$20:$B$30,2) -> Điện công nghiệp | K38: 1.Cao đẳng nghề | L38: 50/14 Ấp Mỹ Hòa, Xã Trung Chánh | M38: Huyện Hóc Môn | N38: Tp.hcm | O38: 09398186723 | P38: hiieumiinh@gmail.com | Q38: Nam | R38: 1995 | S38: =2018-R38:R186 -> 23 | T38: =VLOOKUP(S38,'Nhóm tuổi'!$A$10:$B$16,2) -> Dưới 25 tuổi | U38: 4.Cao đẳng | V38: Chưa | Z38: 4.Trung bình khá | AA38: A1.Làm công ăn lương | AC38: 6.Thương mại & Dịch vụ (Bán buôn, bán lẻ) | AE38: An Lộc Phát | AF38: 31/14 Tân Trụ, Phường 15 | AG38: Quận Tân Bình | AH38: Tp.hcm | AI38: 02838153642 | AJ38: anlocphat@thietbidongcat.com | AK38: 48 | AL38: 2.Dưới 1 tháng | AM38: Do trường giới thiệu | AO38: 1.Rất tốt | AP38: 2.Tốt | AQ38: 1.Có liên quan | AR38: =VLOOKUP(AQ38,Sheet1!$F$21:$G$23,2) -> 1.Có liên quan | AT38: 3.Từ 4-6 triệu | AU38: 3. Từ 10-200 người | AV38: Có | AW38: 2. Từ 2-4 tuần | AX38: 2. Nhân viên chính thức | AZ38: Không | BM38: 1.Hoàn toàn đồng ý | BN38: 2.Đồng ý | BO38: 2.Đồng ý | BP38: Tài liệu,chương trình (sách, v.v.) | BQ38: Trang thiết bị (máy móc, công cụ, v.v.) | BR38: Thực tập/ thực hành tại doanh nghiệp | BT38: 1.Hoàn toàn đồng ý | BU38: 2.Đồng ý
A39: 38 | B39: Trường Cao đẳng Lý Tự Trọng thành Phố Hồ Chí Minh | C39: 14000415 | D39: Võ | E39: Thành | F39: Thôi | G39: 14CĐ - ĐT1 | H39: Công nghệ Điện - Điện tử | I39: Điện tử công nghiệp | J39: =VLOOKUP(I39,Sheet1!$A$20:$B$30,2) -> Điện tử công nghiệp | K39: 1.Cao đẳng nghề | L39: 279 Lâm Văn Bền, Phường Bình Thuận | M39: Quận 7 | N39: Tp.hcm | O39: 0979833580 | P39: vothanhthoi96@gmail.com | Q39: Nam | R39: 1996 | S39: =2018-R39:R187 -> 22 | T39: =VLOOKUP(S39,'Nhóm tuổi'!$A$10:$B$16,2) -> Dưới 25 tuổi | U39: 4.Cao đẳng | V39: Chưa | Z39: 4.Trung bình khá | AA39: A1.Làm công ăn lương | AC39: 5. Sản xuất, phân phối điện, ga, nước | AE39: TNHH New Ha Nam | AF39: HT 3-1, Tăng Nhơn Phú B, Khu Công nghệ cao | AG39: Quận 9 | AH39: Tp.hcm | AI39: 02822531782 | AJ39: kinhdoanh@newhanam.com | AK39: 48 | AL39: 3. Từ 1-3 tháng | AM39: Qua quảng cáo trên báo/đài/TV | AO39: 2.Tốt | AP39: 2.Tốt | AQ39: 1.Có liên quan | AR39: =VLOOKUP(AQ39,Sheet1!$F$21:$G$23,2) -> 1.Có liên quan | AT39: 4. Từ 6-8 triệu | AU39: 5. Trên 300 người | AV39: Có | AW39: 5.Trên 8 tuần | AX39: 2. Nhân viên chính thức | AZ39: Không | BM39: 2.Đồng ý | BN39: 1.Hoàn toàn đồng ý | BO39: 1.Hoàn toàn đồng ý | BP39: Trang thiết bị (máy móc, công cụ, v.v.) | BS39: Cảm biến trong lĩnh vực điện tử | BT39: 1.Hoàn toàn đồng ý | BU39: 1.Hoàn toàn đồng ý
A40: 39 | B40: Trường Cao đẳng Lý Tự Trọng thành Phố Hồ Chí Minh | C40: 14000372 | D40: Phan | E40: Đình Nguyễn | F40: Diệm | G40: 14CĐ - ĐT1 | H40: Công nghệ Điện - Điện tử | I40: Điện tử công nghiệp | J40: =VLOOKUP(I40,Sheet1!$A$20:$B$30,2) -> Điện tử công nghiệp | K40: 1.Cao đẳng nghề | L40: Ấp 5, Sông Nhạn | M40: Cẩm Mỹ | N40: Đồng Nai | O40: 1656424436 | P40: nguyediem110591@gmail.com | Q40: Nam | R40: 1995 | S40: =2018-R40:R188 -> 23 | T40: =VLOOKUP(S40,'Nhóm tuổi'!$A$10:$B$16,2) -> Dưới 25 tuổi | U40: 4.Cao đẳng | V40: Chưa | Z40: 5.Trung bình | AA40: A1.Làm công ăn lương | AC40: 4. Xây dựng | AE40: Công ty Cổ Phần MePac | AF40: 52 Đường Số 2 | AG40: Quận 7 | AH40: Tp.hcm | AI40: 0988.622964 | AJ40: uyen.tran@mepac.vn | AK40: 48 | AL40: 1.Trước khi TN | AM40: Do trường giới thiệu | AO40: 1.Rất tốt | AP40: 1.Rất tốt | AQ40: 1.Có liên quan | AR40: =VLOOKUP(AQ40,Sheet1!$F$21:$G$23,2) -> 1.Có liên quan | AT40: 3.Từ 4-6 triệu | AU40: 5. Trên 300 người | AV40: Không | AX40: 5. Vị trí khác | AY40: Công nhân | AZ40: Không | BM40: 2.Đồng ý | BN40: 2.Đồng ý | BO40: 2.Đồng ý | BP40: Thực tập/ thực hành tại doanh nghiệp | BT40: 1.Hoàn toàn đồng ý | BU40: 1.Hoàn toàn đồng ý
A41: 40 | B41: Trường Cao đẳng Lý Tự Trọng thành Phố Hồ Chí Minh | C41: 14000369 | D41: MoHaMed | F41: AlSaRi | G41: 14CĐ - ĐT1 | H41: Công nghệ Điện - Điện tử | I41: Điện tử công nghiệp | J41: =VLOOKUP(I41,Sheet1!$A$20:$B$30,2) -> Điện tử công nghiệp | K41: 1.Cao đẳng nghề | L41: TK 25/35, Đường Trần Hưng Đạo | M41: Quận 1 | N41: Tp.hcm | O41: 964422050 | Q41: Nam | R41: 1995 | S41: =2018-R41:R189 -> 23 | T41: =VLOOKUP(S41,'Nhóm tuổi'!$A$10:$B$16,2) -> Dưới 25 tuổi | U41: 4.Cao đẳng | V41: Chưa | Z41: 5.Trung bình | AA41: A1.Làm công ăn lương | AC41: 4. Xây dựng | AE41: Công ty Cổ Phần MePac | AF41: 52 Đường Số 2 | AG41: Quận 7 | AH41: Tp.hcm | AI41: 0988.622964 | AJ41: uyen.tran@mepac.vn | AK41: 50 | AL41: 1.Trước khi TN | AM41: Do trường giới thiệu | AO41: 1.Rất tốt | AP41: 2.Tốt | AQ41: 1.Có liên quan | AR41: =VLOOKUP(AQ41,Sheet1!$F$21:$G$23,2) -> 1.Có liên quan | AT41: 3.Từ 4-6 triệu | AU41: 3. Từ 10-200 người | AV41: Có | AW41: 4. Từ 6-8 tuần | AX41: 1. Nhân viên trong thời gian thử việc (thợ học việc | AZ41: Không | BM41: 1.Hoàn toàn đồng ý | BN41: 1.Hoàn toàn đồng ý | BO41: 1.Hoàn toàn đồng ý | BP41: Trang thiết bị (máy móc, công cụ, v.v.) | BT41: 1.Hoàn toàn đồng ý | BU41: 1.Hoàn toàn đồng ý
A42: 41 | B42: Trường Cao đẳng Lý Tự Trọng thành Phố Hồ Chí Minh | C42: 14000375 | D42: Văn | E42: Xuân | F42: Duy | G42: 14CĐ - ĐT1 | H42: Công nghệ Điện - Điện tử | I42: Điện tử công nghiệp | J42: =VLOOKUP(I42,Sheet1!$A$20:$B$30,2) -> Điện tử công nghiệp | K42: 1.Cao đẳng nghề | L42: 237/64 Trình Đình Trọng | M42: Quận Tân Phú | N42: Tp.hcm | O42: 01288430802 | Q42: Nam | R42: 1996 | S42: =2018-R42:R190 -> 22 | T42: =VLOOKUP(S42,'Nhóm tuổi'!$A$10:$B$16,2) -> Dưới 25 tuổi | U42: 4.Cao đẳng | V42: Chưa | Z42: 5.Trung bình | AA42: A1.Làm công ăn lương | AC42: 4. Xây dựng | AE42: Công ty Cổ Phần MePac | AF42: 52 Đường Số 2 | AG42: Quận 7 | AH42: Tp.hcm | AI42: 0988.622964 | AJ42: uyen.tran@mepac.vn | AK42: 50 | AL42: 2.Dưới 1 tháng | AM42: Do trường giới thiệu | AO42: 1.Rất tốt | AP42: 2.Tốt | AQ42: 1.Có liên quan | AR42: =VLOOKUP(AQ42,Sheet1!$F$21:$G$23,2) -> 1.Có liên quan | AT42: 3.Từ 4-6 triệu | AU42: 3. Từ 10-200 người | AV42: Có | AW42: 2. Từ 2-4 tuần | AX42: 1. Nhân viên trong thời gian thử việc (thợ học việc | AZ42: Có | BA42: Điện công nghiệp | BB42: 1.Đại học | BM42: 1.Hoàn toàn đồng ý | BN42: 1.Hoàn toàn đồng ý | BO42: 1.Hoàn toàn đồng ý | BP42: Thực tập/ thực hành tại doanh nghiệp | BQ42: Phương pháp giảng dạy của giáo viên | BR42: Kỹ năng thực hành của giáo viên | BT42: 2.Đồng ý | BU42: 2.Đồng ý
A43: 42 | B43: Trường Cao đẳng Lý Tự Trọng thành Phố Hồ Chí Minh | C43: 14000419 | D43: Nguyễn | E43: Văn | F43: Toàn | G43: 14CĐ - ĐT1 | H43: Công nghệ Điện - Điện tử | I43: Điện tử công nghiệp | J43: =VLOOKUP(I43,Sheet1!$A$20:$B$30,2) -> Điện tử công nghiệp | K43: 1.Cao đẳng nghề | L43: 252 Thoại Ngọc Hầu, Phường Phú Thạnh | M43: Quận Tân Phú | N43: Tp.hcm | O43: 0982665957 | P43: nguyenvantoan@gmail.com | Q43: Nam | R43: 1996 | S43: =2018-R43:R191 -> 22 | T43: =VLOOKUP(S43,'Nhóm tuổi'!$A$10:$B$16,2) -> Dưới 25 tuổi | U43: 4.Cao đẳng | V43: Chưa | Z43: 5.Trung bình | AA43: A1.Làm công ăn lương | AC43: 11.Khác, ghi cụ thể | AD43: Bảo trì điện | AE43: TNHH một thành viên SX-TM-XNK Hỷ Lộc | AF43: 183/6K Tân Hòa Đông, Phường 14 | AG43: Quận 6 | AH43: Tp.hcm | AI43: 02837513551 | AJ43: hyloc@hyloc.vn | AK43: 48 | AL43: 4.Trên 3 tháng | AM43: Quan hệ cá nhân | AO43: 2.Tốt | AP43: 2.Tốt | AQ43: 1.Có liên quan | AR43: =VLOOKUP(AQ43,Sheet1!$F$21:$G$23,2) -> 1.Có liên quan | AT43: 4. Từ 6-8 triệu | AU43: 2. Từ 2-10người | AV43: Có | AW43: 5.Trên 8 tuần | AX43: 1. Nhân viên trong thời gian thử việc (thợ học việc | AZ43: Không | BM43: 1.Hoàn toàn đồng ý | BN43: 2.Đồng ý | BO43: 1.Hoàn toàn đồng ý | BP43: Trang thiết bị (máy móc, công cụ, v.v.) | BQ43: Cơ sở vật chất (phòng học, thư việnv.v.) | BR43: Thực tập/ thực hành tại doanh nghiệp | BT43: 2.Đồng ý | BU43: 2.Đồng ý
A44: 43 | B44: Trường Cao đẳng Lý Tự Trọng thành Phố Hồ Chí Minh | C44: 14000402 | D44: Trương | E44: Quang | F44: Nhật | G44: 14CĐ - ĐT1 | H44: Công nghệ Điện - Điện tử | I44: Điện tử công nghiệp | J44: =VLOOKUP(I44,Sheet1!$A$20:$B$30,2) -> Điện tử công nghiệp | K44: 1.Cao đẳng nghề | L44: 85A Tân Lập, Phường Hiệp Phú | M44: Quận 9 | N44: Tp.hcm | O44: 0964024723 | P44: truongquangnhat@gmail.com | Q44: Nam | R44: 1996 | S44: =2018-R44:R192 -> 22 | T44: =VLOOKUP(S44,'Nhóm tuổi'!$A$10:$B$16,2) -> Dưới 25 tuổi | U44: 4.Cao đẳng | V44: Chưa | Z44: 5.Trung bình | AA44: A1.Làm công ăn lương | AC44: 11.Khác, ghi cụ thể | AD44: Điện công trình | AE44: An Phú Hưng | AF44: 65 Tân Kỳ - Tân Qúy, Phường Sơn Kỳ | AG44: Quận Tân Phú | AH44: Tp.hcm | AI44: 01687334121 | AJ44: lengocthanh@gmail.com | AK44: 48 | AL44: 2.Dưới 1 tháng | AM44: Quan hệ cá nhân | AO44: 2.Tốt | AP44: 2.Tốt | AQ44: 1.Có liên quan | AR44: =VLOOKUP(AQ44,Sheet1!$F$21:$G$23,2) -> 1.Có liên quan | AT44: 4. Từ 6-8 triệu | AU44: 2. Từ 2-10người | AV44: Có | AW44: 1. Dưới 2 tuần | AX44: 2. Nhân viên chính thức | AZ44: Không | BM44: 2.Đồng ý | BN44: 2.Đồng ý | BO44: 2.Đồng ý | BP44: Tài liệu,chương trình (sách, v.v.) | BQ44: Trang thiết bị (máy móc, công cụ, v.v.) | BR44: Thực tập/ thực hành tại doanh nghiệp | BT44: 2.Đồng ý | BU44: 2.Đồng ý
A45: 44 | B45: Trường Cao đẳng Lý Tự Trọng thành Phố Hồ Chí Minh | C45: 14000399 | D45: Nguyễn | E45: Văn | F45: Nghĩa | G45: 14CĐ - ĐT1 | H45: Công nghệ Điện - Điện tử | I45: Điện tử công nghiệp | J45: =VLOOKUP(I45,Sheet1!$A$20:$B$30,2) -> Điện tử công nghiệp | K45: 1.Cao đẳng nghề | L45: Thị Trấn Thành Dũng | M45: Huyện Đơn Dương | N45: Lâm Đồng | O45: 0963269321 | Q45: Nam | R45: 1996 | S45: =2018-R45:R193 -> 22 | T45: =VLOOKUP(S45,'Nhóm tuổi'!$A$10:$B$16,2) -> Dưới 25 tuổi | U45: 4.Cao đẳng | V45: Chưa | Z45: 5.Trung bình | AA45: C.Không tìm được việc làm | AR45: =VLOOKUP(AQ45,Sheet1!$F$21:$G$23,2) -> #N/A | BC45: Lý do khác | BD45: 3.Cả 2 công việc trên | BE45: Ngành nghề được đào tạo đang dư thừa lao động trên thị trường | BF45: Ngoại ngữ không đạt | BG45: Thiếu thông tin về việc làm | BM45: 3.Đồng ý phần nào | BN45: 2.Đồng ý | BO45: 3.Đồng ý phần nào | BP45: Tài liệu,chương trình (sách, v.v.) | BQ45: Thực tập/ thực hành tại doanh nghiệp | BR45: Kỹ năng thực hành của giáo viên | BT45: 2.Đồng ý | BU45: 2.Đồng ý
A46: 45 | B46: Trường Cao đẳng Lý Tự Trọng thành Phố Hồ Chí Minh | C46: 14000394 | D46: Đoàn | E46: Văn | F46: Linh | G46: 14CĐ - ĐT1 | H46: Công nghệ Điện - Điện tử | I46: Điện tử công nghiệp | J46: =VLOOKUP(I46,Sheet1!$A$20:$B$30,2) -> Điện tử công nghiệp | K46: 1.Cao đẳng nghề | L46: 33 Thiền Viên, Phường Mỹ Đình | M46: Quận Nam Từ Liêm | N46: Hà Nội | O46: 01663198488 | P46: utlinh131996@gmail.com | Q46: Nam | R46: 1996 | S46: =2018-R46:R194 -> 22 | T46: =VLOOKUP(S46,'Nhóm tuổi'!$A$10:$B$16,2) -> Dưới 25 tuổi | U46: 4.Cao đẳng | V46: Chưa | Z46: 5.Trung bình | AA46: A1.Làm công ăn lương | AC46: 11.Khác, ghi cụ thể | AD46: Điện Ô tô | AE46: GaRa Ôtô HTC Quang Minh | AF46: Ngô 68 Dương Đình Nghệ | AG46: Quận Nam Từ Liêm | AH46: Hà Nội | AK46: 48 | AL46: 3. Từ 1-3 tháng | AM46: Quan hệ cá nhân | AO46: 2.Tốt | AP46: 2.Tốt | AQ46: 1.Có liên quan | AR46: =VLOOKUP(AQ46,Sheet1!$F$21:$G$23,2) -> 1.Có liên quan | AT46: 4. Từ 6-8 triệu | AU46: 3. Từ 10-200 người | AV46: Có | AW46: 5.Trên 8 tuần | AX46: 2. Nhân viên chính thức | AZ46: Không | BM46: 3.Đồng ý phần nào | BN46: 2.Đồng ý | BO46: 2.Đồng ý | BP46: Tài liệu,chương trình (sách, v.v.) | BQ46: Thực tập/ thực hành tại doanh nghiệp | BR46: Phương pháp giảng dạy của giáo viên | BT46: 2.Đồng ý | BU46: 2.Đồng ý
A47: 46 | B47: Trường Cao đẳng Lý Tự Trọng thành Phố Hồ Chí Minh | C47: 14000368 | D47: Nguyễn | E47: Ngọc | F47: Anh | G47: 14CĐ - ĐT1 | H47: Công nghệ Điện - Điện tử | I47: Điện tử công nghiệp | J47: =VLOOKUP(I47,Sheet1!$A$20:$B$30,2) -> Điện tử công nghiệp | K47: 1.Cao đẳng nghề | L47: 100/5D Ấp Tam Đông 3, Xã Thới Tam Thôn, | M47: Huyện Hóc Môn, | N47: Tp.hcm | O47: 01687302433 | Q47: Nam | R47: 1996 | S47: =2018-R47:R195 -> 22 | T47: =VLOOKUP(S47,'Nhóm tuổi'!$A$10:$B$16,2) -> Dưới 25 tuổi | U47: 4.Cao đẳng | V47: Chưa | Z47: 3.Khá | AA47: A2.Tự SX-KD | AC47: 11.Khác, ghi cụ thể | AD47: Thi công công trình điện | AE47: Tại gia | AF47: 100/5D Ấp Tam Đông, Xã Thới Tam Thôn | AG47: Hốc Môn | AH47: Tp.hcm | AI47: 01687302433 | AK47: 48 | AL47: 2.Dưới 1 tháng | AM47: Quan hệ cá nhân | AO47: 3.Trung bình | AP47: 3.Trung bình | AQ47: 2.Liên quan | AR47: =VLOOKUP(AQ47,Sheet1!$F$21:$G$23,2) -> 2.Liên quan | AT47: 4. Từ 6-8 triệu | AU47: 2. Từ 2-10người | AV47: Có | AW47: 5.Trên 8 tuần | AX47: 2. Nhân viên chính thức | AZ47: Không | BM47: 2.Đồng ý | BN47: 3.Đồng ý phần nào | BO47: 2.Đồng ý | BP47: Trang thiết bị (máy móc, công cụ, v.v.) | BQ47: Cơ sở vật chất (phòng học, thư việnv.v.) | BR47: Thực tập/ thực hành tại doanh nghiệp | BT47: 2.Đồng ý | BU47: 3.Đồng ý phần nào
A48: 47 | B48: Trường Cao đẳng Lý Tự Trọng thành Phố Hồ Chí Minh | C48: 14000457 | D48: Đoàn | E48: Việt | F48: Quang | G48: 14CĐ - ĐT2 | H48: Công nghệ Điện - Điện tử | I48: Điện tử công nghiệp | J48: =VLOOKUP(I48,Sheet1!$A$20:$B$30,2) -> Điện tử công nghiệp | K48: 1.Cao đẳng nghề | L48: 373/1/3Thống Nhất, Phường 8 | M48: Quận Gò Vấp | N48: Tp.hcm | O48: 01649913769 | P48: doanviet767@gmail | Q48: Nam | R48: 1996 | S48: =2018-R48:R196 -> 22 | T48: =VLOOKUP(S48,'Nhóm tuổi'!$A$10:$B$16,2) -> Dưới 25 tuổi | U48: 4.Cao đẳng | V48: Chưa | Z48: 5.Trung bình | AA48: A1.Làm công ăn lương | AC48: 11.Khác, ghi cụ thể | AD48: Thi công công trình điện | AE48: Công ty Cổ phần KT Cường Thịnh | AF48: 168/44H Đường D2, Phường 25 | AG48: Quận Bình Thạnh | AH48: Tp.hcm | AI48: 028362944571 | AJ48: http://www.ctcjsc.com.vn | AK48: 48 | AL48: 3. Từ 1-3 tháng | AM48: Qua quảng cáo trên Internet | AO48: 2.Tốt | AP48: 2.Tốt | AQ48: 2.Liên quan | AR48: =VLOOKUP(AQ48,Sheet1!$F$21:$G$23,2) -> 2.Liên quan | AT48: 4. Từ 6-8 triệu | AU48: 3. Từ 10-200 người | AV48: Có | AW48: 5.Trên 8 tuần | AX48: 2. Nhân viên chính thức | AZ48: Không | BM48: 2.Đồng ý | BN48: 3.Đồng ý phần nào | BO48: 3.Đồng ý phần nào | BP48: Tài liệu,chương trình (sách, v.v.) | BQ48: Kỹ năng thực hành của giáo viên | BT48: 3.Đồng ý phần nào | BU48: 3.Đồng ý phần nào
A49: 48 | B49: Trường Cao đẳng Lý Tự Trọng thành Phố Hồ Chí Minh | C49: 14000451 | D49: Trần | E49: Thanh | F49: Minh | G49: 14CĐ - ĐT2 | H49: Công nghệ Điện - Điện tử | I49: Điện tử công nghiệp | J49: =VLOOKUP(I49,Sheet1!$A$20:$B$30,2) -> Điện tử công nghiệp | K49: 1.Cao đẳng nghề | L49: 147 Dương Quảng Hàm, Phường 5 | M49: Quận Gò Vấp | N49: Tp.hcm | O49: 016966747020 | Q49: Nam | R49: 1996 | S49: =2018-R49:R197 -> 22 | T49: =VLOOKUP(S49,'Nhóm tuổi'!$A$10:$B$16,2) -> Dưới 25 tuổi | U49: 4.Cao đẳng | V49: Chưa | Z49: 5.Trung bình | AA49: A1.Làm công ăn lương | AC49: 11.Khác, ghi cụ thể | AD49: Thi công công trình điện | AF49: 102 Lê Thị Hồng Gấm, Phường Nguyễn Thái Bình | AG49: Quận 1 | AH49: Tp.hcm | AK49: 48 | AL49: 3. Từ 1-3 tháng | AM49: Qua quảng cáo trên Internet | AO49: 1.Rất tốt | AP49: 1.Rất tốt | AQ49: 2.Liên quan | AR49: =VLOOKUP(AQ49,Sheet1!$F$21:$G$23,2) -> 2.Liên quan | AT49: 4. Từ 6-8 triệu | AU49: 2. Từ 2-10người | AV49: Có | AW49: 2. Từ 2-4 tuần | AX49: 2. Nhân viên chính thức | AZ49: Không | BM49: 1.Hoàn toàn đồng ý | BN49: 1.Hoàn toàn đồng ý | BO49: 1.Hoàn toàn đồng ý | BP49: Tài liệu,chương trình (sách, v.v.) | BQ49: Cơ sở vật chất (phòng học, thư việnv.v.) | BR49: Kỹ năng thực hành của giáo viên | BT49: 1.Hoàn toàn đồng ý | BU49: 1.Hoàn toàn đồng ý
A50: 49 | B50: Trường Cao đẳng Lý Tự Trọng thành Phố Hồ Chí Minh | C50: 14000456 | D50: Hà | E50: Duy | F50: Phước | G50: 14CĐ - ĐT2 | H50: Công nghệ Điện - Điện tử | I50: Điện tử công nghiệp | J50: =VLOOKUP(I50,Sheet1!$A$20:$B$30,2) -> Điện tử công nghiệp | K50: 1.Cao đẳng nghề | L50: 160 Quốc Lộ 13, Phường 26 | M50: Quận Bình Thạnh | N50: Tp.hcm | O50: 01695424239 | P50: hoduyphuoc02@gmail | Q50: Nam | R50: 1995 | S50: =2018-R50:R198 -> 23 | T50: =VLOOKUP(S50,'Nhóm tuổi'!$A$10:$B$16,2) -> Dưới 25 tuổi | U50: 4.Cao đẳng | V50: Chưa | Z50: 5.Trung bình | AA50: B2.Đang đi học | AR50: =VLOOKUP(AQ50,Sheet1!$F$21:$G$23,2) -> #N/A | BI50: Học nâng cao trình độ | BJ50: Trường Đại học sư phạm Kỹ thuật Tp.HCM | BK50: Công nghệ KT Điện - Điện Tử | BL50: 1.Đại học | BM50: 2.Đồng ý | BN50: 2.Đồng ý | BO50: 2.Đồng ý | BP50: Trang thiết bị (máy móc, công cụ, v.v.) | BQ50: Thực tập/ thực hành tại doanh nghiệp | BR50: Kỹ năng thực hành của giáo viên | BT50: 2.Đồng ý | BU50: 2.Đồng ý
A51: 50 | B51: Trường Cao đẳng Lý Tự Trọng thành Phố Hồ Chí Minh | C51: 14000455 | D51: Nguyễn | F51: Phát | G51: 14CĐ - ĐT2 | H51: Công nghệ Điện - Điện tử | I51: Điện tử công nghiệp | J51: =VLOOKUP(I51,Sheet1!$A$20:$B$30,2) -> Điện tử công nghiệp | K51: 1.Cao đẳng nghề | L51: 261 Chu Văn An, Phường 24 | M51: Quận Bình Thạnh | N51: Tp.hcm | O51: 0965954232 | P51: phat1996bsvt@gmail | Q51: Nam | R51: 1996 | S51: =2018-R51:R199 -> 22 | T51: =VLOOKUP(S51,'Nhóm tuổi'!$A$10:$B$16,2) -> Dưới 25 tuổi | U51: 4.Cao đẳng | V51: Chưa | Z51: 5.Trung bình | AA51: C.Không tìm được việc làm | AR51: =VLOOKUP(AQ51,Sheet1!$F$21:$G$23,2) -> #N/A | BC51: Vì không tìm được việc làm đúng với ngành nghề được đào tạo | BD51: 2.CV không liên quan đến nghề được đào tạo | BE51: Thiếu kinh nghiệm làm việc | BM51: 1.Hoàn toàn đồng ý | BN51: 2.Đồng ý | BO51: 2.Đồng ý | BP51: Tài liệu,chương trình (sách, v.v.) | BQ51: Trang thiết bị (máy móc, công cụ, v.v.) | BR51: Thực tập/ thực hành tại doanh nghiệp | BT51: 2.Đồng ý | BU51: 2.Đồng ý
A52: 51 | B52: Trường Cao đẳng Lý Tự Trọng thành Phố Hồ Chí Minh | C52: 14000427 | D52: Đinh | E52: Văn | F52: Cường | G52: 14CĐ - ĐT2 | H52: Công nghệ Điện - Điện tử | I52: Điện tử công nghiệp | J52: =VLOOKUP(I52,Sheet1!$A$20:$B$30,2) -> Điện tử công nghiệp | K52: 1.Cao đẳng nghề | L52: Đường Số 4, Phường Linh Tây | M52: Quận Thủ Đức | N52: Tp.hcm | O52: 0966150078 | Q52: Nam | R52: 1996 | S52: =2018-R52:R200 -> 22 | T52: =VLOOKUP(S52,'Nhóm tuổi'!$A$10:$B$16,2) -> Dưới 25 tuổi | U52: 4.Cao đẳng | V52: Chưa | Z52: 5.Trung bình | AA52: A1.Làm công ăn lương | AC52: 11.Khác, ghi cụ thể | AD52: Thi công Công trình | AK52: 48 | AL52: 3. Từ 1-3 tháng | AM52: Qua quảng cáo trên Internet | AO52: 2.Tốt | AP52: 2.Tốt | AQ52: 1.Có liên quan | AR52: =VLOOKUP(AQ52,Sheet1!$F$21:$G$23,2) -> 1.Có liên quan | AT52: 3.Từ 4-6 triệu | AU52: 2. Từ 2-10người | AV52: Có | AW52: 5.Trên 8 tuần | AX52: 1. Nhân viên trong thời gian thử việc (thợ học việc | AZ52: Không | BM52: 2.Đồng ý | BN52: 3.Đồng ý phần nào | BO52: 2.Đồng ý | BP52: Tài liệu,chương trình (sách, v.v.) | BQ52: Thực tập/ thực hành tại doanh nghiệp | BR52: Kỹ năng thực hành của giáo viên | BT52: 2.Đồng ý | BU52: 2.Đồng ý
A53: 52 | B53: Trường Cao đẳng Lý Tự Trọng thành Phố Hồ Chí Minh | C53: 14000438 | D53: Lưu | E53: Văn | F53: Hiếu | G53: 14CĐ - ĐT2 | H53: Công nghệ Điện - Điện tử | I53: Điện tử công nghiệp | J53: =VLOOKUP(I53,Sheet1!$A$20:$B$30,2) -> Điện tử công nghiệp | K53: 1.Cao đẳng nghề | L53: KP5, Phường 2 | M53: TX. Kiến Tường | N53: Long An | O53: 01264700704 | Q53: Nam | R53: 1995 | S53: =2018-R53:R201 -> 23 | T53: =VLOOKUP(S53,'Nhóm tuổi'!$A$10:$B$16,2) -> Dưới 25 tuổi | U53: 4.Cao đẳng | V53: Chưa | Z53: 5.Trung bình | AA53: A1.Làm công ăn lương | AC53: 4. Xây dựng | AE53: Công ty Cổ Phần MePac | AF53: 52 Đường Số 2 | AG53: Quận 7 | AH53: Tp.hcm | AI53: 0988.622964 | AJ53: uyen.tran@mepac.vn | AK53: 48 | AL53: 4.Trên 3 tháng | AM53: Do trường giới thiệu | AO53: 3.Trung bình | AP53: 3.Trung bình | AQ53: 1.Có liên quan | AR53: =VLOOKUP(AQ53,Sheet1!$F$21:$G$23,2) -> 1.Có liên quan | AT53: 4. Từ 6-8 triệu | AU53: 4. Từ 200-300 người | AV53: Có | AW53: 2. Từ 2-4 tuần | AX53: 2. Nhân viên chính thức | AZ53: Có | BA53: Điện tử công nghiệp | BB53: 1.Đại học | BM53: 2.Đồng ý | BN53: 2.Đồng ý | BO53: 1.Hoàn toàn đồng ý | BQ53: Tài liệu,chương trình (sách, v.v.) | BT53: 1.Hoàn toàn đồng ý | BU53: 1.Hoàn toàn đồng ý
A54: 53 | B54: Trường Cao đẳng Lý Tự Trọng thành Phố Hồ Chí Minh | C54: 14000450 | D54: Chương | E54: Hoàng | F54: Minh | G54: 14CĐ - ĐT2 | H54: Công nghệ Điện - Điện tử | I54: Điện tử công nghiệp | J54: =VLOOKUP(I54,Sheet1!$A$20:$B$30,2) -> Điện tử công nghiệp | K54: 1.Cao đẳng nghề | L54: 19/6/8 Hoàng Xuân Nhị, Phường Phú Trung | M54: Quận Tân Phú | N54: Tp.hcm | O54: 0989972934 | Q54: Nam | R54: 1996 | S54: =2018-R54:R202 -> 22 | T54: =VLOOKUP(S54,'Nhóm tuổi'!$A$10:$B$16,2) -> Dưới 25 tuổi | U54: 4.Cao đẳng | V54: Chưa | Z54: 5.Trung bình | AA54: A1.Làm công ăn lương | AC54: 4. Xây dựng | AE54: Công ty Cổ Phần MePac | AF54: 52 Đường Số 2 | AG54: Quận 7 | AH54: Tp.hcm | AI54: 0988.622964 | AJ54: uyen.tran@mepac.vn | AK54: 48 | AL54: 4.Trên 3 tháng | AM54: Do trường giới thiệu | AO54: 2.Tốt | AP54: 2.Tốt | AQ54: 1.Có liên quan | AR54: =VLOOKUP(AQ54,Sheet1!$F$21:$G$23,2) -> 1.Có liên quan | AT54: 3.Từ 4-6 triệu | AU54: 3. Từ 10-200 người | AV54: Không | AX54: 1. Nhân viên trong thời gian thử việc (thợ học việc | AZ54: Không | BM54: 1.Hoàn toàn đồng ý | BN54: 1.Hoàn toàn đồng ý | BO54: 1.Hoàn toàn đồng ý | BP54: Tài liệu,chương trình (sách, v.v.) | BQ54: Trang thiết bị (máy móc, công cụ, v.v.) | BR54: Thực tập/ thực hành tại doanh nghiệp | BT54: 1.Hoàn toàn đồng ý | BU54: 1.Hoàn toàn đồng ý
A55: 54 | B55: Trường Cao đẳng Lý Tự Trọng thành Phố Hồ Chí Minh | C55: 14001067 | D55: Phan | E55: Anh | F55: Phúc | G55: 14CĐ - ĐT2 | H55: Công nghệ Điện - Điện tử | I55: Điện tử công nghiệp | J55: =VLOOKUP(I55,Sheet1!$A$20:$B$30,2) -> Điện tử công nghiệp | K55: 1.Cao đẳng nghề | L55: 125/5 Hoàng Hoa Thám, Phường 13 | M55: Quận Tân Bình | N55: Tp.hcm | O55: 01689596948 | P55: phanphuc3127@gmail.com | Q55: Nam | R55: 1994 | S55: =2018-R55:R203 -> 24 | T55: =VLOOKUP(S55,'Nhóm tuổi'!$A$10:$B$16,2) -> Dưới 25 tuổi | U55: 4.Cao đẳng | V55: Chưa | Z55: 5.Trung bình | AA55: A1.Làm công ăn lương | AC55: 11.Khác, ghi cụ thể | AD55: Cố vấn | AE55: Giang Minh Đức | AF55: 328 Ung Văn Khiêm, Phường 25 | AG55: Quận Bình Thạnh | AH55: Tp.hcm | AI55: 0949838579 | AK55: 48 | AL55: 4.Trên 3 tháng | AM55: Quan hệ cá nhân | AO55: 2.Tốt | AP55: 2.Tốt | AQ55: 1.Có liên quan | AR55: =VLOOKUP(AQ55,Sheet1!$F$21:$G$23,2) -> 1.Có liên quan | AT55: 5. Trên 8 triệu | AU55: 3. Từ 10-200 người | AV55: Không | AX55: 2. Nhân viên chính thức | AZ55: Không | BM55: 2.Đồng ý | BN55: 2.Đồng ý | BO55: 2.Đồng ý | BP55: Tài liệu,chương trình (sách, v.v.) | BQ55: Trang thiết bị (máy móc, công cụ, v.v.) | BR55: Thực tập/ thực hành tại doanh nghiệp | BT55: 2.Đồng ý | BU55: 2.Đồng ý
A56: 55 | B56: Trường Cao đẳng Lý Tự Trọng thành Phố Hồ Chí Minh | C56: 14001116 | D56: Trần | E56: Thị Ý | F56: Nhi | G56: 14CĐ - MT1 | H56: Công nghệ May - Thời trang | I56: Công nghệ May | J56: =VLOOKUP(I56,Sheet1!$A$20:$B$30,2) -> Công nghệ May | K56: 1.Cao đẳng nghề | L56: 481/35 Trường Chinh, Phường 4 | M56: Quận Tân Bình | N56: Tp.hcm | O56: 0923269238 | P56: ynhilytc@gmail.com | Q56: Nữ | R56: 1996 | S56: =2018-R56:R204 -> 22 | T56: =VLOOKUP(S56,'Nhóm tuổi'!$A$10:$B$16,2) -> Dưới 25 tuổi | U56: 4.Cao đẳng | V56: Chưa | Z56: 3.Khá | AA56: A1.Làm công ăn lương | AC56: 5. Sản xuất, phân phối điện, ga, nước | AE56: Công ty Cổ Phần may Việt Tiến | AF56: Số 7 Lê Minh Xuân | AG56: Phường 7 | AH56: Tp.hcm | AI56: 02838640800 | AJ56: www.viettien.com.vn | AK56: 44 | AL56: 2.Dưới 1 tháng | AM56: Qua quảng cáo trên Internet | AO56: 3.Trung bình | AP56: 3.Trung bình | AQ56: 2.Liên quan | AR56: =VLOOKUP(AQ56,Sheet1!$F$21:$G$23,2) -> 2.Liên quan | AT56: 3.Từ 4-6 triệu | AU56: 5. Trên 300 người | AV56: Không | AX56: 2. Nhân viên chính thức | AZ56: Không | BM56: 2.Đồng ý | BN56: 3.Đồng ý phần nào | BO56: 2.Đồng ý | BP56: Tài liệu,chương trình (sách, v.v.) | BQ56: Trang thiết bị (máy móc, công cụ, v.v.) | BR56: Phương pháp giảng dạy của giáo viên | BT56: 3.Đồng ý phần nào | BU56: 3.Đồng ý phần nào
A57: 56 | B57: Trường Cao đẳng Lý Tự Trọng thành Phố Hồ Chí Minh | C57: 14001099 | D57: Lâm | E57: Thanh | F57: Hảo | G57: 14CĐ - MT1 | H57: Công nghệ May - Thời trang | I57: Công nghệ May | J57: =VLOOKUP(I57,Sheet1!$A$20:$B$30,2) -> Công nghệ May | K57: 1.Cao đẳng nghề | L57: 442 Ấp Phước Hậu, ã Gia Bình | M57: Huyện Trảng Bom | N57: Tỉnh Tây Ninh | O57: 01623877602 | P57: lam63499@gmail.com | Q57: Nữ | R57: 1996 | S57: =2018-R57:R205 -> 22 | T57: =VLOOKUP(S57,'Nhóm tuổi'!$A$10:$B$16,2) -> Dưới 25 tuổi | U57: 4.Cao đẳng | V57: Chưa | Z57: 5.Trung bình | AA57: A1.Làm công ăn lương | AC57: 11.Khác, ghi cụ thể | AD57: Quản lý Kho | AE57: Công ty Brotex Việt Nam | AF57: Lô 34- 6 Đường D11, Khu Công nghiệp Phước Đông, | AG57: Huyện Gò Dầu | AH57: Tây Ninh | AI57: 02763530999 | AJ57: http://www.bros.com.cn | AK57: 48 | AL57: 3. Từ 1-3 tháng | AM57: Quan hệ cá nhân | AO57: 3.Trung bình | AP57: 3.Trung bình | AQ57: 3.Không liên quan | AR57: =VLOOKUP(AQ57,Sheet1!$F$21:$G$23,2) -> 3.Không liên quan | AT57: 3.Từ 4-6 triệu | AU57: 5. Trên 300 người | AV57: Không | AX57: 2. Nhân viên chính thức | AZ57: Không | BM57: 2.Đồng ý | BN57: 2.Đồng ý | BO57: 2.Đồng ý | BP57: Tài liệu,chương trình (sách, v.v.) | BQ57: Trang thiết bị (máy móc, công cụ, v.v.) | BR57: Phương pháp giảng dạy của giáo viên | BT57: 2.Đồng ý | BU57: 2.Đồng ý
A58: 57 | B58: Trường Cao đẳng Lý Tự Trọng thành Phố Hồ Chí Minh | C58: 14001116 | D58: Lê | E58: Thị Yến | F58: Nhi | G58: 14CĐ - MT1 | H58: Công nghệ May - Thời trang | I58: Công nghệ May | J58: =VLOOKUP(I58,Sheet1!$A$20:$B$30,2) -> Công nghệ May | K58: 1.Cao đẳng nghề | L58: 778/32/29C Thống Nhất, Phường 15 | M58: Quận Gò Vấp | N58: Tp.hcm | O58: 0933279879 | P58: leyennhi879@gmail.com | Q58: Nữ | R58: 1996 | S58: =2018-R58:R206 -> 22 | T58: =VLOOKUP(S58,'Nhóm tuổi'!$A$10:$B$16,2) -> Dưới 25 tuổi | U58: 4.Cao đẳng | V58: Chưa | Z58: 5.Trung bình | AA58: A2.Tự SX-KD | AB58: Làm tự gia | AC58: 11.Khác, ghi cụ thể | AD58: May tại gia | AF58: 778/32/29C Thống Nhất, Phường 15, | AG58: Quận Gò Vấp | AH58: Tp.hcm | AI58: 0933279879 | AJ58: leyennhi879gmail.com | AK58: 48 | AL58: 2.Dưới 1 tháng | AM58: Quan hệ cá nhân | AO58: 2.Tốt | AP58: 2.Tốt | AQ58: 1.Có liên quan | AR58: =VLOOKUP(AQ58,Sheet1!$F$21:$G$23,2) -> 1.Có liên quan | AT58: 4. Từ 6-8 triệu | AU58: 2. Từ 2-10người | AV58: Không | AX58: 2. Nhân viên chính thức | AZ58: Không | BM58: 1.Hoàn toàn đồng ý | BN58: 1.Hoàn toàn đồng ý | BO58: 1.Hoàn toàn đồng ý | BP58: Tài liệu,chương trình (sách, v.v.) | BQ58: Trang thiết bị (máy móc, công cụ, v.v.) | BR58: Thực tập/ thực hành tại doanh nghiệp | BT58: 2.Đồng ý | BU58: 2.Đồng ý
A59: 58 | B59: Trường Cao đẳng Lý Tự Trọng thành Phố Hồ Chí Minh | C59: 14001105 | D59: Nguyễn | E59: Thu | F59: Hương | G59: 14CĐ - MT1 | H59: Công nghệ May - Thời trang | I59: Công nghệ May | J59: =VLOOKUP(I59,Sheet1!$A$20:$B$30,2) -> Công nghệ May | K59: 1.Cao đẳng nghề | L59: 49/16 Thuận Giao 2, Thuận Giao | M59: Thị Xã Thuận An | N59: Tỉnh Bình Dương | O59: 01629614587 | P59: nangham95@gmail.com | Q59: Nữ | R59: 1996 | S59: =2018-R59:R207 -> 22 | T59: =VLOOKUP(S59,'Nhóm tuổi'!$A$10:$B$16,2) -> Dưới 25 tuổi | U59: 4.Cao đẳng | V59: Chưa | Z59: 5.Trung bình | AA59: A1.Làm công ăn lương | AC59: 5. Sản xuất, phân phối điện, ga, nước | AE59: May Mặc Global Nam Phương | AF59: 1/433 Kp Hòa Lâm 2, Thuận Giao | AG59: Huyện Thuận An | AH59: Bình Dương | AK59: 48 | AL59: 4.Trên 3 tháng | AM59: Qua quảng cáo trên báo/đài/TV | AO59: 2.Tốt | AP59: 2.Tốt | AQ59: 2.Liên quan | AR59: =VLOOKUP(AQ59,Sheet1!$F$21:$G$23,2) -> 2.Liên quan | AT59: 4. Từ 6-8 triệu | AU59: 5. Trên 300 người | AV59: Có | AW59: 2. Từ 2-4 tuần | AX59: 2. Nhân viên chính thức | AZ59: Không | BM59: 2.Đồng ý | BN59: 2.Đồng ý | BO59: 3.Đồng ý phần nào | BP59: Thực tập/ thực hành tại doanh nghiệp | BQ59: Trang thiết bị (máy móc, công cụ, v.v.) | BR59: Khác | BS59: Máy móc ngành may hiện địa hơn | BT59: 3.Đồng ý phần nào | BU59: 3.Đồng ý phần nào
A60: 59 | B60: Trường Cao đẳng Lý Tự Trọng thành Phố Hồ Chí Minh | C60: 14001106 | D60: Phạm | E60: Thị Mỹ | F60: Huyền | G60: 14CĐ - MT1 | H60: Công nghệ May - Thời trang | I60: Công nghệ May | J60: =VLOOKUP(I60,Sheet1!$A$20:$B$30,2) -> Công nghệ May | K60: 1.Cao đẳng nghề | L60: 1141/12/4 Kp, Phường Trung Mỹ Tây, | M60: Quận 12 | N60: Tp.hcm | O60: 01643994562 | P60: huyenpham38837@gmail.com | Q60: Nữ | R60: 1996 | S60: =2018-R60:R208 -> 22 | T60: =VLOOKUP(S60,'Nhóm tuổi'!$A$10:$B$16,2) -> Dưới 25 tuổi | U60: 4.Cao đẳng | V60: Chưa | Z60: 3.Khá | AA60: A1.Làm công ăn lương | AC60: 11.Khác, ghi cụ thể | AD60: Trợ lý thiết kế | AE60: Dynamie Sourcing(văn phòng đại diện) | AF60: 90A Nguyễn Văn Qúa, Phường Đông Hưng Thuận, | AG60: Quận 12 | AH60: Tp.hcm | AK60: 48 | AL60: 2.Dưới 1 tháng | AM60: Qua quảng cáo trên báo/đài/TV | AO60: 2.Tốt | AP60: 3.Trung bình | AQ60: 2.Liên quan | AR60: =VLOOKUP(AQ60,Sheet1!$F$21:$G$23,2) -> 2.Liên quan | AT60: 4. Từ 6-8 triệu | AU60: 3. Từ 10-200 người | AV60: Có | AW60: 5.Trên 8 tuần | AX60: 2. Nhân viên chính thức | AZ60: Có | BA60: Quản trị nhân lực | BB60: 1.Đại học | BM60: 3.Đồng ý phần nào | BN60: 4.Không đồng ý | BO60: 2.Đồng ý | BP60: Trang thiết bị (máy móc, công cụ, v.v.) | BQ60: Cơ sở vật chất (phòng học, thư việnv.v.) | BR60: Thực tập/ thực hành tại doanh nghiệp | BT60: 3.Đồng ý phần nào | BU60: 2.Đồng ý
A61: 60 | B61: Trường Cao đẳng Lý Tự Trọng thành Phố Hồ Chí Minh | C61: 13D2040013 | D61: Nguyễn | E61: Thị Quỳnh | F61: Hoa | G61: 14CĐ - MT1 | H61: Công nghệ May - Thời trang | I61: Công nghệ May | J61: =VLOOKUP(I61,Sheet1!$A$20:$B$30,2) -> Công nghệ May | K61: 1.Cao đẳng nghề | L61: 70B Bác Ái, Phường Tân Thành | M61: Quận Tân Phú | N61: Tp.hcm | O61: 0936013330 | P61: nguyenthiquynhhoa1011@gmail.com | Q61: Nữ | R61: 1994 | S61: =2018-R61:R209 -> 24 | T61: =VLOOKUP(S61,'Nhóm tuổi'!$A$10:$B$16,2) -> Dưới 25 tuổi | U61: 4.Cao đẳng | V61: Chưa | Z61: 5.Trung bình | AA61: B2.Đang đi học | AR61: =VLOOKUP(AQ61,Sheet1!$F$21:$G$23,2) -> #N/A | BI61: Học nâng cao trình độ | BJ61: Trường Nhật Ngữ SaKura | BK61: Tiếng Nhật | BL61: 4.Sơ cấp | BM61: 2.Đồng ý | BN61: 2.Đồng ý | BO61: 2.Đồng ý | BP61: Tài liệu,chương trình (sách, v.v.) | BQ61: Trang thiết bị (máy móc, công cụ, v.v.) | BR61: Thực tập/ thực hành tại doanh nghiệp | BT61: 3.Đồng ý phần nào | BU61: 2.Đồng ý
A62: 61 | B62: Trường Cao đẳng Lý Tự Trọng thành Phố Hồ Chí Minh | C62: 14001109 | D62: Nguyễn | E62: Thị Thùy | F62: Linh | G62: 14CĐ - MT1 | H62: Công nghệ May - Thời trang | I62: Công nghệ May | J62: =VLOOKUP(I62,Sheet1!$A$20:$B$30,2) -> Công nghệ May | K62: 1.Cao đẳng nghề | L62: Tổ 3, Khối Thủ Đức | M62: Thị Trấn Bồng Sông, Huyện Hoài Nhơn | N62: Bình Định | O62: 0962112063 | P62: linhnguyen17996@gmail | Q62: Nữ | R62: 1996 | S62: =2018-R62:R210 -> 22 | T62: =VLOOKUP(S62,'Nhóm tuổi'!$A$10:$B$16,2) -> Dưới 25 tuổi | U62: 4.Cao đẳng | V62: Chưa | Z62: 4.Trung bình khá | AA62: C.Không tìm được việc làm | AR62: =VLOOKUP(AQ62,Sheet1!$F$21:$G$23,2) -> #N/A | BC62: Vì không tìm được việc làm đúng với ngành nghề được đào tạo | BD62: 3.Cả 2 công việc trên | BE62: Kỹ năng nghề không đáp ứng được yêu cầu công việc | BF62: Ngoại ngữ không đạt | BG62: Thiếu kinh nghiệm làm việc | BM62: 2.Đồng ý | BN62: 2.Đồng ý | BO62: 4.Không đồng ý | BP62: Thực tập/ thực hành tại doanh nghiệp | BQ62: Kỹ năng thực hành của giáo viên | BT62: 3.Đồng ý phần nào | BU62: 2.Đồng ý
A63: 62 | B63: Trường Cao đẳng Lý Tự Trọng thành Phố Hồ Chí Minh | C63: 14001102 | D63: Đỗ | E63: Thị Cẩm | F63: Hương | G63: 14CĐ - MT1 | H63: Công nghệ May - Thời trang | I63: Công nghệ May | J63: =VLOOKUP(I63,Sheet1!$A$20:$B$30,2) -> Công nghệ May | K63: 1.Cao đẳng nghề | L63: 710A Trường Chinh, Phường 15 | M63: Quận Tân Bình | N63: Tp.hcm | O63: 01689732368 | P63: dohuong1295@gmail.com | Q63: Nữ | R63: 1995 | S63: =2018-R63:R211 -> 23 | T63: =VLOOKUP(S63,'Nhóm tuổi'!$A$10:$B$16,2) -> Dưới 25 tuổi | U63: 4.Cao đẳng | V63: Chưa | Z63: 5.Trung bình | AA63: A1.Làm công ăn lương | AC63: 6.Thương mại & Dịch vụ (Bán buôn, bán lẻ) | AE63: Công ty TNHH Pacific Quality Control centre Việt Nam | AF63: 124 Điện Biên Phủ, Phường Đa Kao | AG63: Quận 1 | AH63: Tp.hcm | AI63: 02838200305 | AJ63: www.pqcjp.com | AK63: 48 | AL63: 4.Trên 3 tháng | AM63: Qua quảng cáo trên Internet | AO63: 3.Trung bình | AP63: 3.Trung bình | AQ63: 1.Có liên quan | AR63: =VLOOKUP(AQ63,Sheet1!$F$21:$G$23,2) -> 1.Có liên quan | AT63: 2. Từ 2-4 triệu | AU63: 3. Từ 10-200 người | AV63: Có | AW63: 1. Dưới 2 tuần | AX63: 1. Nhân viên trong thời gian thử việc (thợ học việc | AZ63: Có | BA63: Công nghệ May | BB63: 1.Đại học | BM63: 2.Đồng ý | BN63: 2.Đồng ý | BO63: 2.Đồng ý | BP63: Tài liệu,chương trình (sách, v.v.) | BQ63: Trang thiết bị (máy móc, công cụ, v.v.) | BT63: 2.Đồng ý | BU63: 2.Đồng ý
A64: 63 | B64: Trường Cao đẳng Lý Tự Trọng thành Phố Hồ Chí Minh | C64: 14001056 | D64: Dương | E64: Minh | F64: Kha | G64: 14CĐ - Ô1 | H64: Công nghệ Động lực | I64: Công nghệ Kỹ Thuật Ô Tô | J64: =VLOOKUP(I64,Sheet1!$A$20:$B$30,2) -> Công nghệ Kỹ Thuật Ô Tô | K64: 1.Cao đẳng nghề | L64: Đường Nguyễn Ái Quốc, Phường Quang Vinh | M64: Tp. Biên Hòa, Đồng Nai | N64: Đồng Nai | O64: 01867776871 | P64: minhkhamun@gmail.com | Q64: Nam | R64: 1996 | S64: =2018-R64:R212 -> 22 | T64: =VLOOKUP(S64,'Nhóm tuổi'!$A$10:$B$16,2) -> Dưới 25 tuổi | U64: 4.Cao đẳng | V64: Chưa | Z64: 5.Trung bình | AA64: A1.Làm công ăn lương | AC64: 11.Khác, ghi cụ thể | AD64: Môi trường Công Ích | AE64: Công ty phát triển công cộng và dịch vụ công ích TP Biên Hòa | AF64: 290 Đường 30/4, Phường Thanh Bình | AG64: Tp. Biên Hòa, Tỉnh Đồng Nai | AH64: Đồng Nai | AI64: 0613948668 | AK64: 48 | AL64: 2.Dưới 1 tháng | AM64: Quan hệ cá nhân | AO64: 2.Tốt | AP64: 2.Tốt | AQ64: 2.Liên quan | AR64: =VLOOKUP(AQ64,Sheet1!$F$21:$G$23,2) -> 2.Liên quan | AT64: 4. Từ 6-8 triệu | AU64: 4. Từ 200-300 người | AV64: Có | AW64: 1. Dưới 2 tuần | AX64: 2. Nhân viên chính thức | AZ64: Không | BM64: 2.Đồng ý | BN64: 2.Đồng ý | BO64: 2.Đồng ý | BP64: Trang thiết bị (máy móc, công cụ, v.v.) | BQ64: Cơ sở vật chất (phòng học, thư việnv.v.) | BR64: Thực tập/ thực hành tại doanh nghiệp | BT64: 2.Đồng ý | BU64: 2.Đồng ý
A65: 64 | B65: Trường Cao đẳng Lý Tự Trọng thành Phố Hồ Chí Minh | C65: 14000819 | D65: Dịp | E65: Chí | F65: Dũng | G65: 14CĐ - Ô1 | H65: Công nghệ Động lực | I65: Công nghệ Kỹ Thuật Ô Tô | J65: =VLOOKUP(I65,Sheet1!$A$20:$B$30,2) -> Công nghệ Kỹ Thuật Ô Tô | K65: 1.Cao đẳng nghề | L65: 416/6/11 Lạc Long Quân, Phường 15 | M65: Quận 11 | N65: Tp.hcm | O65: 01675998141 | P65: chidungkv@gmail.com | Q65: Nam | R65: 1996 | S65: =2018-R65:R213 -> 22 | T65: =VLOOKUP(S65,'Nhóm tuổi'!$A$10:$B$16,2) -> Dưới 25 tuổi | U65: 4.Cao đẳng | V65: Chưa | Z65: 3.Khá | AA65: B1.Vừa học vừa làm | AC65: 5. Sản xuất, phân phối điện, ga, nước | AE65: TNHH Ô TÔ ISUZU Việt Nam | AF65: 695 Quang Trung, Phường 8 | AG65: Quận Gò Vấp | AH65: Tp.hcm | AI65: 0983902578 | AJ65: ngocnguyen@isuzu-vietnam.com | AK65: 42.5 | AL65: 2.Dưới 1 tháng | AM65: Qua quảng cáo trên Internet | AO65: 2.Tốt | AP65: 3.Trung bình | AQ65: 1.Có liên quan | AR65: =VLOOKUP(AQ65,Sheet1!$F$21:$G$23,2) -> 1.Có liên quan | AT65: 3.Từ 4-6 triệu | AU65: 5. Trên 300 người | AV65: Không | AX65: 2. Nhân viên chính thức | AZ65: Có | BA65: Công nghệ ô tô | BB65: 1.Đại học | BI65: Học nâng cao trình độ | BJ65: Trường Đại học sư phạm Kỹ thuật TP.HCM | BK65: Công nghệ Ô tô | BL65: 1.Đại học | BM65: 2.Đồng ý | BN65: 3.Đồng ý phần nào | BO65: 2.Đồng ý | BP65: Trang thiết bị (máy móc, công cụ, v.v.) | BQ65: Cơ sở vật chất (phòng học, thư việnv.v.) | BR65: Kỹ năng thực hành của giáo viên | BT65: 2.Đồng ý | BU65: 2.Đồng ý
A66: 65 | B66: Trường Cao đẳng Lý Tự Trọng thành Phố Hồ Chí Minh | C66: 14000816 | D66: Trần | E66: Minh | F66: Cường | G66: 14CĐ - Ô1 | H66: Công nghệ Động lực | I66: Công nghệ Kỹ Thuật Ô Tô | J66: =VLOOKUP(I66,Sheet1!$A$20:$B$30,2) -> Công nghệ Kỹ Thuật Ô Tô | K66: 1.Cao đẳng nghề | L66: 84 Đường D11, Phường 13 | M66: Quận Tân Bình | N66: Tp.hcm | O66: 0965560905 | P66: tranminhcuongbd54@gmail.com | Q66: Nam | R66: 1996 | S66: =2018-R66:R214 -> 22 | T66: =VLOOKUP(S66,'Nhóm tuổi'!$A$10:$B$16,2) -> Dưới 25 tuổi | U66: 4.Cao đẳng | V66: Chưa | Z66: 5.Trung bình | AA66: B1.Vừa học vừa làm | AC66: 6.Thương mại & Dịch vụ (Bán buôn, bán lẻ) | AE66: Best car Việt Nam | AF66: 14 Phan Văn Trị, | AG66: Quận Gò Vấp | AH66: Tp.hcm | AI66: 02838105014 | AK66: 48 | AL66: 3. Từ 1-3 tháng | AM66: Quan hệ cá nhân | AO66: 3.Trung bình | AP66: 3.Trung bình | AQ66: 1.Có liên quan | AR66: =VLOOKUP(AQ66,Sheet1!$F$21:$G$23,2) -> 1.Có liên quan | AT66: 3.Từ 4-6 triệu | AU66: 3. Từ 10-200 người | AV66: Có | AW66: 2. Từ 2-4 tuần | AX66: 2. Nhân viên chính thức | AZ66: Có | BA66: Công nghệ ô tô | BB66: 1.Đại học | BI66: Học nâng cao trình độ | BJ66: Trường Đại học sư phạm Kỹ thuật TP.HCM | BK66: Công nghệ Ô tô | BL66: 1.Đại học | BM66: 1.Hoàn toàn đồng ý | BN66: 1.Hoàn toàn đồng ý | BO66: 1.Hoàn toàn đồng ý | BP66: Tài liệu,chương trình (sách, v.v.) | BQ66: Trang thiết bị (máy móc, công cụ, v.v.) | BR66: Thực tập/ thực hành tại doanh nghiệp | BT66: 2.Đồng ý | BU66: 2.Đồng ý
A67: 66 | B67: Trường Cao đẳng Lý Tự Trọng thành Phố Hồ Chí Minh | C67: 13D2050003 | D67: Nguyễn | E67: Hồ Minh | F67: Anh | G67: 14CĐ - Ô1 | H67: Công nghệ Động lực | I67: Công nghệ Kỹ Thuật Ô Tô | J67: =VLOOKUP(I67,Sheet1!$A$20:$B$30,2) -> Công nghệ Kỹ Thuật Ô Tô | K67: 1.Cao đẳng nghề | L67: 01 Đường Hùng Vương, Phường Xuân An, | M67: Long Khánh | N67: Đồng Nai | O67: 01649922730 | P67: minhanhtilover191295@gmail.com | Q67: Nam | R67: 1995 | S67: =2018-R67:R215 -> 23 | T67: =VLOOKUP(S67,'Nhóm tuổi'!$A$10:$B$16,2) -> Dưới 25 tuổi | U67: 4.Cao đẳng | V67: Chưa | Z67: 4.Trung bình khá | AA67: A1.Làm công ăn lương | AC67: 6.Thương mại & Dịch vụ (Bán buôn, bán lẻ) | AE67: Thế giới di động | AF67: 116 Hồ Thị Hương | AG67: Thị Xã Long Khánh | AH67: Đồng Nai | AI67: 18001060 | AJ67: http://www.thegioididong.com | AK67: 48 | AL67: 4.Trên 3 tháng | AM67: Qua quảng cáo trên Internet | AO67: 2.Tốt | AP67: 2.Tốt | AQ67: 3.Không liên quan | AR67: =VLOOKUP(AQ67,Sheet1!$F$21:$G$23,2) -> 3.Không liên quan | AT67: 4. Từ 6-8 triệu | AU67: 3. Từ 10-200 người | AV67: Có | AW67: 2. Từ 2-4 tuần | AX67: 2. Nhân viên chính thức | AZ67: Không | BM67: 2.Đồng ý | BN67: 2.Đồng ý | BO67: 1.Hoàn toàn đồng ý | BP67: Thực tập/ thực hành tại doanh nghiệp | BQ67: Phương pháp giảng dạy của giáo viên | BR67: Kỹ năng thực hành của giáo viên | BT67: 2.Đồng ý | BU67: 2.Đồng ý
A68: 67 | B68: Trường Cao đẳng Lý Tự Trọng thành Phố Hồ Chí Minh | C68: 14000817 | D68: Phạm | E68: Công | F68: Danh | G68: 14CĐ - Ô1 | H68: Công nghệ Động lực | I68: Công nghệ Kỹ Thuật Ô Tô | J68: =VLOOKUP(I68,Sheet1!$A$20:$B$30,2) -> Công nghệ Kỹ Thuật Ô Tô | K68: 1.Cao đẳng nghề | L68: 57/6K Ấp 3, Xã Xuân Thới Thượng | M68: Huyện Hóc Môn, | N68: Tp.hcm | O68: 01644930092 | P68: congdanh0987654321@gmail.com | Q68: Nam | R68: 1996 | S68: =2018-R68:R216 -> 22 | T68: =VLOOKUP(S68,'Nhóm tuổi'!$A$10:$B$16,2) -> Dưới 25 tuổi | U68: 4.Cao đẳng | V68: Chưa | Z68: 5.Trung bình | AA68: A1.Làm công ăn lương | AC68: 5. Sản xuất, phân phối điện, ga, nước | AE68: Mecederben- Việt nam | AF68: 693 Quang Trung, Phường 8 | AG68: Quận Gò Vấp | AH68: Tp.hcm | AI68: 02835889100 | AJ68: recruitment_mbv@daimler.com | AK68: 42 | AL68: 4.Trên 3 tháng | AM68: Quan hệ cá nhân | AO68: 2.Tốt | AP68: 2.Tốt | AQ68: 1.Có liên quan | AR68: =VLOOKUP(AQ68,Sheet1!$F$21:$G$23,2) -> 1.Có liên quan | AT68: 3.Từ 4-6 triệu | AU68: 5. Trên 300 người | AV68: Có | AW68: 2. Từ 2-4 tuần | AX68: 2. Nhân viên chính thức | AZ68: Không | BM68: 1.Hoàn toàn đồng ý | BN68: 2.Đồng ý | BO68: 2.Đồng ý | BP68: Tài liệu,chương trình (sách, v.v.) | BQ68: Thực tập/ thực hành tại doanh nghiệp | BR68: Kỹ năng thực hành của giáo viên | BT68: 1.Hoàn toàn đồng ý | BU68: 1.Hoàn toàn đồng ý
A69: 68 | B69: Trường Cao đẳng Lý Tự Trọng thành Phố Hồ Chí Minh | C69: 14000825 | D69: Trần | E69: Tiến | F69: Đạt | G69: 14CĐ - Ô1 | H69: Công nghệ Động lực | I69: Công nghệ Kỹ Thuật Ô Tô | J69: =VLOOKUP(I69,Sheet1!$A$20:$B$30,2) -> Công nghệ Kỹ Thuật Ô Tô | K69: 1.Cao đẳng nghề | L69: 49/18/1 KP9, Phường Tân Chánh Hiệp | M69: Quận 12 | N69: Tp.hcm | O69: 0902146145 | Q69: Nam | R69: 1996 | S69: =2018-R69:R217 -> 22 | T69: =VLOOKUP(S69,'Nhóm tuổi'!$A$10:$B$16,2) -> Dưới 25 tuổi | U69: 4.Cao đẳng | V69: Chưa | Z69: 5.Trung bình | AA69: A1.Làm công ăn lương | AC69: 5. Sản xuất, phân phối điện, ga, nước | AE69: Mecederben- Việt nam | AF69: 693 Quang Trung, Phường 8 | AG69: Quận Gò Vấp | AH69: Tp.hcm | AI69: 02835889100 | AJ69: recruitment_mbe@daimler.com | AK69: 42 | AL69: 4.Trên 3 tháng | AM69: Quan hệ cá nhân | AO69: 2.Tốt | AP69: 2.Tốt | AQ69: 2.Liên quan | AR69: =VLOOKUP(AQ69,Sheet1!$F$21:$G$23,2) -> 2.Liên quan | AT69: 4. Từ 6-8 triệu | AU69: 5. Trên 300 người | AV69: Có | AW69: 2. Từ 2-4 tuần | AX69: 2. Nhân viên chính thức | AZ69: Không | BM69: 2.Đồng ý | BN69: 2.Đồng ý | BO69: 2.Đồng ý | BP69: Tài liệu,chương trình (sách, v.v.) | BQ69: Thực tập/ thực hành tại doanh nghiệp | BR69: Kỹ năng thực hành của giáo viên | BT69: 1.Hoàn toàn đồng ý | BU69: 1.Hoàn toàn đồng ý
A70: 69 | B70: Trường Cao đẳng Lý Tự Trọng thành Phố Hồ Chí Minh | C70: 14001044 | D70: Phạm | E70: Đình | F70: Duy | G70: 14CĐ - Ô1 | H70: Công nghệ Động lực | I70: Công nghệ Kỹ Thuật Ô Tô | J70: =VLOOKUP(I70,Sheet1!$A$20:$B$30,2) -> Công nghệ Kỹ Thuật Ô Tô | K70: 1.Cao đẳng nghề | L70: Hồ Đắc Di, Phường Tây Thạnh | M70: Quận Tân Phú | N70: Tp.hcm | O70: 0973706971 | P70: phamdinhduy131@gmail.com | Q70: Nam | R70: 1993 | S70: =2018-R70:R218 -> 25 | T70: =VLOOKUP(S70,'Nhóm tuổi'!$A$10:$B$16,2) -> Từ 25 đến 30 tuổi | U70: 4.Cao đẳng | V70: Chưa | Z70: 5.Trung bình | AA70: B1.Vừa học vừa làm | AC70: 11.Khác, ghi cụ thể | AD70: Sữa chữa xe Ô Tô lưu Động | AE70: Tại gia | AF70: Hồ Đắc Di, Phường tây Thạnh | AG70: Quận Tân Phú | AH70: Tp.hcm | AI70: 0973706971 | AJ70: phamdinhduy131@gmail.com | AK70: 48 | AL70: 4.Trên 3 tháng | AM70: Quan hệ cá nhân | AO70: 2.Tốt | AP70: 2.Tốt | AQ70: 1.Có liên quan | AR70: =VLOOKUP(AQ70,Sheet1!$F$21:$G$23,2) -> 1.Có liên quan | AT70: 1.Dưới 2 triệu | AU70: 2. Từ 2-10người | AW70: 5.Trên 8 tuần | AX70: 1. Nhân viên trong thời gian thử việc (thợ học việc | AZ70: Có | BA70: Công nghệ Ô tô | BB70: 1.Đại học | BI70: Học nâng cao trình độ | BJ70: Trường Đại học sư phạm Kỹ thuật TP.HCM | BK70: Công nghệ Ô tô | BL70: 1.Đại học | BM70: 1.Hoàn toàn đồng ý | BN70: 2.Đồng ý | BO70: 2.Đồng ý | BP70: Tài liệu,chương trình (sách, v.v.) | BQ70: Thực tập/ thực hành tại doanh nghiệp | BR70: Kỹ năng thực hành của giáo viên | BT70: 1.Hoàn toàn đồng ý | BU70: 1.Hoàn toàn đồng ý
A71: 70 | B71: Trường Cao đẳng Lý Tự Trọng thành Phố Hồ Chí Minh | C71: 14001043 | D71: Nguyễn | E71: Ngọc | F71: Duy | G71: 14CĐ - Ô1 | H71: Công nghệ Động lực | I71: Công nghệ Kỹ Thuật Ô Tô | J71: =VLOOKUP(I71,Sheet1!$A$20:$B$30,2) -> Công nghệ Kỹ Thuật Ô Tô | K71: 1.Cao đẳng nghề | L71: 229 Nguyên Chí Thanh, Xã Tân Bình | M71: Tx. LaGi | N71: Tỉnh Bình Thuận | O71: 01682030235 | P71: nguyenngocduy224786@gmail.com | Q71: Nam | R71: 1996 | S71: =2018-R71:R219 -> 22 | T71: =VLOOKUP(S71,'Nhóm tuổi'!$A$10:$B$16,2) -> Dưới 25 tuổi | U71: 4.Cao đẳng | V71: Chưa | Z71: 5.Trung bình | AA71: C.Không tìm được việc làm | AR71: =VLOOKUP(AQ71,Sheet1!$F$21:$G$23,2) -> #N/A | BC71: Lý do khác | BD71: 1.CV liên quan đến nghề được đào tạo | BE71: Ngành nghề được đào tạo đang dư thừa lao động trên thị trường | BF71: Ngoại ngữ không đạt | BG71: Thiếu kinh nghiệm làm việc | BM71: 2.Đồng ý | BN71: 2.Đồng ý | BO71: 3.Đồng ý phần nào | BP71: Tài liệu,chương trình (sách, v.v.) | BQ71: Cơ sở vật chất (phòng học, thư việnv.v.) | BR71: Thực tập/ thực hành tại doanh nghiệp | BT71: 2.Đồng ý | BU71: 2.Đồng ý
A72: 71 | B72: Trường Cao đẳng Lý Tự Trọng thành Phố Hồ Chí Minh | C72: 14000860 | D72: Võ | E72: Đoàn | F72: Triều | G72: 14CĐ - Ô1 | H72: Công nghệ Động lực | I72: Công nghệ Kỹ Thuật Ô Tô | J72: =VLOOKUP(I72,Sheet1!$A$20:$B$30,2) -> Công nghệ Kỹ Thuật Ô Tô | K72: 1.Cao đẳng nghề | L72: 27 Nguyễn Thị Thập, Phường Tân Phú, | M72: Quận 7 | N72: Tp.hcm | O72: 0967039503 | P72: trieupingu060796@gmail | Q72: Nam | R72: 1996 | S72: =2018-R72:R220 -> 22 | T72: =VLOOKUP(S72,'Nhóm tuổi'!$A$10:$B$16,2) -> Dưới 25 tuổi | U72: 4.Cao đẳng | V72: Chưa | Z72: 4.Trung bình khá | AA72: C.Không tìm được việc làm | AR72: =VLOOKUP(AQ72,Sheet1!$F$21:$G$23,2) -> #N/A | BC72: Vì không tìm được việc làm đúng với ngành nghề được đào tạo | BD72: 1.CV liên quan đến nghề được đào tạo | BE72: Kỹ năng nghề không đáp ứng được yêu cầu công việc | BF72: Ngoại ngữ không đạt | BG72: Thiếu thông tin về việc làm | BM72: 2.Đồng ý | BN72: 2.Đồng ý | BO72: 2.Đồng ý | BP72: Tài liệu,chương trình (sách, v.v.) | BQ72: Trang thiết bị (máy móc, công cụ, v.v.) | BR72: Thực tập/ thực hành tại doanh nghiệp | BT72: 2.Đồng ý | BU72: 2.Đồng ý
A73: 72 | B73: Trường Cao đẳng Lý Tự Trọng thành Phố Hồ Chí Minh | C73: 14000859 | D73: Nguyễn | E73: Xuân | F73: Thiện | G73: 14CĐ - Ô1 | H73: Công nghệ Động lực | I73: Công nghệ Kỹ Thuật Ô Tô | J73: =VLOOKUP(I73,Sheet1!$A$20:$B$30,2) -> Công nghệ Kỹ Thuật Ô Tô | K73: 1.Cao đẳng nghề | L73: Hẻm 207 Lạc Long Quân, Phường 3 | M73: Quận 11 | N73: Tp.hcm | O73: 0969388751 | Q73: Nam | R73: 1994 | S73: =2018-R73:R221 -> 24 | T73: =VLOOKUP(S73,'Nhóm tuổi'!$A$10:$B$16,2) -> Dưới 25 tuổi | U73: 4.Cao đẳng | V73: Chưa | Z73: 5.Trung bình | AA73: D.Khác | AB73: Làm nghề tự do | AC73: 11.Khác, ghi cụ thể | AD73: Thi công công trình | AE73: Tại gia | AF73: Hẻm 207 Lạc Long Quân, Phường 3 | AG73: Quận 11 | AH73: Tp.hcm | AI73: 0969388751 | AK73: 20 | AL73: 3. Từ 1-3 tháng | AM73: Qua quảng cáo trên Internet | AO73: 5.Rất kém | AP73: 4.Kém | AQ73: 3.Không liên quan | AR73: =VLOOKUP(AQ73,Sheet1!$F$21:$G$23,2) -> 3.Không liên quan | AT73: 3.Từ 4-6 triệu | AU73: 2. Từ 2-10người | AV73: Có | AX73: 5. Vị trí khác | AY73: Có việc thì làm | AZ73: Không | BM73: 3.Đồng ý phần nào | BN73: 3.Đồng ý phần nào | BO73: 4.Không đồng ý | BP73: Tài liệu,chương trình (sách, v.v.) | BQ73: Thực tập/ thực hành tại doanh nghiệp | BR73: Phương pháp giảng dạy của giáo viên | BT73: 3.Đồng ý phần nào | BU73: 3.Đồng ý phần nào
A74: 73 | B74: Trường Cao đẳng Lý Tự Trọng thành Phố Hồ Chí Minh | C74: 14000858 | D74: Lê | E74: Công | F74: Thành | G74: 14CĐ - Ô1 | H74: Công nghệ Động lực | I74: Công nghệ Kỹ Thuật Ô Tô | J74: =VLOOKUP(I74,Sheet1!$A$20:$B$30,2) -> Công nghệ Kỹ Thuật Ô Tô | K74: 1.Cao đẳng nghề | L74: 111 Đào Duy Anh, Phường 9 | M74: Quận Phú Nhuận | N74: Tp.hcm | O74: 01697639925 | Q74: Nam | R74: 1996 | S74: =2018-R74:R222 -> 22 | T74: =VLOOKUP(S74,'Nhóm tuổi'!$A$10:$B$16,2) -> Dưới 25 tuổi | U74: 4.Cao đẳng | V74: Chưa | Z74: 5.Trung bình | AA74: C.Không tìm được việc làm | AR74: =VLOOKUP(AQ74,Sheet1!$F$21:$G$23,2) -> #N/A | BC74: Lý do khác | BD74: 3.Cả 2 công việc trên | BE74: Kỹ năng nghề không đáp ứng được yêu cầu công việc | BF74: Ngoại ngữ không đạt | BG74: Thiếu kinh nghiệm làm việc | BM74: 2.Đồng ý | BN74: 2.Đồng ý | BO74: 2.Đồng ý | BP74: Trang thiết bị (máy móc, công cụ, v.v.) | BQ74: Thực tập/ thực hành tại doanh nghiệp | BR74: Kỹ năng thực hành của giáo viên | BT74: 2.Đồng ý | BU74: 2.Đồng ý
A75: 74 | B75: Trường Cao đẳng Lý Tự Trọng thành Phố Hồ Chí Minh | C75: 14000857 | D75: Nguyễn | E75: Lê Minh | F75: Tân | G75: 14CĐ - Ô1 | H75: Công nghệ Động lực | I75: Công nghệ Kỹ Thuật Ô Tô | J75: =VLOOKUP(I75,Sheet1!$A$20:$B$30,2) -> Công nghệ Kỹ Thuật Ô Tô | K75: 1.Cao đẳng nghề | L75: 183/4 Quốc Lộ 1K, Phường Linh Xuân | M75: Quận Thủ Đức | N75: Tp.hcm | O75: 0979966549 | P75: minhtan239@gmail.com | Q75: Nam | R75: 1996 | S75: =2018-R75:R223 -> 22 | T75: =VLOOKUP(S75,'Nhóm tuổi'!$A$10:$B$16,2) -> Dưới 25 tuổi | U75: 4.Cao đẳng | V75: Chưa | Z75: 5.Trung bình | AA75: B2.Đang đi học | AR75: =VLOOKUP(AQ75,Sheet1!$F$21:$G$23,2) -> #N/A | BI75: Học nâng cao trình độ | BJ75: Trường Đại học sư phạm Kỹ thuật TP.HCM | BK75: Công nghệ Ô tô | BL75: 1.Đại học | BM75: 2.Đồng ý | BN75: 2.Đồng ý | BO75: 2.Đồng ý | BP75: Tài liệu,chương trình (sách, v.v.) | BQ75: Trang thiết bị (máy móc, công cụ, v.v.) | BR75: Phương pháp giảng dạy của giáo viên | BT75: 2.Đồng ý | BU75: 2.Đồng ý
A76: 75 | B76: Trường Cao đẳng Lý Tự Trọng thành Phố Hồ Chí Minh | C76: 14000829 | D76: Nguyễn | E76: Thái | F76: Hòa | G76: 14CĐ - Ô1 | H76: Công nghệ Động lực | I76: Công nghệ Kỹ Thuật Ô Tô | J76: =VLOOKUP(I76,Sheet1!$A$20:$B$30,2) -> Công nghệ Kỹ Thuật Ô Tô | K76: 1.Cao đẳng nghề | L76: 2/5B Trần Văn Mười, Xã Xuân Thới Đông 1, | M76: Huyện Hóc Môn | N76: Tp.hcm | O76: 0969240713 | P76: nguyenthaihoa2509@gmail | Q76: Nam | R76: 1996 | S76: =2018-R76:R224 -> 22 | T76: =VLOOKUP(S76,'Nhóm tuổi'!$A$10:$B$16,2) -> Dưới 25 tuổi | U76: 4.Cao đẳng | V76: Chưa | Z76: 5.Trung bình | AA76: A2.Tự SX-KD | AC76: 5. Sản xuất, phân phối điện, ga, nước | AE76: Tại gia | AF76: 2/5B Trần Văn Mười, Xuân Thới Đông 1 | AG76: Hốc Môn | AH76: Tp.hcm | AI76: 0969240713 | AJ76: nguyenthaihoa2509@gmail | AK76: 48 | AL76: 4.Trên 3 tháng | AM76: Quan hệ cá nhân | AO76: 2.Tốt | AP76: 2.Tốt | AQ76: 3.Không liên quan | AR76: =VLOOKUP(AQ76,Sheet1!$F$21:$G$23,2) -> 3.Không liên quan | AT76: 4. Từ 6-8 triệu | AU76: 2. Từ 2-10người | AV76: Có | AW76: 2. Từ 2-4 tuần | AX76: 2. Nhân viên chính thức | AZ76: Không | BM76: 2.Đồng ý | BN76: 2.Đồng ý | BO76: 2.Đồng ý | BP76: Cơ sở vật chất (phòng học, thư việnv.v.) | BQ76: Phương pháp giảng dạy của giáo viên | BT76: 2.Đồng ý | BU76: 2.Đồng ý
A77: 76 | B77: Trường Cao đẳng Lý Tự Trọng thành Phố Hồ Chí Minh | C77: 14000902 | D77: Nguyễn | E77: Quốc | F77: Quy | G77: 14CĐ - Ô2 | H77: Công nghệ Động lực | I77: Công nghệ Kỹ Thuật Ô Tô | J77: =VLOOKUP(I77,Sheet1!$A$20:$B$30,2) -> Công nghệ Kỹ Thuật Ô Tô | K77: 1.Cao đẳng nghề | L77: 145/9 Trương Văn Hải, Phường Tây Nhơn Phú B | M77: Quận 9 | N77: Tp.hcm | O77: 01672078060 | P77: nguyenquocquy96@gmail.com | Q77: Nam | R77: 1996 | S77: =2018-R77:R225 -> 22 | T77: =VLOOKUP(S77,'Nhóm tuổi'!$A$10:$B$16,2) -> Dưới 25 tuổi | U77: 4.Cao đẳng | V77: Chưa | Z77: 5.Trung bình | AA77: B1.Vừa học vừa làm | AC77: 5. Sản xuất, phân phối điện, ga, nước | AE77: Intel Việt Nam | AF77: Khu D1, Khu Công nghệ cao | AG77: Quận 9 | AH77: Tp.hcm | AK77: 48 | AL77: 4.Trên 3 tháng | AM77: Khác, ghi cụ thể | AN77: Trang tuyển dụng của công ty | AO77: 2.Tốt | AP77: 2.Tốt | AQ77: 2.Liên quan | AR77: =VLOOKUP(AQ77,Sheet1!$F$21:$G$23,2) -> 2.Liên quan | AT77: 3.Từ 4-6 triệu | AU77: 5. Trên 300 người | AV77: Không | AX77: 1. Nhân viên trong thời gian thử việc (thợ học việc | AZ77: Có | BA77: Quản lý sản xuất | BB77: 1.Đại học | BI77: Lý do khác | BJ77: Trường Đại học sư phạm Kỹ thuật TP.HCM | BK77: Công nghệ Ô tô | BL77: 1.Đại học | BM77: 2.Đồng ý | BN77: 2.Đồng ý | BO77: 2.Đồng ý | BP77: Thực tập/ thực hành tại doanh nghiệp | BQ77: Phương pháp giảng dạy của giáo viên | BR77: Kỹ năng thực hành của giáo viên | BT77: 2.Đồng ý | BU77: 2.Đồng ý
A78: 77 | B78: Trường Cao đẳng Lý Tự Trọng thành Phố Hồ Chí Minh | C78: 14000869 | D78: Huỳnh | E78: Trung | F78: Cang | G78: 14CĐ - Ô2 | H78: Công nghệ Động lực | I78: Công nghệ Kỹ Thuật Ô Tô | J78: =VLOOKUP(I78,Sheet1!$A$20:$B$30,2) -> Công nghệ Kỹ Thuật Ô Tô | K78: 1.Cao đẳng nghề | L78: 335 ĐT 789, Ấp Thuận An, Xã Chuông Mít | M78: Huyện Dương Minh Châu | N78: Tây Ninh | O78: 01688252133 | P78: huynhtrungcang1996@gmail.com | Q78: Nam | R78: 1996 | S78: =2018-R78:R226 -> 22 | T78: =VLOOKUP(S78,'Nhóm tuổi'!$A$10:$B$16,2) -> Dưới 25 tuổi | U78: 4.Cao đẳng | V78: Chưa | Z78: 5.Trung bình | AA78: A1.Làm công ăn lương | AC78: 6.Thương mại & Dịch vụ (Bán buôn, bán lẻ) | AE78: TOYOTA Tây Ninh | AF78: 50 Hoàng Lê Kha, Phường 3 | AG78: Tp. Tây Ninh | AH78: Tây Ninh | AI78: 18006565 | AJ78: info@toyotalythuongkiet.com.vn | AK78: 48 | AL78: 4.Trên 3 tháng | AM78: Quan hệ cá nhân | AO78: 2.Tốt | AP78: 2.Tốt | AQ78: 2.Liên quan | AR78: =VLOOKUP(AQ78,Sheet1!$F$21:$G$23,2) -> 2.Liên quan | AT78: 2. Từ 2-4 triệu | AU78: 3. Từ 10-200 người | AV78: Có | AW78: 5.Trên 8 tuần | AX78: 1. Nhân viên trong thời gian thử việc (thợ học việc | AZ78: Không | BM78: 2.Đồng ý | BN78: 2.Đồng ý | BO78: 2.Đồng ý | BP78: Tài liệu,chương trình (sách, v.v.) | BQ78: Trang thiết bị (máy móc, công cụ, v.v.) | BR78: Thực tập/ thực hành tại doanh nghiệp | BT78: 2.Đồng ý | BU78: 2.Đồng ý
A79: 78 | B79: Trường Cao đẳng Lý Tự Trọng thành Phố Hồ Chí Minh | C79: 14000874 | D79: Võ | E79: Hoàng | F79: Đại | G79: 14CĐ - Ô2 | H79: Công nghệ Động lực | I79: Công nghệ Kỹ Thuật Ô Tô | J79: =VLOOKUP(I79,Sheet1!$A$20:$B$30,2) -> Công nghệ Kỹ Thuật Ô Tô | K79: 1.Cao đẳng nghề | L79: 291/45 Trường Chinh, Phường 14 | M79: Quận Tân Bình | N79: Tp.hcm | O79: 09245336832 | P79: vohoangdai2322@gmail.com | Q79: Nam | R79: 1996 | S79: =2018-R79:R227 -> 22 | T79: =VLOOKUP(S79,'Nhóm tuổi'!$A$10:$B$16,2) -> Dưới 25 tuổi | U79: 4.Cao đẳng | V79: Chưa | Z79: 5.Trung bình | AA79: A1.Làm công ăn lương | AC79: 8.Thông tin liên lạc, Công nghệ thông tin | AE79: Tốc Hành .vn( Công ty cổ phần đầu tư và giao nhận SGDS) | AF79: 56 Yên Thế, Phường 2 | AG79: Quận Tân Bình | AH79: Tp.hcm | AI79: 1900636446 | AJ79: lienhe@tohanh.vn | AK79: 48 | AL79: 2.Dưới 1 tháng | AM79: Qua quảng cáo trên Internet | AO79: 2.Tốt | AP79: 2.Tốt | AQ79: 3.Không liên quan | AR79: =VLOOKUP(AQ79,Sheet1!$F$21:$G$23,2) -> 3.Không liên quan | AT79: 4. Từ 6-8 triệu | AU79: 3. Từ 10-200 người | AV79: Không | AX79: 2. Nhân viên chính thức | AZ79: Không | BM79: 2.Đồng ý | BN79: 2.Đồng ý | BO79: 2.Đồng ý | BP79: Trang thiết bị (máy móc, công cụ, v.v.) | BQ79: Cơ sở vật chất (phòng học, thư việnv.v.) | BR79: Thực tập/ thực hành tại doanh nghiệp | BT79: 2.Đồng ý | BU79: 2.Đồng ý
A80: 79 | B80: Trường Cao đẳng Lý Tự Trọng thành Phố Hồ Chí Minh | C80: 14001065 | D80: Trịnh | E80: Minh | F80: Nhiên | G80: 14CĐ - Ô2 | H80: Công nghệ Động lực | I80: Công nghệ Kỹ Thuật Ô Tô | J80: =VLOOKUP(I80,Sheet1!$A$20:$B$30,2) -> Công nghệ Kỹ Thuật Ô Tô | K80: 1.Cao đẳng nghề | L80: 96 Đường 30, Phường 6 | M80: Quận Gò Vấp | N80: Tp.hcm | O80: 0164570358 | P80: minhnhien593@gmail | Q80: Nam | R80: 1996 | S80: =2018-R80:R228 -> 22 | T80: =VLOOKUP(S80,'Nhóm tuổi'!$A$10:$B$16,2) -> Dưới 25 tuổi | U80: 4.Cao đẳng | V80: Chưa | Z80: 5.Trung bình | AA80: A2.Tự SX-KD | AC80: 11.Khác, ghi cụ thể | AD80: Hải sản | AE80: Kinh doanh tại nhà | AF80: 96 Đường 30, Phường 6 | AG80: Quận Gò Vấp | AH80: Tp.hcm | AI80: 01264570350 | AJ80: minhnhien593@gmail.com | AK80: 48 | AL80: 2.Dưới 1 tháng | AM80: Quan hệ cá nhân | AO80: 2.Tốt | AP80: 2.Tốt | AQ80: 2.Liên quan | AR80: =VLOOKUP(AQ80,Sheet1!$F$21:$G$23,2) -> 2.Liên quan | AT80: 4. Từ 6-8 triệu | AU80: 2. Từ 2-10người | AV80: Không | AX80: 5. Vị trí khác | AY80: Tự quản lý | AZ80: Không | BM80: 2.Đồng ý | BN80: 2.Đồng ý | BO80: 2.Đồng ý | BP80: Tài liệu,chương trình (sách, v.v.) | BQ80: Trang thiết bị (máy móc, công cụ, v.v.) | BR80: Thực tập/ thực hành tại doanh nghiệp | BT80: 2.Đồng ý | BU80: 2.Đồng ý
A81: 80 | B81: Trường Cao đẳng Lý Tự Trọng thành Phố Hồ Chí Minh | C81: 14000898 | D81: Đỗ | E81: Văn | F81: Phúc | G81: 14CĐ - Ô2 | H81: Công nghệ Động lực | I81: Công nghệ Kỹ Thuật Ô Tô | J81: =VLOOKUP(I81,Sheet1!$A$20:$B$30,2) -> Công nghệ Kỹ Thuật Ô Tô | K81: 1.Cao đẳng nghề | L81: 58 Đường Số 5, Phường Linh Trung, | M81: Quận Thủ Đức | N81: Tp.hcm | O81: 0981516194 | Q81: Nam | R81: 1996 | S81: =2018-R81:R229 -> 22 | T81: =VLOOKUP(S81,'Nhóm tuổi'!$A$10:$B$16,2) -> Dưới 25 tuổi | U81: 4.Cao đẳng | V81: Chưa | Z81: 5.Trung bình | AA81: C.Không tìm được việc làm | AR81: =VLOOKUP(AQ81,Sheet1!$F$21:$G$23,2) -> #N/A | BC81: Vì không tìm được việc làm đúng với ngành nghề được đào tạo | BD81: 3.Cả 2 công việc trên | BE81: Kỹ năng nghề không đáp ứng được yêu cầu công việc | BF81: Thiếu kinh nghiệm làm việc | BM81: 2.Đồng ý | BN81: 2.Đồng ý | BO81: 2.Đồng ý | BP81: Tài liệu,chương trình (sách, v.v.) | BQ81: Trang thiết bị (máy móc, công cụ, v.v.) | BT81: 2.Đồng ý | BU81: 2.Đồng ý
A82: 81 | B82: Trường Cao đẳng Lý Tự Trọng thành Phố Hồ Chí Minh | C82: 14000884 | D82: Lâm | E82: Sỉ | F82: Huy | G82: 14CĐ - Ô2 | H82: Công nghệ Động lực | I82: Công nghệ Kỹ Thuật Ô Tô | J82: =VLOOKUP(I82,Sheet1!$A$20:$B$30,2) -> Công nghệ Kỹ Thuật Ô Tô | K82: 1.Cao đẳng nghề | L82: Ấp Thới Hòa, Thành Thới A | M82: Huyện Mỏ Cày | N82: Tỉnh Bến Tre | O82: 01655098199 | P82: lamsihuy95@gmail.com | Q82: Nam | R82: 1995 | S82: =2018-R82:R230 -> 23 | T82: =VLOOKUP(S82,'Nhóm tuổi'!$A$10:$B$16,2) -> Dưới 25 tuổi | U82: 4.Cao đẳng | V82: Chưa | Z82: 5.Trung bình | AA82: C.Không tìm được việc làm | AR82: =VLOOKUP(AQ82,Sheet1!$F$21:$G$23,2) -> #N/A | BC82: Lý do khác | BD82: 3.Cả 2 công việc trên | BE82: Kỹ năng nghề không đáp ứng được yêu cầu công việc | BF82: Thiếu kinh nghiệm làm việc | BG82: Thiếu thông tin về việc làm | BM82: 2.Đồng ý | BN82: 2.Đồng ý | BO82: 3.Đồng ý phần nào | BP82: Trang thiết bị (máy móc, công cụ, v.v.) | BQ82: Cơ sở vật chất (phòng học, thư việnv.v.) | BR82: Thực tập/ thực hành tại doanh nghiệp | BT82: 2.Đồng ý | BU82: 2.Đồng ý
A83: 82 | B83: Trường Cao đẳng Lý Tự Trọng thành Phố Hồ Chí Minh | C83: 14000910 | D83: Trần H | E83: Hữu | F83: Tiền | G83: 14CĐ - Ô2 | H83: Công nghệ Động lực | I83: Công nghệ Kỹ Thuật Ô Tô | J83: =VLOOKUP(I83,Sheet1!$A$20:$B$30,2) -> Công nghệ Kỹ Thuật Ô Tô | K83: 1.Cao đẳng nghề | L83: 108/5 Phù Đổng, Phường Phù Đổng | M83: TP. Pleiku | N83: Tỉnh Gia Lai, Tp.PleiKu | O83: 01652095079 | P83: tiendolamit96@gmail.com | Q83: Nam | R83: 1996 | S83: =2018-R83:R231 -> 22 | T83: =VLOOKUP(S83,'Nhóm tuổi'!$A$10:$B$16,2) -> Dưới 25 tuổi | U83: 4.Cao đẳng | V83: Chưa | Z83: 5.Trung bình | AA83: A2.Tự SX-KD | AC83: 9.Giao thông vận tải | AE83: Tại nhà | AF83: 108/5 Phù Đổng, Phường Phù Đổng | AG83: TP. Pleiku | AH83: Gia Lai | AI83: 01652095079 | AK83: 48 | AL83: 2.Dưới 1 tháng | AM83: Quan hệ cá nhân | AO83: 2.Tốt | AP83: 2.Tốt | AQ83: 2.Liên quan | AR83: =VLOOKUP(AQ83,Sheet1!$F$21:$G$23,2) -> 2.Liên quan | AT83: 4. Từ 6-8 triệu | AU83: 2. Từ 2-10người | AV83: Không | AX83: 2. Nhân viên chính thức | AZ83: Không | BM83: 2.Đồng ý | BN83: 2.Đồng ý | BO83: 2.Đồng ý | BP83: Trang thiết bị (máy móc, công cụ, v.v.) | BQ83: Thực tập/ thực hành tại doanh nghiệp | BR83: Khác | BS83: Tăng thời gian học thực hành | BT83: 2.Đồng ý | BU83: 2.Đồng ý
A84: 83 | B84: Trường Cao đẳng Lý Tự Trọng thành Phố Hồ Chí Minh | C84: 14000914 | D84: Nguyễn | E84: Ngọc | F84: Triết | G84: 14CĐ - Ô2 | H84: Công nghệ Động lực | I84: Công nghệ Kỹ Thuật Ô Tô | J84: =VLOOKUP(I84,Sheet1!$A$20:$B$30,2) -> Công nghệ Kỹ Thuật Ô Tô | K84: 1.Cao đẳng nghề | L84: Hẽm 275 Ngô Gia Tự, Phường Thạnh Lộc | M84: Quận 12 | N84: Tp.hcm | O84: 01696711421 | Q84: Nam | R84: 1996 | S84: =2018-R84:R232 -> 22 | T84: =VLOOKUP(S84,'Nhóm tuổi'!$A$10:$B$16,2) -> Dưới 25 tuổi | U84: 4.Cao đẳng | V84: Chưa | Z84: 5.Trung bình | AA84: A1.Làm công ăn lương | AC84: 9.Giao thông vận tải | AE84: TaXi Tải Thành Hưng | AF84: 1942/1C Vườn Lài, Phường An Phú Đông | AG84: Quận 12 | AH84: Tp.hcm | AI84: 02854360360 | AJ84: htt://taxitaithanhhung.com | AK84: 48 | AL84: 2.Dưới 1 tháng | AM84: Quan hệ cá nhân | AO84: 2.Tốt | AP84: 2.Tốt | AQ84: 2.Liên quan | AR84: =VLOOKUP(AQ84,Sheet1!$F$21:$G$23,2) -> 2.Liên quan | AT84: 4. Từ 6-8 triệu | AU84: 5. Trên 300 người | AV84: Có | AW84: 3. Từ 4-6 tuần | AX84: 2. Nhân viên chính thức | AZ84: Có | BA84: Công nghệ kỹ thuật ô tô | BB84: 1.Đại học | BM84: 2.Đồng ý | BN84: 2.Đồng ý | BO84: 2.Đồng ý | BP84: Trang thiết bị (máy móc, công cụ, v.v.) | BQ84: Thực tập/ thực hành tại doanh nghiệp | BR84: Khác | BS84: Thiết kế các mô hình học tập | BT84: 2.Đồng ý | BU84: 2.Đồng ý
A85: 84 | B85: Trường Cao đẳng Lý Tự Trọng thành Phố Hồ Chí Minh | C85: 14000903 | D85: Đồng | E85: Phước | F85: Sơn | G85: 14CĐ - Ô2 | H85: Công nghệ Động lực | I85: Công nghệ Kỹ Thuật Ô Tô | J85: =VLOOKUP(I85,Sheet1!$A$20:$B$30,2) -> Công nghệ Kỹ Thuật Ô Tô | K85: 1.Cao đẳng nghề | M85: Dĩ An | N85: Bình Dương | O85: 016938822382 | Q85: Nam | R85: 1996 | S85: =2018-R85:R233 -> 22 | T85: =VLOOKUP(S85,'Nhóm tuổi'!$A$10:$B$16,2) -> Dưới 25 tuổi | U85: 4.Cao đẳng | V85: Chưa | Z85: 5.Trung bình | AA85: A1.Làm công ăn lương | AC85: 11.Khác, ghi cụ thể | AD85: Đồng sơn ô tô | AE85: Garage Thanh Châu | AK85: 48 | AL85: 2.Dưới 1 tháng | AM85: Quan hệ cá nhân | AO85: 2.Tốt | AP85: 2.Tốt | AQ85: 1.Có liên quan | AR85: =VLOOKUP(AQ85,Sheet1!$F$21:$G$23,2) -> 1.Có liên quan | AT85: 3.Từ 4-6 triệu | AU85: 2. Từ 2-10người | AV85: Có | AW85: 4. Từ 6-8 tuần | AX85: 2. Nhân viên chính thức | AZ85: Không | BM85: 2.Đồng ý | BN85: 2.Đồng ý | BO85: 2.Đồng ý | BP85: Tài liệu,chương trình (sách, v.v.) | BQ85: Trang thiết bị (máy móc, công cụ, v.v.) | BR85: Cơ sở vật chất (phòng học, thư việnv.v.) | BT85: 1.Hoàn toàn đồng ý | BU85: 2.Đồng ý
A86: 85 | B86: Trường Cao đẳng Lý Tự Trọng thành Phố Hồ Chí Minh | C86: 14001069 | D86: Phạm | E86: Trung | F86: Qúi | G86: 14CĐ - Ô2 | H86: Công nghệ Động lực | I86: Công nghệ Kỹ Thuật Ô Tô | J86: =VLOOKUP(I86,Sheet1!$A$20:$B$30,2) -> Công nghệ Kỹ Thuật Ô Tô | K86: 1.Cao đẳng nghề | L86: 14A, Đường 236 Tổ 6, Ấp Xoài Hòa Phú | M86: Huyện Củ Chi | N86: Tp.hcm | O86: 01689596948 | P86: trungqui1996@gmail.com | Q86: Nam | R86: 1996 | S86: =2018-R86:R234 -> 22 | T86: =VLOOKUP(S86,'Nhóm tuổi'!$A$10:$B$16,2) -> Dưới 25 tuổi | U86: 4.Cao đẳng | V86: Chưa | Z86: 5.Trung bình | AA86: D.Khác | AB86: Dân quân tự vệ | AC86: 11.Khác, ghi cụ thể | AD86: Dân quân tự vệ | AE86: Ban chỉ huy Quân sự Xã Hòa Phú | AF86: Xã Hòa Phú, Huyện Củ Chi | AG86: Huyện Củ Chi | AH86: Tp.hcm | AI86: 0283976143 | AK86: 48 | AL86: 4.Trên 3 tháng | AM86: Khác, ghi cụ thể | AN86: Thực hiện chế độ nghĩa vụ quân sự | AO86: 2.Tốt | AP86: 2.Tốt | AR86: =VLOOKUP(AQ86,Sheet1!$F$21:$G$23,2) -> #N/A | AT86: 2. Từ 2-4 triệu | AU86: 3. Từ 10-200 người | AV86: Không | AX86: 2. Nhân viên chính thức | AZ86: Không | BM86: 2.Đồng ý | BN86: 2.Đồng ý | BO86: 2.Đồng ý | BP86: Tài liệu,chương trình (sách, v.v.) | BQ86: Cơ sở vật chất (phòng học, thư việnv.v.) | BR86: Thực tập/ thực hành tại doanh nghiệp | BT86: 1.Hoàn toàn đồng ý | BU86: 2.Đồng ý
A87: 86 | B87: Trường Cao đẳng Lý Tự Trọng thành Phố Hồ Chí Minh | C87: 14000915 | D87: Bùi | E87: Vĩnh | F87: Trực | G87: 14CĐ - Ô2 | H87: Công nghệ Động lực | I87: Công nghệ Kỹ Thuật Ô Tô | J87: =VLOOKUP(I87,Sheet1!$A$20:$B$30,2) -> Công nghệ Kỹ Thuật Ô Tô | K87: 1.Cao đẳng nghề | L87: 152Lý Thánh Tông, Phường Hiệp Tân | M87: Quận Tân Phú | N87: Tp.hcm | O87: 0933957794 | Q87: Nam | R87: 1996 | S87: =2018-R87:R235 -> 22 | T87: =VLOOKUP(S87,'Nhóm tuổi'!$A$10:$B$16,2) -> Dưới 25 tuổi | U87: 4.Cao đẳng | V87: Chưa | Z87: 5.Trung bình | AA87: D.Khác | AB87: Đi học lái xe | AR87: =VLOOKUP(AQ87,Sheet1!$F$21:$G$23,2) -> #N/A | BC87: Lý do khác | BD87: 3.Cả 2 công việc trên | BE87: Ngành nghề được đào tạo đang dư thừa lao động trên thị trường | BF87: Ngoại ngữ không đạt | BG87: Trình độ máy tính không đạt | BM87: 2.Đồng ý | BN87: 2.Đồng ý | BO87: 2.Đồng ý | BP87: Thực tập/ thực hành tại doanh nghiệp | BT87: 2.Đồng ý | BU87: 2.Đồng ý
A88: 87 | B88: Trường Cao đẳng Lý Tự Trọng thành Phố Hồ Chí Minh | C88: 14000945 | D88: Nguyễn | E88: Hưu | F88: Năm | G88: 14CĐ - Ô3 | H88: Công nghệ Động lực | I88: Công nghệ Kỹ Thuật Ô Tô | J88: =VLOOKUP(I88,Sheet1!$A$20:$B$30,2) -> Công nghệ Kỹ Thuật Ô Tô | K88: 1.Cao đẳng nghề | L88: 368/239/245F Ấp 1, Đông Thạnh | M88: Huyện Hóc Môn | N88: Tp.hcm | O88: 0997122374 | Q88: Nam | R88: 1995 | S88: =2018-R88:R236 -> 23 | T88: =VLOOKUP(S88,'Nhóm tuổi'!$A$10:$B$16,2) -> Dưới 25 tuổi | U88: 4.Cao đẳng | V88: Chưa | Z88: 3.Khá | AA88: A2.Tự SX-KD | AC88: 6.Thương mại & Dịch vụ (Bán buôn, bán lẻ) | AD88: Buôn bán thực phẩm | AE88: Tại gia | AF88: 3 Nhà Vuông, Xã Trung Chánh | AG88: Huyện Hóc Môn | AH88: Tp.hcm | AI88: 0997122374 | AK88: 36 | AL88: 4.Trên 3 tháng | AM88: Quan hệ cá nhân | AO88: 2.Tốt | AP88: 2.Tốt | AQ88: 3.Không liên quan | AR88: =VLOOKUP(AQ88,Sheet1!$F$21:$G$23,2) -> 3.Không liên quan | AT88: 5. Trên 8 triệu | AU88: 2. Từ 2-10người | AV88: Không | AX88: 2. Nhân viên chính thức | AZ88: Không | BM88: 2.Đồng ý | BN88: 2.Đồng ý | BO88: 2.Đồng ý | BP88: Thực tập/ thực hành tại doanh nghiệp | BS88: Thời gian thực hành bắt đầu từ học kỳ 4 năm 2(Đối với hệ Cao đẳng 3 năm) | BT88: 2.Đồng ý | BU88: 2.Đồng ý
A89: 88 | B89: Trường Cao đẳng Lý Tự Trọng thành Phố Hồ Chí Minh | C89: 14000935 | D89: Huỳnh | E89: Trung | F89: Hiếu | G89: 14CĐ - Ô3 | H89: Công nghệ Động lực | I89: Công nghệ Kỹ Thuật Ô Tô | J89: =VLOOKUP(I89,Sheet1!$A$20:$B$30,2) -> Công nghệ Kỹ Thuật Ô Tô | K89: 1.Cao đẳng nghề | L89: Xóm 11, Thôn Lộc Thương, Xã Phước Sơn | M89: Huyện Tuy Phước | N89: Tỉnh Bình Định | O89: 0911907501 | Q89: Nam | R89: 1996 | S89: =2018-R89:R237 -> 22 | T89: =VLOOKUP(S89,'Nhóm tuổi'!$A$10:$B$16,2) -> Dưới 25 tuổi | U89: 4.Cao đẳng | V89: Chưa | Z89: 5.Trung bình | AA89: A1.Làm công ăn lương | AC89: 6.Thương mại & Dịch vụ (Bán buôn, bán lẻ) | AE89: Trung tâm Ô tô Văn Định | AF89: 140 Lê Đức Thọ, Phường Hải Cảng | AG89: Tp. Qui Nhơn, Tỉnh Bình Định | AH89: Bình Định | AK89: 48 | AL89: 4.Trên 3 tháng | AM89: Quan hệ cá nhân | AO89: 2.Tốt | AP89: 2.Tốt | AQ89: 1.Có liên quan | AR89: =VLOOKUP(AQ89,Sheet1!$F$21:$G$23,2) -> 1.Có liên quan | AT89: 2. Từ 2-4 triệu | AU89: 2. Từ 2-10người | AV89: Có | AW89: 4. Từ 6-8 tuần | AX89: 1. Nhân viên trong thời gian thử việc (thợ học việc | AZ89: Có | BA89: Thực hành Ô tô | BB89: 5.Khác | BM89: 2.Đồng ý | BN89: 3.Đồng ý phần nào | BO89: 3.Đồng ý phần nào | BP89: Tài liệu,chương trình (sách, v.v.) | BQ89: Trang thiết bị (máy móc, công cụ, v.v.) | BR89: Phương pháp giảng dạy của giáo viên | BT89: 2.Đồng ý | BU89: 2.Đồng ý
A90: 89 | B90: Trường Cao đẳng Lý Tự Trọng thành Phố Hồ Chí Minh | C90: 14000925 | D90: Võ | E90: Chí | F90: Công | G90: 14CĐ - Ô3 | H90: Công nghệ Động lực | I90: Công nghệ Kỹ Thuật Ô Tô | J90: =VLOOKUP(I90,Sheet1!$A$20:$B$30,2) -> Công nghệ Kỹ Thuật Ô Tô | K90: 1.Cao đẳng nghề | L90: 125/2 KP1, An Phú Đông | M90: Quận 12 | N90: Tp.hcm | O90: 0989051023 | P90: cong45000@gmail.com | Q90: Nam | R90: 1996 | S90: =2018-R90:R238 -> 22 | T90: =VLOOKUP(S90,'Nhóm tuổi'!$A$10:$B$16,2) -> Dưới 25 tuổi | U90: 4.Cao đẳng | V90: Chưa | Z90: 4.Trung bình khá | AA90: A1.Làm công ăn lương | AC90: 11.Khác, ghi cụ thể | AD90: Bảo trì sữa chữa Ô tô | AE90: Tại gia | AF90: 125/2 KPI, An Phú Đông | AG90: Quận 12 | AH90: Tp.hcm | AI90: 0989051023 | AJ90: cong45000@gmail.com | AK90: 48 | AL90: 1.Trước khi TN | AM90: Quan hệ cá nhân | AO90: 2.Tốt | AP90: 2.Tốt | AQ90: 1.Có liên quan | AR90: =VLOOKUP(AQ90,Sheet1!$F$21:$G$23,2) -> 1.Có liên quan | AT90: 4. Từ 6-8 triệu | AU90: 2. Từ 2-10người | AV90: Có | AW90: 2. Từ 2-4 tuần | AX90: 2. Nhân viên chính thức | AZ90: Không | BM90: 2.Đồng ý | BN90: 2.Đồng ý | BO90: 2.Đồng ý | BP90: Trang thiết bị (máy móc, công cụ, v.v.) | BQ90: Thực tập/ thực hành tại doanh nghiệp | BR90: Phương pháp giảng dạy của giáo viên | BT90: 2.Đồng ý | BU90: 2.Đồng ý
A91: 90 | B91: Trường Cao đẳng Lý Tự Trọng thành Phố Hồ Chí Minh | C91: 14000963 | D91: Nguyễn | E91: Ngọc | F91: Thiện | G91: 14CĐ - Ô3 | H91: Công nghệ Động lực | I91: Công nghệ Kỹ Thuật Ô Tô | J91: =VLOOKUP(I91,Sheet1!$A$20:$B$30,2) -> Công nghệ Kỹ Thuật Ô Tô | K91: 1.Cao đẳng nghề | L91: 1351 Phan Văn Trị, Phường 10 | M91: Quận Gò Vấp | N91: Tp.hcm | O91: 0977514144 | P91: thiennguyen210296@gmail.com | Q91: Nam | R91: 1996 | S91: =2018-R91:R239 -> 22 | T91: =VLOOKUP(S91,'Nhóm tuổi'!$A$10:$B$16,2) -> Dưới 25 tuổi | U91: 4.Cao đẳng | V91: Chưa | Z91: 5.Trung bình | AA91: A1.Làm công ăn lương | AC91: 6.Thương mại & Dịch vụ (Bán buôn, bán lẻ) | AE91: Đại phát Auto | AF91: 53 Cù Lao, Phường 2 | AG91: Quận Phú Nhuận | AH91: Tp.hcm | AI91: 0983112233 | AJ91: http://www.daiphatvienthong.vn | AK91: 48 | AL91: 4.Trên 3 tháng | AM91: Qua quảng cáo trên Internet | AO91: 3.Trung bình | AP91: 3.Trung bình | AQ91: 1.Có liên quan | AR91: =VLOOKUP(AQ91,Sheet1!$F$21:$G$23,2) -> 1.Có liên quan | AT91: 3.Từ 4-6 triệu | AU91: 2. Từ 2-10người | AV91: Có | AW91: 2. Từ 2-4 tuần | AX91: 1. Nhân viên trong thời gian thử việc (thợ học việc | AZ91: Không | BM91: 2.Đồng ý | BN91: 2.Đồng ý | BO91: 3.Đồng ý phần nào | BP91: Trang thiết bị (máy móc, công cụ, v.v.) | BQ91: Thực tập/ thực hành tại doanh nghiệp | BT91: 2.Đồng ý | BU91: 2.Đồng ý
A92: 91 | B92: Trường Cao đẳng Lý Tự Trọng thành Phố Hồ Chí Minh | C92: 14000978 | D92: Lê | E92: Vinh Anh | F92: Vũ | G92: 14CĐ - Ô3 | H92: Công nghệ Động lực | I92: Công nghệ Kỹ Thuật Ô Tô | J92: =VLOOKUP(I92,Sheet1!$A$20:$B$30,2) -> Công nghệ Kỹ Thuật Ô Tô | K92: 1.Cao đẳng nghề | L92: Ấp 4, Tiến Hưng | M92: TX. Đồng Xoài | N92: Bình Phước | O92: 01628068884 | Q92: Nam | R92: 1995 | S92: =2018-R92:R240 -> 23 | T92: =VLOOKUP(S92,'Nhóm tuổi'!$A$10:$B$16,2) -> Dưới 25 tuổi | U92: 4.Cao đẳng | V92: Chưa | Z92: 5.Trung bình | AA92: A2.Tự SX-KD | AC92: 6.Thương mại & Dịch vụ (Bán buôn, bán lẻ) | AE92: Tại gia | AF92: Ấp 4, Tiến Hưng | AG92: TX Đồng Xoài | AH92: Bình Phước | AI92: 01628068884 | AK92: 28 | AL92: 4.Trên 3 tháng | AM92: Quan hệ cá nhân | AO92: 3.Trung bình | AP92: 3.Trung bình | AQ92: 3.Không liên quan | AR92: =VLOOKUP(AQ92,Sheet1!$F$21:$G$23,2) -> 3.Không liên quan | AT92: 2. Từ 2-4 triệu | AU92: 2. Từ 2-10người | AV92: Không | AX92: 2. Nhân viên chính thức | AZ92: Không | BM92: 2.Đồng ý | BN92: 3.Đồng ý phần nào | BO92: 2.Đồng ý | BP92: Trang thiết bị (máy móc, công cụ, v.v.) | BQ92: Thực tập/ thực hành tại doanh nghiệp | BR92: Phương pháp giảng dạy của giáo viên | BT92: 2.Đồng ý | BU92: 2.Đồng ý
A93: 92 | B93: Trường Cao đẳng Lý Tự Trọng thành Phố Hồ Chí Minh | C93: 14000979 | D93: Trần | E93: Thanh | F93: Vũ | G93: 14CĐ - Ô3 | H93: Công nghệ Động lực | I93: Công nghệ Kỹ Thuật Ô Tô | J93: =VLOOKUP(I93,Sheet1!$A$20:$B$30,2) -> Công nghệ Kỹ Thuật Ô Tô | K93: 1.Cao đẳng nghề | L93: 334/20C Tô Hiến Thành, Phường 12 | M93: Quận 10 | N93: Tp.hcm | O93: 0986276734 | P93: vutranthanh618@gmail | Q93: Nam | R93: 1996 | S93: =2018-R93:R241 -> 22 | T93: =VLOOKUP(S93,'Nhóm tuổi'!$A$10:$B$16,2) -> Dưới 25 tuổi | U93: 4.Cao đẳng | V93: Chưa | Z93: 5.Trung bình | AA93: C.Không tìm được việc làm | AR93: =VLOOKUP(AQ93,Sheet1!$F$21:$G$23,2) -> #N/A | BC93: Lý do khác | BD93: 1.CV liên quan đến nghề được đào tạo | BE93: Kỹ năng nghề không đáp ứng được yêu cầu công việc | BF93: Ngoại ngữ không đạt | BG93: Thiếu kinh nghiệm làm việc | BM93: 2.Đồng ý | BN93: 4.Không đồng ý | BO93: 2.Đồng ý | BP93: Trang thiết bị (máy móc, công cụ, v.v.) | BQ93: Thực tập/ thực hành tại doanh nghiệp | BR93: Kỹ năng thực hành của giáo viên | BT93: 2.Đồng ý | BU93: 2.Đồng ý
A94: 93 | B94: Trường Cao đẳng Lý Tự Trọng thành Phố Hồ Chí Minh | C94: 14000960 | D94: Nguyễn | E94: Văn | F94: Thắng | G94: 14CĐ - Ô3 | H94: Công nghệ Động lực | I94: Công nghệ Kỹ Thuật Ô Tô | J94: =VLOOKUP(I94,Sheet1!$A$20:$B$30,2) -> Công nghệ Kỹ Thuật Ô Tô | K94: 1.Cao đẳng nghề | L94: Xóm 5, Thôn 3, Xã Lộc Châu | M94: TX. Bảo Lộc | N94: Lâm Đồng | O94: 01687714209 | Q94: Nam | R94: 1996 | S94: =2018-R94:R242 -> 22 | T94: =VLOOKUP(S94,'Nhóm tuổi'!$A$10:$B$16,2) -> Dưới 25 tuổi | U94: 4.Cao đẳng | V94: Chưa | Z94: 5.Trung bình | AA94: C.Không tìm được việc làm | AR94: =VLOOKUP(AQ94,Sheet1!$F$21:$G$23,2) -> #N/A | BC94: Vì không tìm được việc làm đúng với ngành nghề được đào tạo | BD94: 3.Cả 2 công việc trên | BE94: Ngoại ngữ không đạt | BF94: Thiếu kinh nghiệm làm việc | BG94: Thiếu thông tin về việc làm | BM94: 2.Đồng ý | BN94: 2.Đồng ý | BO94: 2.Đồng ý | BP94: Tài liệu,chương trình (sách, v.v.) | BQ94: Trang thiết bị (máy móc, công cụ, v.v.) | BR94: Thực tập/ thực hành tại doanh nghiệp | BT94: 2.Đồng ý | BU94: 2.Đồng ý
A95: 94 | B95: Trường Cao đẳng Lý Tự Trọng thành Phố Hồ Chí Minh | C95: 14001027 | D95: Trần | E95: Hoài | F95: Trọng | G95: 14CĐ - Ô4 | H95: Công nghệ Động lực | I95: Công nghệ Kỹ Thuật Ô Tô | J95: =VLOOKUP(I95,Sheet1!$A$20:$B$30,2) -> Công nghệ Kỹ Thuật Ô Tô | K95: 1.Cao đẳng nghề | L95: 126/21/1 Huỳnh Minh Phương, Ấp 4, Xã Tân Thạnh Đông | M95: Huyện Củ Chi, | N95: Tp.hcm | O95: 02899338040 | P95: tranhoaitrong95@gmail.com | Q95: Nam | R95: 1995 | S95: =2018-R95:R243 -> 23 | T95: =VLOOKUP(S95,'Nhóm tuổi'!$A$10:$B$16,2) -> Dưới 25 tuổi | U95: 4.Cao đẳng | V95: Chưa | Z95: 5.Trung bình | AA95: A1.Làm công ăn lương | AC95: 6.Thương mại & Dịch vụ (Bán buôn, bán lẻ) | AE95: Công ty Honda Auto Cộng Hòa | AF95: 18 Cộng Hòa, Phường 4, | AG95: Quận Tân Bình | AH95: Tp.hcm | AI95: 02838116868 | AJ95: www.hondaotoconghoa.com.vn | AK95: 48 | AL95: 1.Trước khi TN | AM95: Do trường giới thiệu | AO95: 3.Trung bình | AP95: 3.Trung bình | AQ95: 1.Có liên quan | AR95: =VLOOKUP(AQ95,Sheet1!$F$21:$G$23,2) -> 1.Có liên quan | AT95: 4. Từ 6-8 triệu | AU95: 3. Từ 10-200 người | AV95: Có | AW95: 3. Từ 4-6 tuần | AX95: 2. Nhân viên chính thức | AZ95: Có | BA95: Công nghệ ô tô | BB95: 1.Đại học | BM95: 2.Đồng ý | BN95: 3.Đồng ý phần nào | BO95: 2.Đồng ý | BP95: Trang thiết bị (máy móc, công cụ, v.v.) | BQ95: Cơ sở vật chất (phòng học, thư việnv.v.) | BT95: 2.Đồng ý | BU95: 2.Đồng ý
A96: 95 | B96: Trường Cao đẳng Lý Tự Trọng thành Phố Hồ Chí Minh | C96: 14000998 | D96: Nguyễn | E96: Quang | F96: Huy | G96: 14CĐ - Ô4 | H96: Công nghệ Động lực | I96: Công nghệ Kỹ Thuật Ô Tô | J96: =VLOOKUP(I96,Sheet1!$A$20:$B$30,2) -> Công nghệ Kỹ Thuật Ô Tô | K96: 1.Cao đẳng nghề | L96: 417 Quang Trung, | M96: Quận Gò Vấp | N96: Tp.hcm | O96: 0129500852 | Q96: Nam | R96: 1996 | S96: =2018-R96:R244 -> 22 | T96: =VLOOKUP(S96,'Nhóm tuổi'!$A$10:$B$16,2) -> Dưới 25 tuổi | U96: 4.Cao đẳng | V96: Chưa | Z96: 3.Khá | AA96: A1.Làm công ăn lương | AC96: 6.Thương mại & Dịch vụ (Bán buôn, bán lẻ) | AE96: Công ty Honda Auto Cộng Hòa | AF96: 18 Cộng Hòa, Phường 4, | AG96: Quận Tân Bình | AH96: Tp.hcm | AI96: 02838116868 | AJ96: www.hondaotoconghoa.com.vn | AK96: 48 | AL96: 1.Trước khi TN | AM96: Qua quảng cáo trên báo/đài/TV | AO96: 2.Tốt | AP96: 2.Tốt | AQ96: 2.Liên quan | AR96: =VLOOKUP(AQ96,Sheet1!$F$21:$G$23,2) -> 2.Liên quan | AT96: 5. Trên 8 triệu | AU96: 2. Từ 2-10người | AV96: Có | AW96: 4. Từ 6-8 tuần | AX96: 3.Kỹ thuật viên kiêm tổ trưởng | AZ96: Có | BA96: Công nghệ ô tô | BB96: 1.Đại học | BM96: 4.Không đồng ý | BN96: 4.Không đồng ý | BO96: 4.Không đồng ý | BP96: Trang thiết bị (máy móc, công cụ, v.v.) | BT96: 4.Không đồng ý | BU96: 4.Không đồng ý
A97: 96 | B97: Trường Cao đẳng Lý Tự Trọng thành Phố Hồ Chí Minh | C97: 14000986 | D97: Nguyễn | E97: Xuân | F97: Dũng | G97: 14CĐ - Ô4 | H97: Công nghệ Động lực | I97: Công nghệ Kỹ Thuật Ô Tô | J97: =VLOOKUP(I97,Sheet1!$A$20:$B$30,2) -> Công nghệ Kỹ Thuật Ô Tô | K97: 1.Cao đẳng nghề | L97: 9/14F Chử Đồng Tử, Phường 7 | M97: Quận Tân Bình | N97: Tp.hcm | O97: 01228685232 | P97: nguyenty04121996@gmail.com | Q97: Nam | R97: 1996 | S97: =2018-R97:R245 -> 22 | T97: =VLOOKUP(S97,'Nhóm tuổi'!$A$10:$B$16,2) -> Dưới 25 tuổi | U97: 4.Cao đẳng | V97: Chưa | Z97: 3.Khá | AA97: A1.Làm công ăn lương | AC97: 6.Thương mại & Dịch vụ (Bán buôn, bán lẻ) | AE97: Công ty Honda Auto Cộng Hòa | AF97: 18 Cộng Hòa, Phường 4, | AG97: Quận Tân Bình | AH97: Tp.hcm | AI97: 02838116868 | AJ97: www.hondaotoconghoa.com.vn | AK97: 48 | AL97: 2.Dưới 1 tháng | AM97: Quan hệ cá nhân | AO97: 2.Tốt | AP97: 4.Kém | AQ97: 1.Có liên quan | AR97: =VLOOKUP(AQ97,Sheet1!$F$21:$G$23,2) -> 1.Có liên quan | AT97: 3.Từ 4-6 triệu | AU97: 3. Từ 10-200 người | AV97: Có | AW97: 5.Trên 8 tuần | AX97: 1. Nhân viên trong thời gian thử việc (thợ học việc | AZ97: Có | BA97: Phiên dịch viên ( tiếng Hàn) | BB97: 3.Trung cấp | BM97: 2.Đồng ý | BN97: 2.Đồng ý | BO97: 3.Đồng ý phần nào | BP97: Trang thiết bị (máy móc, công cụ, v.v.) | BQ97: Cơ sở vật chất (phòng học, thư việnv.v.) | BR97: Kỹ năng thực hành của giáo viên | BT97: 2.Đồng ý | BU97: 3.Đồng ý phần nào
A98: 97 | B98: Trường Cao đẳng Lý Tự Trọng thành Phố Hồ Chí Minh | C98: 14001017 | D98: Trần | E98: Ngọc | F98: Thạch | G98: 14CĐ - Ô4 | H98: Công nghệ Động lực | I98: Công nghệ Kỹ Thuật Ô Tô | J98: =VLOOKUP(I98,Sheet1!$A$20:$B$30,2) -> Công nghệ Kỹ Thuật Ô Tô | K98: 1.Cao đẳng nghề | L98: 42/60/57 Hồ Đác Di, Phường Tây Thạnh | M98: Quận Tân Phú | N98: Tp.hcm | O98: 0965130958 | P98: trangngocthach1996@gmail.com | Q98: Nam | R98: 1996 | S98: =2018-R98:R246 -> 22 | T98: =VLOOKUP(S98,'Nhóm tuổi'!$A$10:$B$16,2) -> Dưới 25 tuổi | U98: 4.Cao đẳng | V98: Chưa | Z98: 5.Trung bình | AA98: B1.Vừa học vừa làm | AC98: 6.Thương mại & Dịch vụ (Bán buôn, bán lẻ) | AE98: Hon da Ô TÔ cộng hòa | AF98: 18 Cộng Hòa, | AG98: Quận Tân Bình | AH98: Tp.hcm | AI98: 02838116868 | AJ98: www.hondaotoconghoa.com.vn | AK98: 48 | AL98: 3. Từ 1-3 tháng | AM98: Quan hệ cá nhân | AO98: 3.Trung bình | AP98: 3.Trung bình | AQ98: 1.Có liên quan | AR98: =VLOOKUP(AQ98,Sheet1!$F$21:$G$23,2) -> 1.Có liên quan | AT98: 3.Từ 4-6 triệu | AU98: 3. Từ 10-200 người | AV98: Có | AW98: 2. Từ 2-4 tuần | AX98: 2. Nhân viên chính thức | AZ98: Có | BA98: Công nghệ ô tô | BB98: 1.Đại học | BI98: Học nâng cao trình độ | BJ98: Trường Đại học sư phạm Kỹ thuật TP.HCM | BK98: Công nghệ Ô tô | BL98: 1.Đại học | BM98: 2.Đồng ý | BN98: 2.Đồng ý | BO98: 2.Đồng ý | BP98: Tài liệu,chương trình (sách, v.v.) | BQ98: Trang thiết bị (máy móc, công cụ, v.v.) | BR98: Cơ sở vật chất (phòng học, thư việnv.v.) | BT98: 2.Đồng ý | BU98: 2.Đồng ý
A99: 98 | B99: Trường Cao đẳng Lý Tự Trọng thành Phố Hồ Chí Minh | C99: 14001007 | D99: Trần | E99: Hữu | F99: Nghĩa | G99: 14CĐ - Ô4 | H99: Công nghệ Động lực | I99: Công nghệ Kỹ Thuật Ô Tô | J99: =VLOOKUP(I99,Sheet1!$A$20:$B$30,2) -> Công nghệ Kỹ Thuật Ô Tô | K99: 1.Cao đẳng nghề | L99: Mỹ Hạnh Nam | M99: Huyện Đức Hòa | N99: Tỉnh Long An | O99: 01203976957 | P99: tranhuunghia995@gmail.com | Q99: Nam | R99: 1995 | S99: =2018-R99:R247 -> 23 | T99: =VLOOKUP(S99,'Nhóm tuổi'!$A$10:$B$16,2) -> Dưới 25 tuổi | U99: 4.Cao đẳng | V99: Chưa | Z99: 5.Trung bình | AA99: B2.Đang đi học | AR99: =VLOOKUP(AQ99,Sheet1!$F$21:$G$23,2) -> #N/A | BI99: Học nâng cao trình độ | BJ99: Trường Đại học Nông Lâm TP.HCM | BK99: Công nghệ Kỹ thuật Ô tô | BL99: 1.Đại học | BM99: 2.Đồng ý | BN99: 2.Đồng ý | BO99: 2.Đồng ý | BP99: Tài liệu,chương trình (sách, v.v.) | BQ99: Trang thiết bị (máy móc, công cụ, v.v.) | BR99: Thực tập/ thực hành tại doanh nghiệp | BT99: 2.Đồng ý | BU99: 2.Đồng ý
A100: 99 | B100: Trường Cao đẳng Lý Tự Trọng thành Phố Hồ Chí Minh | C100: 14001020 | D100: Dương | E100: Thái | F100: Thịnh | G100: 14CĐ - Ô4 | H100: Công nghệ Động lực | I100: Công nghệ Kỹ Thuật Ô Tô | J100: =VLOOKUP(I100,Sheet1!$A$20:$B$30,2) -> Công nghệ Kỹ Thuật Ô Tô | K100: 1.Cao đẳng nghề | L100: 26/6 Đường Số 2, Kp3, | M100: Quận Thủ Đức | N100: Tp.hcm | O100: 01647294249 | P100: duongthaithinh96@gmail.com | Q100: Nam | R100: 1996 | S100: =2018-R100:R248 -> 22 | T100: =VLOOKUP(S100,'Nhóm tuổi'!$A$10:$B$16,2) -> Dưới 25 tuổi | U100: 4.Cao đẳng | V100: Chưa | Z100: 5.Trung bình | AA100: A1.Làm công ăn lương | AC100: 6.Thương mại & Dịch vụ (Bán buôn, bán lẻ) | AE100: Côn ty TNHH Ô tô Quốc Tuấn | AF100: 07 Đại Lộ Bình Dương, Phường Bình Hưng Hòa | AG100: Thị Xã Thuận An | AH100: Tỉnh Bình Dương | AK100: 48 | AL100: 2.Dưới 1 tháng | AM100: Quan hệ cá nhân | AO100: 1.Rất tốt | AP100: 1.Rất tốt | AQ100: 1.Có liên quan | AR100: =VLOOKUP(AQ100,Sheet1!$F$21:$G$23,2) -> 1.Có liên quan | AT100: 5. Trên 8 triệu | AU100: 3. Từ 10-200 người | AV100: Có | AW100: 4. Từ 6-8 tuần | AX100: 2. Nhân viên chính thức | AZ100: Không | BM100: 1.Hoàn toàn đồng ý | BN100: 2.Đồng ý | BO100: 2.Đồng ý | BP100: Tài liệu,chương trình (sách, v.v.) | BQ100: Trang thiết bị (máy móc, công cụ, v.v.) | BR100: Cơ sở vật chất (phòng học, thư việnv.v.) | BT100: 1.Hoàn toàn đồng ý | BU100: 2.Đồng ý
...

Sheet options
B1: school | C1: gender | D1: employment | E1: employment after graduation | F1: jobfind | G1: salary | H1: timetraining | I1: vitri | J1: sector | K1: jobreason | L1: jobapply | M1: lydo | N1: improvement | Q1: yesno | R1: agreement | S1: perception | T1: rankcert | U1: Related | V1: Number | W1: level | X1: schooling | Y1: vt_level | Z1: vt_place | AA1: fe_cert | AB1: Yesno2
B2: 1.NI_CĐ Kỹ thuật Công nghệ LILAMA 2 | C2: Nam | D2: A1.Làm công ăn lương | E2: 1.Trước khi TN | F2: Do trường giới thiệu | G2: 1.Dưới 2 triệu | H2: 1. Dưới 2 tuần | I2: 1. Nhân viên trong thời gian thử việc (thợ học việc | J2: 1. Nông - lâm - ngư nghiệp | K2: Không tìm được việc làm -Could not find a job | L2: 1.CV liên quan đến nghề được đào tạo | M2: Ngành nghề được đào tạo đang dư thừa lao động trên thị trường | N2: Tài liệu,chương trình (sách, v.v.) | Q2: Có | R2: 1.Hoàn toàn đồng ý | S2: 1.Rất tốt | T2: 5.Trung bình | U2: 1.Có liên quan | V2: 1. 1 người | W2: 1.Đại học | X2: 1.Trung học cơ sở | Y2: 1.Sơ cấp nghề | Z2: 1.Trung tâm dạy nghề | AA2: 1.Đại học | AB2: Rồi
B3: 2.NI_CĐN Bách Nghệ Hải Phòng | C3: Nữ | D3: A2.Tự SX-KD | E3: 2.Dưới 1 tháng | F3: Do cơ quan dịch vụ việc làm | G3: 2. Từ 2-4 triệu | H3: 2. Từ 2-4 tuần | I3: 2. Nhân viên chính thức | J3: 2. Công nghiệp khai thác | K3: Đi học tiếp-further education | L3: 2.CV không liên quan đến nghề được đào tạo | M3: Kỹ năng nghề không đáp ứng được yêu cầu công việc | N3: Trang thiết bị (máy móc, công cụ, v.v.) | Q3: Không | R3: 2.Đồng ý | S3: 2.Tốt | T3: 4.Trung bình khá | U3: 2.Liên quan | V3: 2. Từ 2-10người | W3: 2.Cao đẳng | X3: 2.Trung học phổ thông | Y3: 2.Trung cấp nghề | Z3: 2.Trung cấp nghề | AA3: 2.Cao đẳng | AB3: Chưa
B4: 3.NI_CĐN Đồng Nai | D4: B1.Vừa học vừa làm | E4: 3. Từ 1-3 tháng | F4: Qua quảng cáo trên báo/đài/TV | G4: 3.Từ 4-6 triệu | H4: 3. Từ 4-6 tuần | I4: 3.Kỹ thuật viên kiêm tổ trưởng | J4: 3. Công nghiệp chế biến | K4: Khác, ghi cụ thể -other | L4: 3.Cả 2 công việc trên | M4: Ngoại ngữ không đạt | N4: Cơ sở vật chất (phòng học, thư việnv.v.) | R4: 3.Đồng ý phần nào | S4: 3.Trung bình | T4: 3.Khá | U4: 3.Không liên quan | V4: 3. Từ 10-200 người | W4: 3.Trung cấp | X4: 3.Trung cấp | Y4: 3.Cao đẳng nghề | Z4: 3.Cao đẳng nghề | AA4: 3.Trung cấp
B5: 4.NI_CĐN Công nghiệp Hải Phòng | D5: B2.Đang đi học | E5: 4.Trên 3 tháng | F5: Quan hệ cá nhân | G5: 4. Từ 6-8 triệu | H5: 4. Từ 6-8 tuần | I5: 4.Cán bộ quản lý (chuyên trách) | J5: 4. Xây dựng | M5: Trình độ máy tính không đạt | N5: Thực tập/ thực hành tại doanh nghiệp | R5: 4.Không đồng ý | S5: 4.Kém | T5: 2.Giỏi | V5: 4. Từ 200-300 người | W5: 4.Sơ cấp | X5: 4.Cao đẳng | Y5: 4.Khác | Z5: 4.Cơ sở dạy nghề khác | AA5: 4.Sơ cấp | AB5: Rồi/yes
B6: 5.NI_CĐ Cơ khí Nông nghiệp Vĩnh Phúc | D6: C.Không tìm được việc làm | F6: Qua quảng cáo trên Internet | G6: 5. Trên 8 triệu | H6: 5.Trên 8 tuần | I6: 5. Vị trí khác | J6: 5. Sản xuất, phân phối điện, ga, nước | M6: Thiếu kinh nghiệm làm việc | N6: Phương pháp giảng dạy của giáo viên | R6: 5.Hoàn toàn không đồng ý | S6: 5.Rất kém | T6: 1.Xuất sắc | V6: 5. Trên 300 người | W6: 5.Khác | X6: 5.Đại học | AA6: 5.Khác | AB6: Chưa/not yet
B7: 6.NI_CĐN Kỹ thuật Công nghệ Hà Nội | D7: D.Khác | F7: Hội chợ việc làm | J7: 6.Thương mại & Dịch vụ (Bán buôn, bán lẻ) | M7: Thiếu thông tin về việc làm | N7: Kỹ năng thực hành của giáo viên | X7: 6.Khác | AC7: :
B8: 7.NI_CĐN Hồ Chí Minh | F8: Khác, ghi cụ thể | J8: 7.Khách sạn, Nhà hàng và Lữ hành | M8: Lý do khác | N8: Khác | S8: Rất tốt/very good | X8: TN tiểu học | Y8: Sơ cấp nghề | Z8: Trung tâm dạy nghề/VT Center | AA8: Đại học/university | AC8: lydohocnghe
B9: 1.PVT_Trung cấp nghề Ninh Thuận | J9: 8.Thông tin liên lạc, Công nghệ thông tin | S9: Tốt/Good | T9: Trung bình/pass | X9: TN trung học cơ sở/lower secondary | Y9: Trung cấp nghề/secondary VT | Z9: Trung cấp nghề/Secondary VT School | AA9: Cao đẳng/college | AC9: Học nâng cao trình độ
B10: 2.PVT_Cao đẳng nghề công nghiệp Việt Bắc Vinacomin | D10: CapTD | J10: 9.Giao thông vận tải | Q10: Có/Yes | R10: Hoàn toàn đồng ý/strongly agree | S10: Trung bình/average | T10: Trung bình khá/pass plus | X10: TN/ trung học phổ thông/upper secondary | Y10: Cao đẳng nghề/technical college training | Z10: Cao đẳng nghề/VT College | AA10: Trung cấp/secondary | AC10: Học nghề mới do không tìm được việc làm theo nghề đã học
B11: 4.PVT_Cao đẳng nghề kinh tế kỹ thuật Bắc Ninh | H11: Dưới 2 tuần/<2 weeks | J11: 10.Giáo dục / đào tạo | Q11: Không/No | R11: Đồng ý/agree | S11: Kém/bad | T11: Khá/good | X11: TN cao đẳng/college | Y11: Giấy chứng nhận học nghề hướng nghiệp/job -guidance certificate | Z11: Cơ sở dạy nghề khác/Other training institution | AA11: Khác/other | AC11: Học nghề mới do muốn làm công việc khác với nghề đã học
B12: 3.PVT_Trường Cao đẳng nghề Long An | H12: 2-5 tuần/2-5 weeks | J12: 11.Khác, ghi cụ thể | M12: Ngành nghề được đào tạo đang dư thừa lao động trên thị trường | R12: Đồng ý phần nào/somewhat agree | S12: Rất kém/very bad | T12: Giỏi/very good | X12: TN đại học/university | Y12: Khác/other | AC12: Lý do khác
B13: 5.PVT_Cao đẳng nghề An Giang | H13: 1-2 tháng/1-2 months | R13: Không đồng ý/disagree | T13: Xuất sắc/excellent | X13: Khác/other
B14: 6.CG_Cơ điện Luyện Kim Thái Nguyên | H14: 2-5 tháng/2 – 5 months | R14: Hoàn toàn không đồng ý/ strongly disagree
B15: 7.CG_Kinh tế-Công nghệ LADEC | H15: Trên 5 tháng/> 5 months | M15: LydokoVL
B16: 8.CG_TCN KT-KT Công đoàn An Giang | D16: 1.Cao đẳng nghề | M16: Vì không tìm được bất cứ việc làm nào
B17: 9.CG_CĐN Cơ điện Xây dựng Bắc Ninh | D17: 2.Trung cấp nghề | I17: N) | J17: Giáo dục/đào tạo-Education/ training | M17: Vì không tìm được việc làm đúng với ngành nghề được đào tạo | R17: Tài liệu- learning materials
B18: 10.OI_CĐN Nguyễn Tất Thành | D18: 3. Sơ cấp nghề | I18: Nhân viên chính thức (đã được ký hợp đồng lao động) | J18: Xây dựng -construction | M18: Lý do khác | R18: Trang thiết bị-equipment
B19: 12.OI_CĐN Việt - Đức Nghệ An | I19: Kỹ thuật viên kiêm tổ trưởng (trưởng nhóm) làm việc | J19: Dịch vụ (KS, nhà hàng, ngân hàng)-other services | R19: Cơ sở vật chất-facilities
B20: 19.OI_CĐN Việt - Đức Vĩnh Phúc | I20: Cán bộ quản lý (chuyên trách) | J20: Cơ quan nhà nước -state office | R20: Trình độ sư phạm của giáo viên-teachers’ didactic qualification
B21: 13.OI_CĐN Việt - Đức Hà Tĩnh | M21: Đào tạo không đáp ứng yêu cầu công việc- training did not fit job needs | R21: Kiến thức lý thuyết chuyên môn của giáo viên- teachers’ specialized knowledge
B22: 18.OI_CĐ nghề Việt Đức Thái Nguyên | M22: Trình độ ngoại ngữ không đạt- lack of foreign language skills | R22: Kỹ năng thực hành của giáo viên
B23: 14.OI_CĐ Công nghiệp Thanh Hoá | M23: Trình độ máy tính không đạt - lack of computer skills | R23: Thực tập, thực hành tại cơ sở SXKD-internship / practical in-company training
B24: 15.OI_CĐ kỹ thuật công nghiệp Tp. Hồ Chí Minh | M24: Thiếu kinh nghiệm làm việc -lack of working experience
B25: 11.OI_CĐN Nha Trang | M25: Thiếu thông tin về việc làm -lack of information about the job
B26: 16.OI_ĐH SPKT Hưng Yên | M26: Khác, ghi cụ thể -other, please specify:
B27: 17.OI_ĐH SPKT Nam Định

Sheet plausibility
A1: age
A2: maximum age | B2: 40
A3: minimum age | B3: 14
A4: lower boundary | B4: =TODAY()-DATE(B3,1,1) -> 38186
A5: upper boundary | B5: =TODAY()-DATE(B2,1,1) -> 28690

Sheet gioi tính
A1: Giới tính | B1: Số lượng | C1: Tỉ lệ %
A2: Nam | B2: 137 | C2: 0.91946309
A3: Nữ | B3: 12 | C3: 0.080536913
A4: Tổng | B4: =SUM(B2:B3) -> 149 | C4: =SUM(C2:C3) -> 1
C16: 5

Sheet Nhóm tuổi
A1: Nhóm tuổi | B1: Số lượng HV Nam | C1: Tỉ lệ % HV Nam | D1: Số lượng HV Nữ | E1: Tỉ lệ % HV Nam
A3: Dưới 25 tuổi | B3: 134 | C3: 0.89932886 | D3: 12 | E3: 0.080536913
A4: Trên 30 tuổi | B4: 1 | C4: 0.0067114094 | E4: 0
A5: Từ 25 đến 30 tuổi | B5: 2 | C5: 0.013422819 | E5: 0
A6: Tổng | B6: 137 | C6: 0.91946309 | D6: 12 | E6: 0.080536913
A10: 21 | B10: Dưới 25 tuổi
A11: 22 | B11: Dưới 25 tuổi
A12: 23 | B12: Dưới 25 tuổi
A13: 24 | B13: Dưới 25 tuổi
A14: 25 | B14: Từ 25 đến 30 tuổi
A15: 26 | B15: Từ 25 đến 30 tuổi
A16: 36 | B16: Trên 30 tuổi

Sheet Cấp trình độ đào tạo
A1: Cấp trình độ | B1: Số lượng cấp trình độ | C1: Tỉ lệ % Cấp trình độ
A2: 1.Cao đẳng nghề | B2: 123 | C2: 0.82550336
A3: 2.Trung cấp nghề | B3: 26 | C3: 0.17449664
A4: Tổng | B4: =SUM(B2:B3) -> 149 | C4: =SUM(C2:C3) -> 1
