Workbook
Name ABC: options!$AD$1:$AD$4
Name agreement: options!$R$2:$R$6
Name CapTD: options!$D$17:$D$17
Name employment: options!$D$2:$D$7
Name employment_after_graduation: options!$E$2:$E$5
Name fe_cert: options!$AA$2:$AA$6
Name future_plans: options!$R$2:$R$3
Name gender: options!$C$2:$C$3
Name hierarchy: options!$I$2:$I$11
Name improvement: options!$N$2:$N$8
Name industry: options!$S$2:$S$8
Name job_training_dur: options!$H$2:$H$6
Name jobapply: options!$L$2:$L$4
Name jobfind: options!$F$2:$F$8
Name jobreason: options!$K$2:$K$4
Name level: options!$W$2:$W$6
Name lydo: options!$M$2:$M$8
Name lydohocnghe: options!$AC$9:$AC$12
Name LydokoVL: options!$M$16:$M$18
Name noacceptreason: options!$M$2:$M$8
Name number: options!$V$2:$V$6
Name perception: options!$S$2:$S$6
Name rankcert: options!$T$2:$T$6
Name related: options!$U$2:$U$4
Name salary: options!$G$2:$G$6
Name School: options!$B$2:$B$27
Name schooling: options!$X$2:$X$7
Name sector: options!$J$2:$J$12
Name Thời_gian_bắt_đầu_công_việc: 'Nhập liệu'!$AL$2
Name timetraining: options!$H$2:$H$6
Name University_of_Technical_Education_Hung_Yen: 'Hướng dẫn'!$B$5
Name vt_level: options!$Y$2:$Y$5
Name vt_place: options!$Z$2:$Z$5
Name yesno: options!$Q$2:$Q$3
Name yesno2: options!$AB$2:$AB$3

Sheet Hướng dẫn
A3: Mã Trường | B3: Xin ghi mã trường in trong cuốn Hướng dẫn tuyển sinh
B4: Xin lựa chọn tên trường trong ô dưới đây
B5: 2.NI_CĐN Bách Nghệ Hải Phòng
B9: Một số điểm lưu ý khi nhập liệu
B10: 1. Mã học viên là Mã đã được lưu trong hệ thống quản lý dữ liệu của nhà trường. Nếu chưa có thì nhà trường tự lấy mã
B11: 2. Phần nhập liệu đã được xây dựng để kiểm tra tính logic đối với các câu trả lời của phiếu
B12: Cụ thể là:nếu chọn "Chưa" ở câu 6 sẽ chuyển câu 11
B13: Nếu lựa chọn "Không đi làm" câu 11 sẽ chuyển sang câu 22
B14: Lựa chọn "Đi học tiếp" trong câu 22, sẽ chuyển sang câu 25…
B15: Và các câu khác
B16: Do đó: Không nhập liệu vào ô chuyển sang màu đỏ
B17: 3. Để nhập Ô ngày/tháng/năm sinh theo đúng thứ tự cần cài đặt lại định dạng Thời gian của máy tính thống qua các bước sau:
B18: Vào thanh Start, chọn Setting,
... B27: Các nội dung nhập liệu khác tương tự như trong phần nhập thông tin cơ bản

Sheet Sheet2
A2: Row Labels | B2: Số lượng Cấp trình độ | C2: Tỉ lệ % Cấp trình độ2
A3: 1.Cao đẳng nghề | B3: 123 | C3: 0.82550336
A4: 2.Trung cấp nghề | B4: 26 | C4: 0.17449664
A5: Grand Total | B5: 149 | C5: 1

Sheet Sheet1
A3: Row Labels
A4: 1.Có liên quan
A5: 2.Liên quan
A6: 3.Không liên quan
A7: (blank)
A8: Grand Total
A21: Công nghệ kỹ thuật Cơ khí | B21: Công nghệ kỹ thuật Cơ khí | F21: 1.Có liên quan | G21: 1.Có liên quan
A22: Công nghệ kỹ thuật nhiệt lanj | B22: Công nghệ kỹ thuật nhiệt lanj | F22: 2.Liên quan | G22: 2.Liên quan
A23: Công nghệ Kỹ Thuật Ô Tô | B23: Công nghệ Kỹ Thuật Ô Tô | F23: 3.Không liên quan | G23: 3.Không liên quan
A24: Công nghệ Mạng máy tính | B24: Công nghệ Mạng máy tính
A25: Công nghệ May | B25: Công nghệ May
A26: Công nghệ Ô Tô | B26: Công nghệ Kỹ Thuật Ô Tô
A27: Công nghệ Phần mềm | B27: Công nghệ Phần mềm
A28: Điện công nghiệp | B28: Điện công nghiệp
A29: Điện Dân Dụng | B29: Điện Dân Dụng
A30: Điện tử công nghiệp | B30: Điện tử công nghiệp

Sheet Nhập liệu
A1: STT | B1: Trường | C1: Mã Học Viên | D1: Họ | E1: Tên đệm | F1: Tên | G1: 2.Lớp | H1: 2.Khoa | I1: 2. Ngành/ Nghề đào tạo | J1: Chuẩn hóa nghề | K1: 2.Cấp trình độ | L1: 3.Địa chỉ -Số nhà/ đường phố | M1: 3.Quận-Huyện/ Xã - Phường | N1: 3.Tỉnh - Thành Phố | O1: Số ĐT | P1: Email | Q1: 4.Giới tính | R1: 5.NĂM SINH | S1: Tuổi | T1: Nhóm tuổi | U1: 6.Bằng TN cao nhất | V1: 7.Đã từng học nghề trước khi vào trường | W1: 7.1Bằng nghề cao nhất | X1: 7.2Học nghề ở đâu | Y1: 7.3 Số tháng học nghề | Z1: 8.Xếp loại tốt nghiệp | AA1: 9.Tình trạng việc làm | AB1: Tình trạng khác, cụ thể | AC1: 10.Lĩnh vực kinh doanh | AD1: 10.Ngành khác, nêu cụ thể | AE1: 11.Tên công ty | AF1: Địa chỉ công ty (Số nhà và phố) | AG1: Quận/ huyện | AH1: Tỉnh/TP | AI1: Số ĐT | AJ1: E-mail- Website | AK1: 12.Số giờ làm việc trong 1 tuần | AL1: 13.Thời gian bắt đầu công việc | AM1: 14.Cách thức tìm việc | AN1: Nếu chọn Khác, xin ghi cụ thể | AO1: 15.Đánh giá về Lý thuyết | AP1: 15.Đánh giá về Kỹ năng nghề | AQ1: Công việc liên quan đến nghề đào tạo | AR1: Chuẩn hóa công việc liên quan | AS1: 17.1 Thu nhập chính xác | AT1: 17.2 Mức lương | AU1: 18.Số người cùng làm việc trong công ty | AV1: 19.Đào tạo kèm cặp trong khi làm | AW1: 19.Thời gian đào tạo | AX1: 20.Vị trí công tác | AY1: Vị trí khác, ghi cụ thể | AZ1: 21.Nhu cầu học tiếp | BA1: 21.Tên nghề/kỹ năng muốn học | BB1: 21.Cấp trình độ muốn học tiếp | BC1: 22.Lý do không đi làm | BD1: 23.Công việc đã xin | BE1: 24.Lý do 1 | BF1: 24.Lý do 2 | BG1: 24.Lý do 3 | BH1: 24.Khác, cụ thể | BI1: 25.Lý do tiếp tục đi học? | BJ1: 26.Tên cơ sở đào tạo | BK1: 26.Ngành nghề đào tạo | BL1: 26.Cấp trình độ của khoá học | BM1: 27.Đánh giá trình độ giáo viên | BN1: 28.Đánh giá giáo trình và nội dung | BO1: 29.Đánh giá về mức độ đáp ứng | BP1: 30.Lĩnh vực cần được cải tiến nhất 1 | BQ1: 30.Lĩnh vực cần được cải tiến thứ 2 | BR1: 30.Lĩnh vực cần được cải tiến thứ 3 | BS1: 30. Lĩnh vực khác, cụ thể | BT1: 31.Đánh giá về danh tiếng cơ sở đào tạo | BU1: 32.Đánh giá mức độ hài lòng về chất lượng đào tạo
A2: 1 | B2: Trường Cao đẳng Lý Tự Trọng thành Phố Hồ Chí Minh | C2: 14000645 | D2: Đặng | F2: Hùng | G2: 14CĐ - CK1 | H2: Công nghệ Cơ khí | I2: Công nghệ kỹ thuật Cơ khí | J2: =VLOOKUP(I2,Sheet1!$A$20:$B$30,2) -> Công nghệ kỹ thuật Cơ khí | K2: 1.Cao đẳng nghề | L2: 194 Bàu Cát, | M2: Quận Tân Bình | N2: Tp.hcm | O2: 01657255832 | P2: hungo99996@gmail.com | Q2: Nam | R2: 1996 | S2: =2018-R2:R150 -> 22 | T2: =VLOOKUP(S2,'Nhóm tuổi'!$A$10:$B$16,2) -> Dưới 25 tuổi | U2: 4.Cao đẳng | V2: Chưa | Z2: 5.Trung bình | AA2: A1.Làm công ăn lương | AC2: 5. Sản xuất, phân phối điện, ga, nước | AE2: TNHHTBM Minh Phát | AF2: 3A/7 Nguyễn Cửa Phú, | AG2: Quận Bình Chánh | AH2: Tp.hcm | AI2: 2838770057 | AJ2: http://www.tbm.com.vn | AK2: 48 | AL2: 2.Dưới 1 tháng | AM2: Quan hệ cá nhân | AO2: 2.Tốt | AP2: 2.Tốt | AQ2: 1.Có liên quan | AR2: =VLOOKUP(AQ2,Sheet1!$F$21:$G$23,2) -> 1.Có liên quan | AT2: 4. Từ 6-8 triệu | AU2: 3. Từ 10-200 người | AV2: Có | AW2: 2. Từ 2-4 tuần | AX2: 2. Nhân viên chính thức | AZ2: Có | BA2: Công nghệ kỹ thuật cơ khí | BB2: 1.Đại học | BI2: Học nâng cao trình độ | BJ2: Truường Đại học sư phạm Kỹ thuật Tp.HCM | BK2: CN Kỹ thuật Cơ khí | BL2: 1.Đại học | BM2: 2.Đồng ý | BN2: 2.Đồng ý | BO2: 2.Đồng ý | BP2: Tài liệu,chương trình (sách, v.v.) | BQ2: Trang thiết bị (máy móc, công cụ, v.v.) | BR2: Cơ sở vật chất (phòng học, thư việnv.v.) | BT2: 2.Đồng ý | BU2: 2.Đồng ý
A3: 2 | B3: Trường Cao đẳng Lý Tự Trọng thành Phố Hồ Chí Minh | C3: 14000662 | D3: Trần | E3: Văn | F3: Nhựt | G3: 14CĐ - CK1 | H3: Công nghệ Cơ khí | I3: Công nghệ kỹ thuật Cơ khí | J3: =VLOOKUP(I3,Sheet1!$A$20:$B$30,2) -> Công nghệ kỹ thuật Cơ khí | K3: 1.Cao đẳng nghề | L3: Đường Dương Quảng Hàm, Phường 5 | M3: Quận Gò Vấp | N3: Tp.hcm | O3: 1698981118 | Q3: Nam | R3: 1996 | S3: =2018-R3:R151 -> 22 | T3: =VLOOKUP(S3,'Nhóm tuổi'!$A$10:$B$16,2) -> Dưới 25 tuổi | U3: 4.Cao đẳng | V3: Chưa | Z3: 5.Trung bình | AA3: B1.Vừa học vừa làm | AC3: 5. Sản xuất, phân phối điện, ga, nước | AK3: 48 | AL3: 1.Trước khi TN | AM3: Do trường giới thiệu | AO3: 2.Tốt | AP3: 2.Tốt | AQ3: 1.Có liên quan | AR3: =VLOOKUP(AQ3,Sheet1!$F$21:$G$23,2) -> 1.Có liên quan | AT3: 3.Từ 4-6 triệu | AU3: 3. Từ 10-200 người | AV3: Không | AW3: 2. Từ 2-4 tuần | AX3: 2. Nhân viên chính thức | AZ3: Có | BA3: Công nghệ kỹ thuật cơ khí | BB3: 1.Đại học | BI3: Học nâng cao trình độ | BJ3: Truường Đại học sư phạm Kỹ thuật Tp.HCM | BK3: CN Kỹ thuật Cơ khí | BL3: 1.Đại học | BM3: 2.Đồng ý | BN3: 2.Đồng ý | BO3: 2.Đồng ý | BP3: Trang thiết bị (máy móc, công cụ, v.v.) | BQ3: Cơ sở vật chất (phòng học, thư việnv.v.) | BR3: Thực tập/ thực hành tại doanh nghiệp | BT3: 2.Đồng ý | BU3: 2.Đồng ý
A4: 3 | B4: Trường Cao đẳng Lý Tự Trọng thành Phố Hồ Chí Minh | C4: 14000633 | D4: Đặng | E4: Hữu | F4: Cảnh | G4: 14CĐ - CK1 | H4: Công nghệ Cơ khí | I4: Công nghệ kỹ thuật Cơ khí | J4: =VLOOKUP(I4,Sheet1!$A$20:$B$30,2) -> Công nghệ kỹ thuật Cơ khí | K4: 1.Cao đẳng nghề | L4: 105/363 Mũi Lớn 2, Phường Tân An Hội | M4: Huyện Củ Chi | N4: Tp.hcm | O4: 01676791293 | Q4: Nam | R4: 1996 | S4: =2018-R4:R152 -> 22 | T4: =VLOOKUP(S4,'Nhóm tuổi'!$A$10:$B$16,2) -> Dưới 25 tuổi | U4: 4.Cao đẳng | V4: Chưa | Z4: 5.Trung bình | AA4: B1.Vừa học vừa làm | AC4: 11.Khác, ghi cụ thể | AD4: Công nghệ Chế tạo | AE4: Công ty TNHH Máy và sản xuất thép việt | AF4: 86/6D Đường Dương Công Khi, Xã Xuân Thới Sơn | AG4: Hốc Môn | AH4: Tp.hcm | AI4: 028 62598102 | AJ4: http://www.vietsteel.com.vn | AK4: 48 | AL4: 4.Trên 3 tháng | AM4: Quan hệ cá nhân | AO4: 2.Tốt | AP4: 2.Tốt | AQ4: 1.Có liên quan | AR4: =VLOOKUP(AQ4,Sheet1!$F$21:$G$23,2) -> 1.Có liên quan | AT4: 3.Từ 4-6 triệu | AU4: 3. Từ 10-200 người | AV4: Có | AW4: 2. Từ 2-4 tuần | AX4: 1. Nhân viên trong thời gian thử việc (thợ học việc | AZ4: Không | BB4: 1.Đại học | BM4: 2.Đồng ý | BN4: 2.Đồng ý | BO4: 2.Đồng ý | BP4: Trang thiết bị (máy móc, công cụ, v.v.) | BQ4: Thực tập/ thực hành tại doanh nghiệp | BR4: Phương pháp giảng dạy của giáo viên | BT4: 2.Đồng ý | BU4: 2.Đồng ý
A5: 4 | B5: Trường Cao đẳng Lý Tự Trọng thành Phố Hồ Chí Minh | C5: 14000769 | D5: Trương | E5: Ngọc | F5: Dũng | G5: 14CĐ - CK1 | H5: Công nghệ Cơ khí | I5: Công nghệ kỹ thuật Cơ khí | J5: =VLOOKUP(I5,Sheet1!$A$20:$B$30,2) -> Công nghệ kỹ thuật Cơ khí | K5: 1.Cao đẳng nghề | L5: Thôn 2, Tân Phúc | M5: Huyện Hàm Tân | N5: Bình Thuận | O5: 0975428945 | Q5: Nam | R5: 1995 | S5: =2018-R5:R153 -> 23 | T5: =VLOOKUP(S5,'Nhóm tuổi'!$A$10:$B$16,2) -> Dưới 25 tuổi | U5: 4.Cao đẳng | V5: Chưa | Z5: 5.Trung bình | AA5: A2.Tự SX-KD | AC5: 11.Khác, ghi cụ thể | AD5: Cơ khí nông nghiệp | AE5: Tại gia | AF5: Thôn 2, Tân Phúc | AG5: Hàm tân | AH5: Bình Thuận | AI5: 0975428945 | AK5: 48 | AL5: 2.Dưới 1 tháng | AM5: Quan hệ cá nhân | AO5: 2.Tốt | AP5: 2.Tốt | AQ5: 1.Có liên quan | AR5: =VLOOKUP(AQ5,Sheet1!$F$21:$G$23,2) -> 1.Có liên quan | AT5: 4. Từ 6-8 triệu | AU5: 3. Từ 10-200 người | AV5: Không | AX5: 2. Nhân viên chính thức | AZ5: Không | BB5: 1.Đại học | BM5: 2.Đồng ý | BN5: 2.Đồng ý | BO5: 2.Đồng ý | BP5: Trang thiết bị (máy móc, công cụ, v.v.) | BQ5: Thực tập/ thực hành tại doanh nghiệp | BR5: Khác | BS5: Đầu tư nhiều cho lĩnh vực tự động hóa, thủy lực | BT5: 2.Đồng ý | BU5: 2.Đồng ý
A6: 5 | B6: Trường Cao đẳng Lý Tự Trọng thành Phố Hồ Chí Minh | C6: 13D2010274 | D6: Nguyễn | E6: Nhật | F6: Duy | G6: 14CĐ - CK1 | H6: Công nghệ Cơ khí | I6: Công nghệ kỹ thuật Cơ khí | J6: =VLOOKUP(I6,Sheet1!$A$20:$B$30,2) -> Công nghệ kỹ thuật Cơ khí | K6: 1.Cao đẳng nghề | L6: 202A Vĩnh Bình A, | M6: Vĩnh Thạnh, Huyện Lấp Vò | N6: Đồng Tháp | O6: 01225898995 | Q6: Nam | R6: 1995 | S6: =2018-R6:R154 -> 23 | T6: =VLOOKUP(S6,'Nhóm tuổi'!$A$10:$B$16,2) -> Dưới 25 tuổi | U6: 4.Cao đẳng | V6: Chưa | Z6: 5.Trung bình | AA6: D.Khác | AB6: Hợp tác lao động tại Nhật | AC6: 11.Khác, ghi cụ thể | AD6: Cơ khí tự động | AE6: Haindeco SaiGon | AF6: 75A Nguyễn Sỹ Sách, Phường 15 | AG6: Quận Tân Bình | AH6: Tp.hcm | AI6: 02862939539 | AJ6: haindesaigon.com | AK6: 48 | AL6: 4.Trên 3 tháng | AM6: Qua quảng cáo trên Internet | AO6: 2.Tốt | AP6: 2.Tốt | AQ6: 2.Liên quan | AR6: =VLOOKUP(AQ6,Sheet1!$F$21:$G$23,2) -> 2.Liên quan | AT6: 5. Trên 8 triệu | AU6: 2. Từ 2-10người | AV6: Có | AW6: 5.Trên 8 tuần | AX6: 1. Nhân viên trong thời gian thử việc (thợ học việc | AZ6: Không | BB6: 1.Đại học | BM6: 2.Đồng ý | BN6: 2.Đồng ý | BO6: 2.Đồng ý | BP6: Tài liệu,chương trình (sách, v.v.) | BQ6: Trang thiết bị (máy móc, công cụ, v.v.) | BR6: Thực tập/ thực hành tại doanh nghiệp | BT6: 2.Đồng ý | BU6: 2.Đồng ý
A7: 6 | B7: Trường Cao đẳng Lý Tự Trọng thành Phố Hồ Chí Minh | C7: 13D2010036 | D7: Nguyễn | E7: Vĩnh | F7: Đạt | G7: 14CĐ - CK1 | H7: Công nghệ Cơ khí | I7: Công nghệ kỹ thuật Cơ khí | J7: =VLOOKUP(I7,Sheet1!$A$20:$B$30,2) -> Công nghệ kỹ thuật Cơ khí | K7: 1.Cao đẳng nghề | L7: 945/66 Thống Nhất, Phường 16 | M7: Quận Gò Vấp | N7: Tp.hcm | O7: 0934722310 | Q7: Nam | R7: 1995 | S7: =2018-R7:R155 -> 23 | T7: =VLOOKUP(S7,'Nhóm tuổi'!$A$10:$B$16,2) -> Dưới 25 tuổi | U7: 4.Cao đẳng | V7: Chưa | Z7: 5.Trung bình | AA7: D.Khác | AB7: Phụ gia đình | AC7: 11.Khác, ghi cụ thể | AD7: Vui chơi, giải trí | AE7: Tại gia | AF7: 945/66 Thống Nhất, Phường 16 | AG7: Quận Gò Vấp | AH7: Tp.hcm | AI7: 0934722310 | AK7: 48 | AL7: 4.Trên 3 tháng | AM7: Quan hệ cá nhân | AO7: 2.Tốt | AP7: 2.Tốt | AQ7: 3.Không liên quan | AR7: =VLOOKUP(AQ7,Sheet1!$F$21:$G$23,2) -> 3.Không liên quan | AT7: 3.Từ 4-6 triệu | AU7: 2. Từ 2-10người | AV7: Không | AX7: 2. Nhân viên chính thức | AZ7: Không | BM7: 2.Đồng ý | BN7: 2.Đồng ý | BO7: 2.Đồng ý | BP7: Tài liệu,chương trình (sách, v.v.) | BQ7: Thực tập/ thực hành tại doanh nghiệp | BT7: 2.Đồng ý | BU7: 2.Đồng ý
A8: 7 | B8: Trường Cao đẳng Lý Tự Trọng thành Phố Hồ Chí Minh | C8: 14000659 | D8: Bùi | E8: Thị | F8: Nguyệt | G8: 14CĐ - CK1 | H8: Công nghệ Cơ khí | I8: Công nghệ kỹ thuật Cơ khí | J8: =VLOOKUP(I8,Sheet1!$A$20:$B$30,2) -> Công nghệ kỹ thuật Cơ khí | K8: 1.Cao đẳng nghề | L8: F4/29X Ấp 6C, Vĩnh Lộc A, | M8: Huyện Bình Chánh | N8: Tp.hcm | O8: 01657367744 | P8: buinguyet2109@gmail.com | Q8: Nữ | R8: 1995 | S8: =2018-R8:R156 -> 23 | T8: =VLOOKUP(S8,'Nhóm tuổi'!$A$10:$B$16,2) -> Dưới 25 tuổi | U8: 4.Cao đẳng | V8: Chưa | Z8: 3.Khá | AA8: A1.Làm công ăn lương | AC8: 11.Khác, ghi cụ thể | AD8: Kỹ thuật xử lý Bản vẽ thiết kế | AE8: Cổ phần kỹ thuật ý tưởng | AF8: 16 Bình Lợi, Phường 13 | AG8: Quận Bình Thạnh | AH8: Tp.hcm | AI8: 02862800666 | AJ8: http://cadcam-vn.com/english/ | AK8: 48 | AL8: 2.Dưới 1 tháng | AM8: Qua quảng cáo trên Internet | AO8: 1.Rất tốt | AP8: 1.Rất tốt | AQ8: 1.Có liên quan | AR8: =VLOOKUP(AQ8,Sheet1!$F$21:$G$23,2) -> 1.Có liên quan | AT8: 4. Từ 6-8 triệu | AU8: 3. Từ 10-200 người | AV8: Có | AW8: 5.Trên 8 tuần | AX8: 2. Nhân viên chính thức | AZ8: Có | BA8: Gia công Master Cam | BB8: 4.Sơ cấp | BM8: 2.Đồng ý | BN8: 2.Đồng ý | BO8: 2.Đồng ý | BP8: Tài liệu,chương trình (sách, v.v.) | BQ8: Trang thiết bị (máy móc, công cụ, v.v.) | BR8: Cơ sở vật chất (phòng học, thư việnv.v.) | BT8: 2.Đồng ý | BU8: 2.Đồng ý
A9: 8 | B9: Trường Cao đẳng Lý Tự Trọng thành Phố Hồ Chí Minh | C9: 14000646 | D9: Đỗ | E9: Ngọc | F9: Huy | G9: 14CĐ - CK1 | H9: Công nghệ Cơ khí | I9: Công nghệ kỹ thuật Cơ khí | J9: =VLOOKUP(I9,Sheet1!$A$20:$B$30,2) -> Công nghệ kỹ thuật Cơ khí | K9: 1.Cao đẳng nghề | L9: 2072/G Bến Nân 1, Phú Cường | M9: Huyện Định Quán | N9: Đồng Nai | O9: 01686754060 | Q9: Nam | R9: 1996 | S9: =2018-R9:R157 -> 22 | T9: =VLOOKUP(S9,'Nhóm tuổi'!$A$10:$B$16,2) -> Dưới 25 tuổi | U9: 4.Cao đẳng | V9: Chưa | Z9: 5.Trung bình | AA9: A1.Làm công ăn lương | AC9: 11.Khác, ghi cụ thể | AD9: Cơ khí, đúc nhôm | AE9: TMB Minh Phát | AF9: 20 Nguyễn Cửa Phú, Xã Tân Kiên, | AG9: Huyện Bình Chánh | AH9: Tp.hcm | AI9: 0283877057 | AJ9: www.tbm.com.vn | AK9: 48 | AL9: 4.Trên 3 tháng | AM9: Quan hệ cá nhân | AO9: 2.Tốt | AP9: 2.Tốt | AQ9: 1.Có liên quan | AR9: =VLOOKUP(AQ9,Sheet1!$F$21:$G$23,2) -> 1.Có liên quan | AT9: 4. Từ 6-8 triệu | AU9: 3. Từ 10-200 người | AV9: Có | AW9: 1. Dưới 2 tuần | AX9: 2. Nhân viên chính thức | AZ9: Không | BM9: 2.Đồng ý | BN9: 2.Đồng ý | BO9: 2.Đồng ý | BP9: Tài liệu,chương trình (sách, v.v.) | BQ9: Trang thiết bị (máy móc, công cụ, v.v.) | BR9: Thực tập/ thực hành tại doanh nghiệp | BT9: 2.Đồng ý | BU9: 2.Đồng ý
A10: 9 | B10: Trường Cao đẳng Lý Tự Trọng thành Phố Hồ Chí Minh | C10: 14000642 | D10: Phạm | E10: Nguyễn Thái | F10: Hiền | G10: 14CĐ - CK1 | H10: Công nghệ Cơ khí | I10: Công nghệ kỹ thuật Cơ khí | J10: =VLOOKUP(I10,Sheet1!$A$20:$B$30,2) -> Công nghệ kỹ thuật Cơ khí | K10: 1.Cao đẳng nghề | L10: Võ Thành Trang, Phường 10 | M10: Quận Tân Bình | N10: Tp.hcm | O10: 01679069226 | P10: trannam1cuoctinh@gmail.com | Q10: Nam | R10: 1996 | S10: =2018-R10:R158 -> 22 | T10: =VLOOKUP(S10,'Nhóm tuổi'!$A$10:$B$16,2) -> Dưới 25 tuổi | U10: 4.Cao đẳng | V10: Chưa | Z10: 5.Trung bình | AA10: A1.Làm công ăn lương | AC10: 11.Khác, ghi cụ thể | AD10: Cơ khí, đúc nhôm | AE10: TMB Minh Phát | AF10: 20 Nguyễn Cửa Phú, Xã Tân Kiên, | AG10: Huyện Bình Chánh | AH10: Tp.hcm | AI10: 0283877057 | AJ10: www.tbm.com.vn | AK10: 48 | AL10: 4.Trên 3 tháng | AM10: Quan hệ cá nhân | AO10: 2.Tốt | AP10: 3.Trung bình | AQ10: 1.Có liên quan | AR10: =VLOOKUP(AQ10,Sheet1!$F$21:$G$23,2) -> 1.Có liên quan | AT10: 4. Từ 6-8 triệu | AU10: 3. Từ 10-200 người | AV10: Có | AW10: 1. Dưới 2 tuần | AX10: 2. Nhân viên chính thức | AZ10: Có | BA10: Công nghệ kỹ thuật cơ khí | BB10: 1.Đại học | BM10: 2.Đồng ý | BN10: 2.Đồng ý | BO10: 2.Đồng ý | BP10: Tài liệu,chương trình (sách, v.v.) | BQ10: Trang thiết bị (máy móc, công cụ, v.v.) | BR10: Thực tập/ thực hành tại doanh nghiệp | BT10: 2.Đồng ý | BU10: 2.Đồng ý
A11: 10 | B11: Trường Cao đẳng Lý Tự Trọng thành Phố Hồ Chí Minh | C11: 14000660 | D11: Huỳnh | E11: Minh | F11: Nhàn | G11: 14CĐ - CK1 | H11: Công nghệ Cơ khí | I11: Công nghệ kỹ thuật Cơ khí | J11: =VLOOKUP(I11,Sheet1!$A$20:$B$30,2) -> Công nghệ kỹ thuật Cơ khí | K11: 1.Cao đẳng nghề | L11: 5/10 Võ Trường Toản, Phường 15 | M11: Quận 5 | N11: Tp.hcm | O11: 0966276729 | P11: minhnhan2729@gmail.com | Q11: Nam | R11: 1996 | S11: =2018-R11:R159 -> 22 | T11: =VLOOKUP(S11,'Nhóm tuổi'!$A$10:$B$16,2) -> Dưới 25 tuổi | U11: 4.Cao đẳng | V11: Chưa | Z11: 5.Trung bình | AA11: A1.Làm công ăn lương | AC11: 11.Khác, ghi cụ thể | AD11: Cơ khí quản cáo | AE11: Quảng cáo Trí Việt | AF11: 195B Nam Kỳ Khởi Nghĩa, Phường 7 | AG11: Quận 3 | AH11: Tp.hcm | AI11: 02839325092 | AK11: 48 | AL11: 4.Trên 3 tháng | AM11: Qua quảng cáo trên Internet | AO11: 2.Tốt | AP11: 2.Tốt | AQ11: 1.Có liên quan | AR11: =VLOOKUP(AQ11,Sheet1!$F$21:$G$23,2) -> 1.Có liên quan | AT11: 3.Từ 4-6 triệu | AU11: 2. Từ 2-10người | AV11: Có | AW11: 2. Từ 2-4 tuần | AX11: 1. Nhân viên trong thời gian thử việc (thợ học việc | AZ11: Không | BM11: 1.Hoàn toàn đồng ý | BN11: 1.Hoàn toàn đồng ý | BO11: 1.Hoàn toàn đồng ý | BP11: Tài liệu,chương trình (sách, v.v.) | BQ11: Trang thiết bị (máy móc, công cụ, v.v.) | BR11: Thực tập/ thực hành tại doanh nghiệp | BT11: 2.Đồng ý | BU11: 2.Đồng ý
A12: 11 | B12: Trường Cao đẳng Lý Tự Trọng thành Phố Hồ Chí Minh | C12: 14000674 | D12: Ngô | E12: Huỳnh Minh | F12: Tự | G12: 14CĐ - CK1 | H12: Công nghệ Cơ khí | I12: Công nghệ kỹ thuật Cơ khí | J12: =VLOOKUP(I12,Sheet1!$A$20:$B$30,2) -> Công nghệ kỹ thuật Cơ khí | K12: 1.Cao đẳng nghề | L12: Quốc Lộ 13, Phường Hiệp Bình Chánh | M12: Quận Thủ Đức | N12: Tp.hcm | O12: 01686725052 | P12: huynhminh107@gmail.com | Q12: Nam | R12: 1996 | S12: =2018-R12:R160 -> 22 | T12: =VLOOKUP(S12,'Nhóm tuổi'!$A$10:$B$16,2) -> Dưới 25 tuổi | U12: 4.Cao đẳng | V12: Chưa | Z12: 5.Trung bình | AA12: A1.Làm công ăn lương | AC12: 11.Khác, ghi cụ thể | AD12: Thanh máy | AE12: TNHH Tập Đoàn Thang Máy Thiết Bị Thăng Long | AF12: 17A Điện Biên Phủ,Phường 25, | AG12: Quận Bình Thạnh | AH12: Tp.hcm | AI12: 02835112607 | AJ12: http://www.tle.com.vn | AK12: 48 | AL12: 2.Dưới 1 tháng | AM12: Quan hệ cá nhân | AO12: 1.Rất tốt | AP12: 1.Rất tốt | AQ12: 1.Có liên quan | AR12: =VLOOKUP(AQ12,Sheet1!$F$21:$G$23,2) -> 1.Có liên quan | AT12: 4. Từ 6-8 triệu | AU12: 3. Từ 10-200 người | AV12: Có | AW12: 2. Từ 2-4 tuần | AX12: 2. Nhân viên chính thức | AZ12: Có | BA12: Công nghệ kỹ thuật cơ khí | BB12: 1.Đại học | BM12: 2.Đồng ý | BN12: 3.Đồng ý phần nào | BO12: 2.Đồng ý | BP12: Tài liệu,chương trình (sách, v.v.) | BQ12: Trang thiết bị (máy móc, công cụ, v.v.) | BR12: Thực tập/ thực hành tại doanh nghiệp | BT12: 2.Đồng ý | BU12: 2.Đồng ý
A13: 12 | B13: Trường Cao đẳng Lý Tự Trọng thành Phố Hồ Chí Minh | C13: 14000666 | D13: Phạm | E13: Hoài | F13: Phương | G13: 14CĐ - CK1 | H13: Công nghệ Cơ khí | I13: Công nghệ kỹ thuật Cơ khí | J13: =VLOOKUP(I13,Sheet1!$A$20:$B$30,2) -> Công nghệ kỹ thuật Cơ khí | K13: 1.Cao đẳng nghề | L13: 468 Trường Chinh, Phường 13 | M13: Quận Tân Bình | N13: Tp.hcm | O13: 0964301800 | P13: phamphuong083@gmail | Q13: Nam | R13: 1996 | S13: =2018-R13:R161 -> 22 | T13: =VLOOKUP(S13,'Nhóm tuổi'!$A$10:$B$16,2) -> Dưới 25 tuổi | U13: 4.Cao đẳng | V13: Chưa | Z13: 5.Trung bình | AA13: A1.Làm công ăn lương | AC13: 11.Khác, ghi cụ thể | AD13: Gia công cơ khí | AE13: TNHH Hỗ Trợ Kiểm Định và DVCN Toàn Quốc | AF13: E29 KDC Vạn Hưng Phát, Hoàng Quốc Việt, Phường Phú Thuận | AG13: Quận 7 | AH13: Tp.hcm | AI13: 908271217 | AJ13: hotro@congnghieptoanquoc.com | AK13: 48 | AL13: 2.Dưới 1 tháng | AM13: Do trường giới thiệu | AO13: 2.Tốt | AP13: 3.Trung bình | AQ13: 3.Không liên quan | AR13: =VLOOKUP(AQ13,Sheet1!$F$21:$G$23,2) -> 3.Không liên quan | AT13: 4. Từ 6-8 triệu | AU13: 2. Từ 2-10người | AV13: Có | AW13: 5.Trên 8 tuần | AX13: 2. Nhân viên chính thức | AZ13: Không | BM13: 2.Đồng ý | BN13: 2.Đồng ý | BO13: 2.Đồng ý | BP13: Trang thiết bị (máy móc, công cụ, v.v.) | BQ13: Thực tập/ thực hành tại doanh nghiệp | BT13: 2.Đồng ý | BU13: 1.Hoàn toàn đồng ý
A14: 13 | B14: Trường Cao đẳng Lý Tự Trọng thành Phố Hồ Chí Minh | C14: 14000668 | D14: Trần | E14: Văn | F14: Qúi | G14: 14CĐ - CK1 | H14: Công nghệ Cơ khí | I14: Công nghệ kỹ thuật Cơ khí | J14: =VLOOKUP(I14,Sheet1!$A$20:$B$30,2) -> Công nghệ kỹ thuật Cơ khí | K14: 1.Cao đẳng nghề | L14: 149/61/20 Bành Văn Trân, Phường 7 | M14: Quận Tân Bình | N14: Tp.hcm | O14: 01669148819 | P14: tranqui634@gmail.com | Q14: Nam | R14: 1996 | S14: =2018-R14:R162 -> 22 | T14: =VLOOKUP(S14,'Nhóm tuổi'!$A$10:$B$16,2) -> Dưới 25 tuổi | U14: 4.Cao đẳng | V14: Chưa | Z14: 5.Trung bình | AA14: A1.Làm công ăn lương | AC14: 11.Khác, ghi cụ thể | AD14: Phụ bếp | AE14: Cười Lên Cái Coi | AF14: 1012 Trường Sa, Phường 12 | AG14: Quận 3 | AH14: Tp.hcm | AI14: 0905887486 | AK14: 56 | AL14: 4.Trên 3 tháng | AM14: Qua quảng cáo trên Internet | AO14: 2.Tốt | AP14: 2.Tốt | AQ14: 3.Không liên quan | AR14: =VLOOKUP(AQ14,Sheet1!$F$21:$G$23,2) -> 3.Không liên quan | AT14: 3.Từ 4-6 triệu | AU14: 3. Từ 10-200 người | AV14: Có | AW14: 5.Trên 8 tuần | AX14: 2. Nhân viên chính thức | AZ14: Không | BM14: 2.Đồng ý | BN14: 2.Đồng ý | BO14: 2.Đồng ý | BP14: Trang thiết bị (máy móc, công cụ, v.v.) | BQ14: Thực tập/ thực hành tại doanh nghiệp | BR14: Kỹ năng thực hành của giáo viên | BT14: 2.Đồng ý | BU14: 2.Đồng ý
A15: 14 | B15: Trường Cao đẳng Lý Tự Trọng thành Phố Hồ Chí Minh | C15: 14000634 | D15: Nguyễn | E15: Thị Thùy | F15: Dương | G15: 14CĐ - CK1 | H15: Công nghệ Cơ khí | I15: Công nghệ kỹ thuật Cơ khí | J15: =VLOOKUP(I15,Sheet1!$A$20:$B$30,2) -> Công nghệ kỹ thuật Cơ khí | K15: 1.Cao đẳng nghề | L15: 15 Lê Tấn Quốc, Phường 13 | M15: Quận Tân Bình | N15: Tp.hcm | O15: 0122367223 | P15: chaniduong96@gmail.com | Q15: Nữ | R15: 1996 | S15: =2018-R15:R163 -> 22 | T15: =VLOOKUP(S15,'Nhóm tuổi'!$A$10:$B$16,2) -> Dưới 25 tuổi | U15: 4.Cao đẳng | V15: Chưa | Z15: 5.Trung bình | AA15: A1.Làm công ăn lương | AC15: 11.Khác, ghi cụ thể | AD15: Kiểm tra hàng cơ khí | AE15: Việt Nhật Tân | AF15: 35/15 Phan Văn Hớn, Phường Tân Thới Nhất | AG15: Quận 12 | AH15: Tp.hcm | AI15: 02862591213 | AJ15: http://www.vietnhattan.com.vn | AK15: 48 | AL15: 2.Dưới 1 tháng | AM15: Qua quảng cáo trên Internet | AO15: 2.Tốt | AP15: 2.Tốt | AQ15: 1.Có liên quan | AR15: =VLOOKUP(AQ15,Sheet1!$F$21:$G$23,2) -> 1.Có liên quan | AT15: 4. Từ 6-8 triệu | AU15: 3. Từ 10-200 người | AV15: Có | AW15: 2. Từ 2-4 tuần | AX15: 2. Nhân viên chính thức | AZ15: Có | BA15: Ngôn ngữ Nhật | BB15: 2.Cao đẳng | BM15: 2.Đồng ý | BN15: 2.Đồng ý | BO15: 2.Đồng ý | BP15: Thực tập/ thực hành tại doanh nghiệp | BQ15: Phương pháp giảng dạy của giáo viên | BT15: 2.Đồng ý | BU15: 2.Đồng ý
A16: 15 | B16: Trường Cao đẳng Lý Tự Trọng thành Phố Hồ Chí Minh | C16: 14000661 | D16: Nguyễn | E16: Trọng | F16: Nhân | G16: 14CĐ - CK1 | H16: Công nghệ Cơ khí | I16: Công nghệ kỹ thuật Cơ khí | J16: =VLOOKUP(I16,Sheet1!$A$20:$B$30,2) -> Công nghệ kỹ thuật Cơ khí | K16: 1.Cao đẳng nghề | L16: 131/49 Đường Số 1, Phường Bình Hưng Hòa | M16: Quận Bình Tân | N16: Tp.hcm | O16: 01285069677 | Q16: Nam | R16: 1996 | S16: =2018-R16:R164 -> 22 | T16: =VLOOKUP(S16,'Nhóm tuổi'!$A$10:$B$16,2) -> Dưới 25 tuổi | U16: 4.Cao đẳng | V16: Chưa | Z16: 5.Trung bình | AA16: A1.Làm công ăn lương | AC16: 11.Khác, ghi cụ thể | AD16: Gia công cơ khí | AE16: Cổ Phần Cơ Điện Năng Lượng Tân Phú | AF16: 50/30 Gò Dầu, Phường Tân Qúi | AG16: Quận Tân Phú | AH16: Tp.hcm | AI16: 028738114792 | AJ16: http://tamepco.com/sam-pham.html(tamepco@gmail.com | AK16: 48 | AL16: 2.Dưới 1 tháng | AM16: Qua quảng cáo trên Internet | AO16: 1.Rất tốt | AP16: 2.Tốt | AQ16: 1.Có liên quan | AR16: =VLOOKUP(AQ16,Sheet1!$F$21:$G$23,2) -> 1.Có liên quan | AT16: 4. Từ 6-8 triệu | AU16: 3. Từ 10-200 người | AV16: Có | AW16: 2. Từ 2-4 tuần | AX16: 2. Nhân viên chính thức | BM16: 2.Đồng ý | BN16: 2.Đồng ý | BO16: 2.Đồng ý | BP16: Trang thiết bị (máy móc, công cụ, v.v.) | BQ16: Cơ sở vật chất (phòng học, thư việnv.v.) | BR16: Thực tập/ thực hành tại doanh nghiệp | BT16: 2.Đồng ý | BU16: 2.Đồng ý
A17: 16 | B17: Trường Cao đẳng Lý Tự Trọng thành Phố Hồ Chí Minh | C17: 14000624 | D17: Trần | E17: Thiện | F17: Minh | G17: 14CĐ - CK2 | H17: Công nghệ Cơ khí | I17: Công nghệ kỹ thuật Cơ khí | J17: =VLOOKUP(I17,Sheet1!$A$20:$B$30,2) -> Công nghệ kỹ thuật Cơ khí | K17: 1.Cao đẳng nghề | L17: An Thạnh, An Ninh Tây | M17: Đức Hòa | N17: Long An | O17: 01667205923 | Q17: Nam | R17: 1996 | S17: =2018-R17:R165 -> 22 | T17: =VLOOKUP(S17,'Nhóm tuổi'!$A$10:$B$16,2) -> Dưới 25 tuổi | U17: 4.Cao đẳng | V17: Chưa | Z17: 5.Trung bình | AA17: A1.Làm công ăn lương | AC17: 6.Thương mại & Dịch vụ (Bán buôn, bán lẻ) | AE17: NOWZONE, FASHION MALL | AF17: 235 Nguyễn Văn Cừ, Phường Nguyễn Cư Trinh | AG17: Quận 1 | AH17: Tp.hcm | AI17: 02839251550 | AJ17: www.nowzone.com.vn | AK17: 48 | AL17: 3. Từ 1-3 tháng | AM17: Qua quảng cáo trên Internet | AO17: 2.Tốt | AP17: 2.Tốt | AQ17: 2.Liên quan | AR17: =VLOOKUP(AQ17,Sheet1!$F$21:$G$23,2) -> 2.Liên quan | AT17: 3.Từ 4-6 triệu | AU17: 3. Từ 10-200 người | AV17: Có | AW17: 2. Từ 2-4 tuần | AX17: 2. Nhân viên chính thức | AZ17: Không | BM17: 2.Đồng ý | BN17: 2.Đồng ý | BO17: 2.Đồng ý | BP17: Tài liệu,chương trình (sách, v.v.) | BQ17: Trang thiết bị (máy móc, công cụ, v.v.) | BR17: Thực tập/ thực hành tại doanh nghiệp | BT17: 2.Đồng ý | BU17: 2.Đồng ý
A18: 17 | B18: Trường Cao đẳng Lý Tự Trọng thành Phố Hồ Chí Minh | C18: 14000681 | D18: Đàng | E18: Năng Xuân | F18: Định | G18: 14CĐ - CK2 | H18: Công nghệ Cơ khí | I18: Công nghệ kỹ thuật Cơ khí | J18: =VLOOKUP(I18,Sheet1!$A$20:$B$30,2) -> Công nghệ kỹ thuật Cơ khí | K18: 1.Cao đẳng nghề | L18: 45 Đỗ Xuân Hợp, Phường Phước Long, | M18: Quận 9 | N18: Tp.hcm | O18: 01693742536 | P18: noya14185@gmaial.com | Q18: Nam | R18: 1995 | S18: =2018-R18:R166 -> 23 | T18: =VLOOKUP(S18,'Nhóm tuổi'!$A$10:$B$16,2) -> Dưới 25 tuổi | U18: 4.Cao đẳng | V18: Chưa | Z18: 5.Trung bình | AA18: A1.Làm công ăn lương | AC18: 11.Khác, ghi cụ thể | AD18: Đứng máy tiện | AE18: Công ty Tinh Minh Đống | AF18: 181 Đặng Văn Bi, KP4, Phường Trường Thọ, | AG18: Quận Thủ Đức | AH18: Tp.hcm | AI18: 02837220977 | AJ18: minh_dong@vnn.vn | AK18: 48 | AL18: 3. Từ 1-3 tháng | AM18: Qua quảng cáo trên báo/đài/TV | AO18: 2.Tốt | AP18: 2.Tốt | AQ18: 1.Có liên quan | AR18: =VLOOKUP(AQ18,Sheet1!$F$21:$G$23,2) -> 1.Có liên quan | AT18: 3.Từ 4-6 triệu | AU18: 3. Từ 10-200 người | AV18: Có | AW18: 2. Từ 2-4 tuần | AX18: 1. Nhân viên trong thời gian thử việc (thợ học việc | AZ18: Không | BM18: 2.Đồng ý | BN18: 2.Đồng ý | BO18: 2.Đồng ý | BP18: Tài liệu,chương trình (sách, v.v.) | BQ18: Trang thiết bị (máy móc, công cụ, v.v.) | BR18: Thực tập/ thực hành tại doanh nghiệp | BT18: 2.Đồng ý | BU18: 2.Đồng ý
A19: 18 | B19: Trường Cao đẳng Lý Tự Trọng thành Phố Hồ Chí Minh | C19: 14000781 | D19: Phan | E19: Sỹ | F19: Lâm | G19: 14CĐ - CK2 | H19: Công nghệ Cơ khí | I19: Công nghệ kỹ thuật Cơ khí | J19: =VLOOKUP(I19,Sheet1!$A$20:$B$30,2) -> Công nghệ kỹ thuật Cơ khí | K19: 1.Cao đẳng nghề | L19: 66 Lê Đình Cẩn, Phường Bình Trị Đông, | M19: Quận Bình Tân | N19: Tp.hcm | O19: 01264158671 | P19: phansylam1996@gmail.com | Q19: Nam | R19: 1996 | S19: =2018-R19:R167 -> 22 | T19: =VLOOKUP(S19,'Nhóm tuổi'!$A$10:$B$16,2) -> Dưới 25 tuổi | U19: 4.Cao đẳng | V19: Chưa | Z19: 5.Trung bình | AA19: C.Không tìm được việc làm | AR19: =VLOOKUP(AQ19,Sheet1!$F$21:$G$23,2) -> #N/A | BC19: Vì không tìm được việc làm đúng với ngành nghề được đào tạo | BD19: 2.CV không liên quan đến nghề được đào tạo | BE19: Kỹ năng nghề không đáp ứng được yêu cầu công việc | BF19: Thiếu kinh nghiệm làm việc | BG19: Thiếu thông tin về việc làm | BM19: 2.Đồng ý | BN19: 3.Đồng ý phần nào | BO19: 2.Đồng ý | BP19: Tài liệu,chương trình (sách, v.v.) | BQ19: Thực tập/ thực hành tại doanh nghiệp | BT19: 2.Đồng ý | BU19: 3.Đồng ý phần nào
A20: 19 | B20: Trường Cao đẳng Lý Tự Trọng thành Phố Hồ Chí Minh | C20: 14000722 | D20: Nguyễn | E20: Văn | F20: Vương | G20: 14CĐ - CK2 | H20: Công nghệ Cơ khí | I20: Công nghệ kỹ thuật Cơ khí | J20: =VLOOKUP(I20,Sheet1!$A$20:$B$30,2) -> Công nghệ kỹ thuật Cơ khí | K20: 1.Cao đẳng nghề | L20: 3953 Lê Quang Định, Phường 11 | M20: Quận Bình Thạnh | N20: Tp.hcm | O20: 0975930661 | Q20: Nam | R20: 1995 | S20: =2018-R20:R168 -> 23 | T20: =VLOOKUP(S20,'Nhóm tuổi'!$A$10:$B$16,2) -> Dưới 25 tuổi | U20: 4.Cao đẳng | V20: Chưa | Z20: 5.Trung bình | AA20: A1.Làm công ăn lương | AC20: 11.Khác, ghi cụ thể | AD20: Làm khuôn nhựa | AE20: Công ty Cổ Phần Đại Đồng Tiến | AF20: 216 Tân Thành, Phường 15 | AG20: Quận 5 | AH20: Tp.hcm | AI20: 906600183 | AJ20: www.daidongtien.com.vn | AK20: 48 | AL20: 4.Trên 3 tháng | AM20: Quan hệ cá nhân | AO20: 2.Tốt | AP20: 2.Tốt | AQ20: 1.Có liên quan | AR20: =VLOOKUP(AQ20,Sheet1!$F$21:$G$23,2) -> 1.Có liên quan | AT20: 3.Từ 4-6 triệu | AU20: 5. Trên 300 người | AV20: Có | AW20: 2. Từ 2-4 tuần | AX20: 2. Nhân viên chính thức | AZ20: Không | BM20: 2.Đồng ý | BN20: 2.Đồng ý | BO20: 2.Đồng ý | BP20: Thực tập/ thực hành tại doanh nghiệp | BS20: Thời gian học CNC ngắn cần bổ sung thời gian | BT20: 2.Đồng ý | BU20: 2.Đồng ý
A21: 20 | B21: Trường Cao đẳng Lý Tự Trọng thành Phố Hồ Chí Minh | C21: 14000786 | D21: Trần | E21: Ngọc | F21: Ngọc | G21: 14CĐ - CK2 | H21: Công nghệ Cơ khí | I21: Công nghệ kỹ thuật Cơ khí | J21: =VLOOKUP(I21,Sheet1!$A$20:$B$30,2) -> Công nghệ kỹ thuật Cơ khí | K21: 1.Cao đẳng nghề | L21: 40/41 Lê Lợi , Phường 03 | M21: Quận Gò Vấp | N21: Tp.hcm | O21: 01649234858 | Q21: Nam | R21: 1995 | S21: =2018-R21:R169 -> 23 | T21: =VLOOKUP(S21,'Nhóm tuổi'!$A$10:$B$16,2) -> Dưới 25 tuổi | U21: 4.Cao đẳng | V21: Chưa | Z21: 5.Trung bình | AA21: C.Không tìm được việc làm | AR21: =VLOOKUP(AQ21,Sheet1!$F$21:$G$23,2) -> #N/A | BC21: Lý do khác | BD21: 2.CV không liên quan đến nghề được đào tạo | BE21: Ngoại ngữ không đạt | BF21: Thiếu kinh nghiệm làm việc | BG21: Lý do khác | BH21: Chưa sắp sếp được thời gian | BM21: 2.Đồng ý | BN21: 2.Đồng ý | BO21: 2.Đồng ý | BP21: Tài liệu,chương trình (sách, v.v.) | BQ21: Thực tập/ thực hành tại doanh nghiệp | BT21: 3.Đồng ý phần nào | BU21: 2.Đồng ý
A22: 21 | B22: Trường Cao đẳng Lý Tự Trọng thành Phố Hồ Chí Minh | C22: 14000793 | D22: Hồ | E22: Phạm Hoàng | F22: Tâm | G22: 14CĐ - CK2 | H22: Công nghệ Cơ khí | I22: Công nghệ kỹ thuật Cơ khí | J22: =VLOOKUP(I22,Sheet1!$A$20:$B$30,2) -> Công nghệ kỹ thuật Cơ khí | K22: 1.Cao đẳng nghề | L22: 437A Hoàng Văn Thụ, Phường 4 | M22: Quận Tân Bình | N22: Tp.hcm | O22: 01208559991 | P22: hophamhoangtam@gmail.com | Q22: Nam | R22: 1996 | S22: =2018-R22:R170 -> 22 | T22: =VLOOKUP(S22,'Nhóm tuổi'!$A$10:$B$16,2) -> Dưới 25 tuổi | U22: 4.Cao đẳng | V22: Chưa | Z22: 5.Trung bình | AA22: A1.Làm công ăn lương | AD22: Dân quân tự vệ | AE22: Phường 4, Quận Tân Bình | AF22: 324/59 Hoàng Văn Thụ, Phường 4 | AG22: Quận Tân Bình | AH22: Tp.hcm | AK22: 48 | AL22: 3. Từ 1-3 tháng | AM22: Quan hệ cá nhân | AO22: 2.Tốt | AP22: 2.Tốt | AQ22: 3.Không liên quan | AR22: =VLOOKUP(AQ22,Sheet1!$F$21:$G$23,2) -> 3.Không liên quan | AT22: 2. Từ 2-4 triệu | AU22: 3. Từ 10-200 người | AV22: Có | AW22: 2. Từ 2-4 tuần | AX22: 2. Nhân viên chính thức | AZ22: Không | BM22: 2.Đồng ý | BN22: 2.Đồng ý | BO22: 2.Đồng ý | BP22: Trang thiết bị (máy móc, công cụ, v.v.) | BQ22: Cơ sở vật chất (phòng học, thư việnv.v.) | BR22: Thực tập/ thực hành tại doanh nghiệp | BT22: 2.Đồng ý | BU22: 2.Đồng ý
A23: 22 | B23: Trường Cao đẳng Lý Tự Trọng thành Phố Hồ Chí Minh | C23: 14000705 | D23: Đác | E23: Duy | F23: Thắng | G23: 14CĐ - CK2 | H23: Công nghệ Cơ khí | I23: Công nghệ kỹ thuật Cơ khí | J23: =VLOOKUP(I23,Sheet1!$A$20:$B$30,2) -> Công nghệ kỹ thuật Cơ khí | K23: 1.Cao đẳng nghề | L23: 68 Đường Số 1, Trần Não, Phường Bình An | M23: Quận 2 | N23: Tp.hcm | O23: 01654667827 | P23: thangck2011@gmail.com | Q23: Nam | R23: 1992 | S23: =2018-R23:R171 -> 26 | T23: =VLOOKUP(S23,'Nhóm tuổi'!$A$10:$B$16,2) -> Từ 25 đến 30 tuổi | U23: 4.Cao đẳng | V23: Chưa | Z23: 5.Trung bình | AA23: A1.Làm công ăn lương | AC23: 11.Khác, ghi cụ thể | AD23: Công ty Điện Lực | AE23: Cổ Phần Tư Vấn Xây Dựng Điện 2 | AF23: 45 Đường Số 2, Phường Trường Thọ | AG23: Quận Thủ Đức | AH23: Tp.hcm | AI23: 02837311406 | AJ23: xncd@pecc2.com | AK23: 48 | AL23: 2.Dưới 1 tháng | AM23: Khác, ghi cụ thể | AN23: Công ty tuyển dụng | AO23: 2.Tốt | AP23: 2.Tốt | AQ23: 3.Không liên quan | AR23: =VLOOKUP(AQ23,Sheet1!$F$21:$G$23,2) -> 3.Không liên quan | AT23: 5. Trên 8 triệu | AU23: 3. Từ 10-200 người | AV23: Có | AW23: 2. Từ 2-4 tuần | AX23: 2. Nhân viên chính thức | AZ23: Không | BM23: 2.Đồng ý | BN23: 2.Đồng ý | BO23: 2.Đồng ý | BP23: Tài liệu,chương trình (sách, v.v.) | BQ23: Cơ sở vật chất (phòng học, thư việnv.v.) | BT23: 2.Đồng ý | BU23: 2.Đồng ý
A24: 23 | B24: Trường Cao đẳng Lý Tự Trọng thành Phố Hồ Chí Minh | C24: 14000692 | D24: Trần | E24: Tấn | F24: Lộc | G24: 14CĐ - CK2 | H24: Công nghệ Cơ khí | I24: Công nghệ kỹ thuật Cơ khí | J24: =VLOOKUP(I24,Sheet1!$A$20:$B$30,2) -> Công nghệ kỹ thuật Cơ khí | K24: 1.Cao đẳng nghề | L24: Phước Thể | M24: Tuy Phong | N24: Bình Thuận | O24: 01675818299 | P24: ttanloc120@gmail.com | Q24: Nam | R24: 1995 | S24: =2018-R24:R172 -> 23 | T24: =VLOOKUP(S24,'Nhóm tuổi'!$A$10:$B$16,2) -> Dưới 25 tuổi | U24: 4.Cao đẳng | V24: Chưa | Z24: 5.Trung bình | AA24: A2.Tự SX-KD | AC24: 11.Khác, ghi cụ thể | AD24: Thi công công trình xây dựng | AE24: Tại gia | AF24: Phước Thể | AG24: Huyện Tuy Phong | AH24: Bình Thuận | AI24: 01675818299 | AJ24: tta6nloc120@gmail.co..vn | AK24: 48 | AL24: 2.Dưới 1 tháng | AM24: Quan hệ cá nhân | AO24: 3.Trung bình | AP24: 3.Trung bình | AQ24: 1.Có liên quan | AR24: =VLOOKUP(AQ24,Sheet1!$F$21:$G$23,2) -> 1.Có liên quan | AT24: 3.Từ 4-6 triệu | AU24: 3. Từ 10-200 người | AV24: Có | AW24: 2. Từ 2-4 tuần | AX24: 2. Nhân viên chính thức | AZ24: Không | BM24: 2.Đồng ý | BN24: 3.Đồng ý phần nào | BO24: 2.Đồng ý | BP24: Thực tập/ thực hành tại doanh nghiệp | BT24: 2.Đồng ý | BU24: 2.Đồng ý
A25: 24 | B25: Trường Cao đẳng Lý Tự Trọng thành Phố Hồ Chí Minh | C25: 14000758 | D25: Nguyễn | E25: Hải | F25: Triều | G25: 14CĐ - CK3 | H25: Công nghệ Cơ khí | I25: Công nghệ kỹ thuật Cơ khí | J25: =VLOOKUP(I25,Sheet1!$A$20:$B$30,2) -> Công nghệ kỹ thuật Cơ khí | K25: 1.Cao đẳng nghề | L25: 237/42 Trịnh Đình Trọng, Phường Phú Trung | M25: Quận Tân Phú | N25: Tp.hcm | O25: 0942289278 | P25: haitrieunguyen96@gmail.com | Q25: Nam | R25: 1996 | S25: =2018-R25:R173 -> 22 | T25: =VLOOKUP(S25,'Nhóm tuổi'!$A$10:$B$16,2) -> Dưới 25 tuổi | U25: 4.Cao đẳng | V25: Chưa | Z25: 5.Trung bình | AA25: C.Không tìm được việc làm | AR25: =VLOOKUP(AQ25,Sheet1!$F$21:$G$23,2) -> #N/A | BC25: Lý do khác | BD25: 1.CV liên quan đến nghề được đào tạo | BE25: Ngoại ngữ không đạt | BF25: Thiếu kinh nghiệm làm việc | BG25: Thiếu thông tin về việc làm | BM25: 2.Đồng ý | BN25: 2.Đồng ý | BO25: 2.Đồng ý | BP25: Tài liệu,chương trình (sách, v.v.) | BQ25: Cơ sở vật chất (phòng học, thư việnv.v.) | BR25: Phương pháp giảng dạy của giáo viên | BT25: 2.Đồng ý | BU25: 2.Đồng ý
A26: 25 | B26: Trường Cao đẳng Lý Tự Trọng thành Phố Hồ Chí Minh | C26: 14000755 | D26: Lê | E26: Trung | F26: Tín | G26: 14CĐ - CK3 | H26: Công nghệ Cơ khí | I26: Công nghệ kỹ thuật Cơ khí | J26: =VLOOKUP(I26,Sheet1!$A$20:$B$30,2) -> Công nghệ kỹ thuật Cơ khí | K26: 1.Cao đẳng nghề | L26: 47 Phú Lộc, Phường 6 | M26: Quận Tân Bình | N26: Tp.hcm | O26: 01674751540 | P26: tintrungle2310@gmail.com | Q26: Nam | R26: 1996 | S26: =2018-R26:R174 -> 22 | T26: =VLOOKUP(S26,'Nhóm tuổi'!$A$10:$B$16,2) -> Dưới 25 tuổi | U26: 4.Cao đẳng | V26: Chưa | Z26: 5.Trung bình | AA26: B1.Vừa học vừa làm | AC26: 6.Thương mại & Dịch vụ (Bán buôn, bán lẻ) | AO26: 2.Tốt | AP26: 2.Tốt | AQ26: 3.Không liên quan | AR26: =VLOOKUP(AQ26,Sheet1!$F$21:$G$23,2) -> 3.Không liên quan | AT26: 3.Từ 4-6 triệu | AU26: 5. Trên 300 người | AV26: Có | AW26: 1. Dưới 2 tuần | AX26: 2. Nhân viên chính thức | AZ26: Có | BA26: Công nghệ kỹ thuật cơ khí | BB26: 1.Đại học | BI26: Học nâng cao trình độ | BJ26: Truường Đại học sư phạm Kỹ thuật Tp.HCM | BK26: CN Kỹ thuật Cơ khí | BL26: 1.Đại học | BM26: 2.Đồng ý | BN26: 3.Đồng ý phần nào | BO26: 2.Đồng ý | BP26: Tài liệu,chương trình (sách, v.v.) | BQ26: Trang thiết bị (máy móc, công cụ, v.v.) | BR26: Thực tập/ thực hành tại doanh nghiệp | BT26: 2.Đồng ý | BU26: 2.Đồng ý
A27: 26 | B27: Trường Cao đẳng Lý Tự Trọng thành Phố Hồ Chí Minh | C27: 14000729 | D27: Nguyễn | E27: Sỹ | F27: Hải | G27: 14CĐ - CK3 | H27: Công nghệ Cơ khí | I27: Công nghệ kỹ thuật Cơ khí | J27: =VLOOKUP(I27,Sheet1!$A$20:$B$30,2) -> Công nghệ kỹ thuật Cơ khí | K27: 1.Cao đẳng nghề | L27: Tổ 23, Ấp Xà Ban 2, Xã Xà Bang | M27: Huyện Châu Đức | N27: BR-VT | O27: 09082003592 | P27: 1119.syhai@gmail | Q27: Nam | R27: 1996 | S27: =2018-R27:R175 -> 22 | T27: =VLOOKUP(S27,'Nhóm tuổi'!$A$10:$B$16,2) -> Dưới 25 tuổi | U27: 4.Cao đẳng | V27: Chưa | Z27: 5.Trung bình | AA27: C.Không tìm được việc làm | AC27: 11.Khác, ghi cụ thể | AR27: =VLOOKUP(AQ27,Sheet1!$F$21:$G$23,2) -> #N/A | BC27: Lý do khác | BD27: 1.CV liên quan đến nghề được đào tạo | BE27: Kỹ năng nghề không đáp ứng được yêu cầu công việc | BF27: Thiếu kinh nghiệm làm việc | BG27: Thiếu thông tin về việc làm | BM27: 2.Đồng ý | BN27: 2.Đồng ý | BO27: 2.Đồng ý | BP27: Tài liệu,chương trình (sách, v.v.) | BQ27: Trang thiết bị (máy móc, công cụ, v.v.) | BR27: Thực tập/ thực hành tại doanh nghiệp | BT27: 3.Đồng ý phần nào | BU27: 2.Đồng ý
A28: 27 | B28: Trường Cao đẳng Lý Tự Trọng thành Phố Hồ Chí Minh | C28: 14000733 | D28: Thân | E28: Trọng | F28: Hoàng | G28: 14CĐ - CK3 | H28: Công nghệ Cơ khí | I28: Công nghệ kỹ thuật Cơ khí | J28: =VLOOKUP(I28,Sheet1!$A$20:$B$30,2) -> Công nghệ kỹ thuật Cơ khí | K28: 1.Cao đẳng nghề | L28: 164/66/16 Bùi Quang Là, Phường 12 | M28: Quận Gò Vấp | N28: Tp.hcm | O28: 01685789232 | P28: thantronghoang1996@gmail.com | Q28: Nam | R28: 1996 | S28: =2018-R28:R176 -> 22 | T28: =VLOOKUP(S28,'Nhóm tuổi'!$A$10:$B$16,2) -> Dưới 25 tuổi | U28: 4.Cao đẳng | V28: Chưa | Z28: 5.Trung bình | AA28: C.Không tìm được việc làm | AR28: =VLOOKUP(AQ28,Sheet1!$F$21:$G$23,2) -> #N/A | BC28: Lý do khác | BD28: 2.CV không liên quan đến nghề được đào tạo | BE28: Ngoại ngữ không đạt | BF28: Thiếu kinh nghiệm làm việc | BG28: Thiếu thông tin về việc làm | BH28: Chưa muốn đi làm | BM28: 2.Đồng ý | BN28: 2.Đồng ý | BO28: 2.Đồng ý | BP28: Trang thiết bị (máy móc, công cụ, v.v.) | BQ28: Thực tập/ thực hành tại doanh nghiệp | BT28: 2.Đồng ý | BU28: 2.Đồng ý
A29: 28 | B29: Trường Cao đẳng Lý Tự Trọng thành Phố Hồ Chí Minh | C29: 14000760 | D29: Vũ | E29: Thành | F29: Trung | G29: 14CĐ - CK3 | H29: Công nghệ Cơ khí | I29: Công nghệ kỹ thuật Cơ khí | J29: =VLOOKUP(I29,Sheet1!$A$20:$B$30,2) -> Công nghệ kỹ thuật Cơ khí | K29: 1.Cao đẳng nghề | L29: 561 Thị Trấn Thạnh Mỹ | M29: Huyện Đơn Dương | N29: Lâm Đồng | O29: 0964444190 | Q29: Nam | R29: 1996 | S29: =2018-R29:R177 -> 22 | T29: =VLOOKUP(S29,'Nhóm tuổi'!$A$10:$B$16,2) -> Dưới 25 tuổi | U29: 4.Cao đẳng | V29: Chưa | Z29: 5.Trung bình | AA29: A2.Tự SX-KD | AC29: 5. Sản xuất, phân phối điện, ga, nước | AE29: Cơ khí Khoa | AF29: 561 Thị Trấn Thành Mỹ | AG29: Huyện Đơn Dương | AH29: Lâm Đồng | AI29: 0964444190 | AK29: 48 | AL29: 2.Dưới 1 tháng | AM29: Quan hệ cá nhân | AO29: 3.Trung bình | AP29: 2.Tốt | AQ29: 1.Có liên quan | AR29: =VLOOKUP(AQ29,Sheet1!$F$21:$G$23,2) -> 1.Có liên quan | AT29: 3.Từ 4-6 triệu | AU29: 2. Từ 2-10người | AV29: Có | AW29: 5.Trên 8 tuần | AX29: 2. Nhân viên chính thức | AZ29: Không | BM29: 2.Đồng ý | BN29: 2.Đồng ý | BO29: 2.Đồng ý | BP29: Thực tập/ thực hành tại doanh nghiệp | BT29: 2.Đồng ý | BU29: 2.Đồng ý
A30: 29 | B30: Trường Cao đẳng Lý Tự Trọng thành Phố Hồ Chí Minh | C30: 14000759 | D30: Huỳnh | E30: Kim | F30: Trọng | G30: 14CĐ - CK3 | H30: Công nghệ Cơ khí | I30: Công nghệ kỹ thuật Cơ khí | J30: =VLOOKUP(I30,Sheet1!$A$20:$B$30,2) -> Công nghệ kỹ thuật Cơ khí | K30: 1.Cao đẳng nghề | L30: Hẻm 62/23 Nhất Chi Mai, Phường 13 | M30: Quận Tân Bình | N30: Tp.hcm | O30: 01642735268 | P30: htrong53@gmail.com | Q30: Nam | R30: 1996 | S30: =2018-R30:R178 -> 22 | T30: =VLOOKUP(S30,'Nhóm tuổi'!$A$10:$B$16,2) -> Dưới 25 tuổi | U30: 4.Cao đẳng | V30: Chưa | Z30: 5.Trung bình | AA30: B2.Đang đi học | AR30: =VLOOKUP(AQ30,Sheet1!$F$21:$G$23,2) -> #N/A | BI30: Lý do khác | BJ30: Trường Hykri | BK30: Tiếng Nhật | BL30: 4.Sơ cấp | BM30: 2.Đồng ý | BN30: 2.Đồng ý | BO30: 2.Đồng ý | BP30: Trang thiết bị (máy móc, công cụ, v.v.) | BQ30: Trang thiết bị (máy móc, công cụ, v.v.) | BR30: Thực tập/ thực hành tại doanh nghiệp | BT30: 2.Đồng ý | BU30: 2.Đồng ý
A31: 30 | B31: Trường Cao đẳng Lý Tự Trọng thành Phố Hồ Chí Minh | C31: 14000795 | D31: Dương | E31: Công | F31: Thắng | G31: 14CĐ - CK3 | H31: Công nghệ Cơ khí | I31: Công nghệ kỹ thuật Cơ khí | J31: =VLOOKUP(I31,Sheet1!$A$20:$B$30,2) -> Công nghệ kỹ thuật Cơ khí | K31: 1.Cao đẳng nghề | L31: 135/21 Kp6, Phường Trung Mỹ Tây | M31: Quận 12 | N31: Tp.hcm | O31: 0965955371 | Q31: Nam | R31: 1996 | S31: =2018-R31:R179 -> 22 | T31: =VLOOKUP(S31,'Nhóm tuổi'!$A$10:$B$16,2) -> Dưới 25 tuổi | U31: 4.Cao đẳng | V31: Chưa | Z31: 5.Trung bình | AA31: C.Không tìm được việc làm | AR31: =VLOOKUP(AQ31,Sheet1!$F$21:$G$23,2) -> #N/A | BC31: Vì không tìm được việc làm đúng với ngành nghề được đào tạo | BD31: 3.Cả 2 công việc trên | BE31: Ngoại ngữ không đạt | BF31: Thiếu kinh nghiệm làm việc | BG31: Thiếu thông tin về việc làm | BM31: 2.Đồng ý | BN31: 2.Đồng ý | BO31: 2.Đồng ý | BP31: Trang thiết bị (máy móc, công cụ, v.v.) | BQ31: Cơ sở vật chất (phòng học, thư việnv.v.) | BR31: Phương pháp giảng dạy của giáo viên | BT31: 2.Đồng ý | BU31: 2.Đồng ý
A32: 31 | B32: Trường Cao đẳng Lý Tự Trọng thành Phố Hồ Chí Minh | C32: 14000796 | D32: Lê | E32: Đình | F32: Thành | G32: 14CĐ - CK3 | H32: Công nghệ Cơ khí | I32: Công nghệ kỹ thuật Cơ khí | J32: =VLOOKUP(I32,Sheet1!$A$20:$B$30,2) -> Công nghệ kỹ thuật Cơ khí | K32: 1.Cao đẳng nghề | L32: 191 Đồng Đen, Phường 11 | M32: Quận Tân Bình | N32: Tp.hcm | O32: 01629674436 | Q32: Nam | R32: 1995 | S32: =2018-R32:R180 -> 23 | T32: =VLOOKUP(S32,'Nhóm tuổi'!$A$10:$B$16,2) -> Dưới 25 tuổi | U32: 4.Cao đẳng | V32: Chưa | Z32: 5.Trung bình | AA32: B2.Đang đi học | AR32: =VLOOKUP(AQ32,Sheet1!$F$21:$G$23,2) -> #N/A | BI32: Học nâng cao trình độ | BJ32: Trung tâm đào tạo Lý Tự Trong | BK32: Công nghệ thông tin | BL32: 4.Sơ cấp | BM32: 2.Đồng ý | BN32: 1.Hoàn toàn đồng ý | BO32: 2.Đồng ý | BP32: Trang thiết bị (máy móc, công cụ, v.v.) | BQ32: Thực tập/ thực hành tại doanh nghiệp | BT32: 1.Hoàn toàn đồng ý | BU32: 2.Đồng ý
A33: 32 | B33: Trường Cao đẳng Lý Tự Trọng thành Phố Hồ Chí Minh | C33: 14000489 | D33: Đỗ | E33: Trọng | F33: Dũng | G33: 14CĐ - Đ1 | H33: Công nghệ Điện - Điện tử | I33: Điện công nghiệp | J33: =VLOOKUP(I33,Sheet1!$A$20:$B$30,2) -> Điện công nghiệp | K33: 1.Cao đẳng nghề | L33: Thiệu Tân, Thiệu Hóa, | M33: Thiệu Hóa | N33: Thanh Hóa | O33: 01655822636 | P33: dotrongdungth5996@gmail.com | Q33: Nam | R33: 1996 | S33: =2018-R33:R181 -> 22 | T33: =VLOOKUP(S33,'Nhóm tuổi'!$A$10:$B$16,2) -> Dưới 25 tuổi | U33: 4.Cao đẳng | V33: Chưa | Z33: 5.Trung bình | AA33: A1.Làm công ăn lương | AC33: 4. Xây dựng | AE33: Công ty Cổ Phần MePac | AF33: 52 Đường Số 2 | AG33: Quận 7 | AH33: Tp.hcm | AI33: 0988.622964 | AJ33: uyen.tran@mepac.vn | AK33: 48 | AL33: 2.Dưới 1 tháng | AM33: Do trường giới thiệu | AO33: 2.Tốt | AP33: 2.Tốt | AQ33: 1.Có liên quan | AR33: =VLOOKUP(AQ33,Sheet1!$F$21:$G$23,2) -> 1.Có liên quan | AT33: 3.Từ 4-6 triệu | AU33: 3. Từ 10-200 người | AV33: Có | AW33: 1. Dưới 2 tuần | AX33: 1. Nhân viên trong thời gian thử việc (thợ học việc | AZ33: Không | BM33: 2.Đồng ý | BN33: 2.Đồng ý | BO33: 2.Đồng ý | BP33: Tài liệu,chương trình (sách, v.v.) | BQ33: Trang thiết bị (máy móc, công cụ, v.v.) | BR33: Thực tập/ thực hành tại doanh nghiệp | BT33: 2.Đồng ý | BU33: 2.Đồng ý
A34: 33 | B34: Trường Cao đẳng Lý Tự Trọng thành Phố Hồ Chí Minh | C34: 14000487 | D34: Hồ | E34: Gia | F34: Bảo | G34: 14CĐ - Đ1 | H34: Công nghệ Điện - Điện tử | I34: Điện công nghiệp | J34: =VLOOKUP(I34,Sheet1!$A$20:$B$30,2) -> Điện công nghiệp | K34: 1.Cao đẳng nghề | L34: 45/1/9 Đỗ Xuân Hợp | M34: Quận 9 | N34: Tp.hcm | O34: 0934867976 | P34: giabaoqn08@gmail.com | Q34: Nam | R34: 1996 | S34: =2018-R34:R182 -> 22 | T34: =VLOOKUP(S34,'Nhóm tuổi'!$A$10:$B$16,2) -> Dưới 25 tuổi | U34: 4.Cao đẳng | V34: Chưa | Z34: 4.Trung bình khá | AA34: B1.Vừa học vừa làm | AC34: 4. Xây dựng | AE34: Công ty Cổ Phần MePac | AF34: 52 Đường Số 2 | AG34: Quận 7 | AH34: Tp.hcm | AI34: 02862639900 | AJ34: info@mepac.vn | AK34: 80 | AL34: 2.Dưới 1 tháng | AM34: Do trường giới thiệu | AO34: 2.Tốt | AP34: 2.Tốt | AQ34: 1.Có liên quan | AR34: =VLOOKUP(AQ34,Sheet1!$F$21:$G$23,2) -> 1.Có liên quan | AT34: 4. Từ 6-8 triệu | AU34: 3. Từ 10-200 người | AV34: Có | AW34: 4. Từ 6-8 tuần | AX34: 1. Nhân viên trong thời gian thử việc (thợ học việc | AZ34: Có | BA34: Điện công nghiệp | BB34: 1.Đại học | BI34: Học nâng cao trình độ | BJ34: Trường Đại học sư phạm kỹ thuật Tp.HCM | BK34: Điện công nghiệp | BL34: 1.Đại học | BM34: 2.Đồng ý | BN34: 2.Đồng ý | BO34: 1.Hoàn toàn đồng ý | BP34: Tài liệu,chương trình (sách, v.v.) | BQ34: Trang thiết bị (máy móc, công cụ, v.v.) | BR34: Phương pháp giảng dạy của giáo viên | BT34: 2.Đồng ý | BU34: 2.Đồng ý
A35: 34 | B35: Trường Cao đẳng Lý Tự Trọng thành Phố Hồ Chí Minh | C35: 14000484 | D35: Thái | E35: Nhật | F35: Anh | G35: 14CĐ - Đ1 | H35: Công nghệ Điện - Điện tử | I35: Điện công nghiệp | J35: =VLOOKUP(I35,Sheet1!$A$20:$B$30,2) -> Điện công nghiệp | K35: 1.Cao đẳng nghề | L35: 056 Đường Tràm Dơi | M35: Cao Lãnh | N35: Đồng Tháp | O35: 0944835814 | P35: cdktltt@gmail.com | Q35: Nam | R35: 1995 | S35: =2018-R35:R183 -> 23 | T35: =VLOOKUP(S35,'Nhóm tuổi'!$A$10:$B$16,2) -> Dưới 25 tuổi | U35: 4.Cao đẳng | V35: Chưa | Z35: 5.Trung bình | AA35: B1.Vừa học vừa làm | AC35: 4. Xây dựng | AE35: Công ty Cổ Phần MePac | AF35: 52 Đường Số 2 | AG35: Quận 7 | AH35: Tp.hcm | AI35: 0988.622964 | AJ35: uyen.tran@mepac.vn | AK35: 48 | AL35: 1.Trước khi TN | AM35: Qua quảng cáo trên Internet | AO35: 2.Tốt | AP35: 2.Tốt | AQ35: 1.Có liên quan | AR35: =VLOOKUP(AQ35,Sheet1!$F$21:$G$23,2) -> 1.Có liên quan | AT35: 3.Từ 4-6 triệu | AU35: 3. Từ 10-200 người | AV35: Không | AX35: 1. Nhân viên trong thời gian thử việc (thợ học việc | AZ35: Có | BA35: Điện công nghiệp | BB35: 1.Đại học | BL35: 1.Đại học | BM35: 2.Đồng ý | BN35: 2.Đồng ý | BO35: 2.Đồng ý | BP35: Thực tập/ thực hành tại doanh nghiệp | BT35: 2.Đồng ý | BU35: 2.Đồng ý
A36: 35 | B36: Trường Cao đẳng Lý Tự Trọng thành Phố Hồ Chí Minh | C36: 14000527 | D36: Huỳnh | E36: Hữu | F36: Thức | G36: 14CĐ - Đ1 | H36: Công nghệ Điện - Điện tử | I36: Điện công nghiệp | J36: =VLOOKUP(I36,Sheet1!$A$20:$B$30,2) -> Điện công nghiệp | K36: 1.Cao đẳng nghề | L36: xóm 8, Phước Thể, | M36: Tuy Phong | N36: Bình Thuận | O36: 01626555065 | P36: htchuuthuc@gmail.com | Q36: Nam | R36: 1996 | S36: =2018-R36:R184 -> 22 | T36: =VLOOKUP(S36,'Nhóm tuổi'!$A$10:$B$16,2) -> Dưới 25 tuổi | U36: 4.Cao đẳng | V36: Chưa | Z36: 5.Trung bình | AA36: A1.Làm công ăn lương | AC36: 4. Xây dựng | AE36: Công ty Cổ Phần MePac | AF36: 52 Đường Số 2 | AG36: Quận 7 | AH36: Tp.hcm | AI36: 0988.622964 | AJ36: uyen.tran@mepac.vn | AK36: 50 | AL36: 1.Trước khi TN | AM36: Do trường giới thiệu | AO36: 3.Trung bình | AP36: 3.Trung bình | AQ36: 1.Có liên quan | AR36: =VLOOKUP(AQ36,Sheet1!$F$21:$G$23,2) -> 1.Có liên quan | AT36: 2. Từ 2-4 triệu | AU36: 3. Từ 10-200 người | AV36: Có | AW36: 2. Từ 2-4 tuần | AX36: 2. Nhân viên chính thức | AZ36: Không | BM36: 2.Đồng ý | BN36: 2.Đồng ý | BO36: 2.Đồng ý | BP36: Thực tập/ thực hành tại doanh nghiệp | BT36: 2.Đồng ý | BU36: 2.Đồng ý
A37: 36 | B37: Trường Cao đẳng Lý Tự Trọng thành Phố Hồ Chí Minh | C37: 14000484 | D37: Thái | E37: Nhật | F37: Anh | G37: 14CĐ - Đ1 | H37: Công nghệ Điện - Điện tử | I37: Điện công nghiệp | J37: =VLOOKUP(I37,Sheet1!$A$20:$B$30,2) -> Điện công nghiệp | K37: 1.Cao đẳng nghề | L37: 56 Tổ 2, Ấp Mỹ Đông 2, | M37: Huyện Cao Lãnh, Tỉnh Đồng Tháp | N37: Tp.hcm | O37: 0944835814 | P37: Cdktltt@gmail.com | Q37: Nam | R37: 1995 | S37: =2018-R37:R185 -> 23 | T37: =VLOOKUP(S37,'Nhóm tuổi'!$A$10:$B$16,2) -> Dưới 25 tuổi | U37: 4.Cao đẳng | V37: Chưa | Z37: 5.Trung bình | AA37: B1.Vừa học vừa làm | AC37: 4. Xây dựng | AE37: Công ty Cổ Phần MePac | AF37: 52 Đường Số 2 | AG37: Quận 7 | AH37: Tp.hcm | AI37: 0988.622964 | AJ37: uyen.tran@mepac.vn | AK37: 48 | AL37: 2.Dưới 1 tháng | AM37: Do trường giới thiệu | AO37: 2.Tốt | AP37: 2.Tốt | AQ37: 1.Có liên quan | AR37: =VLOOKUP(AQ37,Sheet1!$F$21:$G$23,2) -> 1.Có liên quan | AT37: 3.Từ 4-6 triệu | AU37: 3. Từ 10-200 người | AV37: Không | AX37: 1. Nhân viên trong thời gian thử việc (thợ học việc | AZ37: Có | BA37: Điện công nghiệp | BB37: 1.Đại học | BI37: Học nâng cao trình độ | BJ37: Trường Đại học sư phạm kỹ thuật Tp.HCM | BK37: Điện Công nghiệp | BL37: 1.Đại học | BM37: 2.Đồng ý | BN37: 2.Đồng ý | BO37: 2.Đồng ý | BP37: Trang thiết bị (máy móc, công cụ, v.v.) | BQ37: Thực tập/ thực hành tại doanh nghiệp | BR37: Phương pháp giảng dạy của giáo viên | BT37: 2.Đồng ý | BU37: 2.Đồng ý
A38: 37 | B38: Trường Cao đẳng Lý Tự Trọng thành Phố Hồ Chí Minh | C38: 14000499 | D38: Trần | E38: Minh | F38: Hiếu | G38: 14CĐ - Đ1 | H38: Công nghệ Điện - Điện tử | I38: Điện công nghiệp | J38: =VLOOKUP(I38,Sheet1!$A$20:$B$30,2) -> Điện công nghiệp | K38: 1.Cao đẳng nghề | L38: 50/14 Ấp Mỹ Hòa, Xã Trung Chánh | M38: Huyện Hóc Môn | N38: Tp.hcm | O38: 09398186723 | P38: hiieumiinh@gmail.com | Q38: Nam | R38: 1995 | S38: =2018-R38:R186 -> 23 | T38: =VLOOKUP(S38,'Nhóm tuổi'!$A$10:$B$16,2) -> Dưới 25 tuổi | U38: 4.Cao đẳng | V38: Chưa | Z38: 4.Trung bình khá | AA38: A1.Làm công ăn lương | AC38: 6.Thương mại & Dịch vụ (Bán buôn, bán lẻ) | AE38: An Lộc Phát | AF38: 31/14 Tân Trụ, Phường 15 | AG38: Quận Tân Bình | AH38: Tp.hcm | AI38: 02838153642 | AJ38: anlocphat@thietbidongcat.com | AK38: 48 | AL38: 2.Dưới 1 tháng | AM38: Do trường giới thiệu | AO38: 1.Rất tốt | AP38: 2.Tốt | AQ38: 1.Có liên quan | AR38: =VLOOKUP(AQ38,Sheet1!$F$21:$G$23,2) -> 1.Có liên quan | AT38: 3.Từ 4-6 triệu | AU38: 3. Từ 10-200 người | AV38: Có | AW38: 2. Từ 2-4 tuần | AX38: 2. Nhân viên chính thức | AZ38: Không | BM38: 1.Hoàn toàn đồng ý | BN38: 2.Đồng ý | BO38: 2.Đồng ý | BP38: Tài liệu,chương trình (sách, v.v.) | BQ38: Trang thiết bị (máy móc, công cụ, v.v.) | BR38: Thực tập/ thực hành tại doanh nghiệp | BT38: 1.Hoàn toàn đồng ý | BU38: 2.Đồng ý
A39: 38 | B39: Trường Cao đẳng Lý Tự Trọng thành Phố Hồ Chí Minh | C39: 14000415 | D39: Võ | E39: Thành | F39: Thôi | G39: 14CĐ - ĐT1 | H39: Công nghệ Điện - Điện tử | I39: Điện tử công nghiệp | J39: =VLOOKUP(I39,Sheet1!$A$20:$B$30,2) -> Điện tử công nghiệp | K39: 1.Cao đẳng nghề | L39: 279 Lâm Văn Bền, Phường Bình Thuận | M39: Quận 7 | N39: Tp.hcm | O39: 0979833580 | P39: vothanhthoi96@gmail.com | Q39: Nam | R39: 1996 | S39: =2018-R39:R187 -> 22 | T39: =VLOOKUP(S39,'Nhóm tuổi'!$A$10:$B$16,2) -> Dưới 25 tuổi | U39: 4.Cao đẳng | V39: Chưa | Z39: 4.Trung bình khá | AA39: A1.Làm công ăn lương | AC39: 5. Sản xuất, phân phối điện, ga, nước | AE39: TNHH New Ha Nam | AF39: HT 3-1, Tăng Nhơn Phú B, Khu Công nghệ cao | AG39: Quận 9 | AH39: Tp.hcm | AI39: 02822531782 | AJ39: kinhdoanh@newhanam.com | AK39: 48 | AL39: 3. Từ 1-3 tháng | AM39: Qua quảng cáo trên báo/đài/TV | AO39: 2.Tốt | AP39: 2.Tốt | AQ39: 1.Có liên quan | AR39: =VLOOKUP(AQ39,Sheet1!$F$21:$G$23,2) -> 1.Có liên quan | AT39: 4. Từ 6-8 triệu | AU39: 5. Trên 300 người | AV39: Có | AW39: 5.Trên 8 tuần | AX39: 2. Nhân viên chính thức | AZ39: Không | BM39: 2.Đồng ý | BN39: 1.Hoàn toàn đồng ý | BO39: 1.Hoàn toàn đồng ý | BP39: Trang thiết bị (máy móc, công cụ, v.v.) | BS39: Cảm biến trong lĩnh vực điện tử | BT39: 1.Hoàn toàn đồng ý | BU39: 1.Hoàn toàn đồng ý
A40: 39 | B40: Trường Cao đẳng Lý Tự Trọng thành Phố Hồ Chí Minh | C40: 14000372 | D40: Phan | E40: Đình Nguyễn | F40: Diệm | G40: 14CĐ - ĐT1 | H40: Công nghệ Điện - Điện tử | I40: Điện tử công nghiệp | J40: =VLOOKUP(I40,Sheet1!$A$20:$B$30,2) -> Điện tử công nghiệp | K40: 1.Cao đẳng nghề | L40: Ấp 5, Sông Nhạn | M40: Cẩm Mỹ | N40: Đồng Nai | O40: 1656424436 | P40: nguyediem110591@gmail.com | Q40: Nam | R40: 1995 | S40: =2018-R40:R188 -> 23 | T40: =VLOOKUP(S40,'Nhóm tuổi'!$A$10:$B$16,2) -> Dưới 25 tuổi | U40: 4.Cao đẳng | V40: Chưa | Z40: 5.Trung bình | AA40: A1.Làm công ăn lương | AC40: 4. Xây dựng | AE40: Công ty Cổ Phần MePac | AF40: 52 Đường Số 2 | AG40: Quận 7 | AH40: Tp.hcm | AI40: 0988.622964 | AJ40: uyen.tran@mepac.vn | AK40: 48 | AL40: 1.Trước khi TN | AM40: Do trường giới thiệu | AO40: 1.Rất tốt | AP40: 1.Rất tốt | AQ40: 1.Có liên quan | AR40: =VLOOKUP(AQ40,Sheet1!$F$21:$G$23,2) -> 1.Có liên quan | AT40: 3.Từ 4-6 triệu | AU40: 5. Trên 300 người | AV40: Không | AX40: 5. Vị trí khác | AY40: Công nhân | AZ40: Không | BM40: 2.Đồng ý | BN40: 2.Đồng ý | BO40: 2.Đồng ý | BP40: Thực tập/ thực hành tại doanh nghiệp | BT40: 1.Hoàn toàn đồng ý | BU40: 1.Hoàn toàn đồng ý
...

Sheet options
B1: school | C1: gender | D1: employment | E1: employment after graduation | F1: jobfind | G1: salary | H1: timetraining | I1: vitri | J1: sector | K1: jobreason | L1: jobapply | M1: lydo | N1: improvement | Q1: yesno | R1: agreement | S1: perception | T1: rankcert | U1: Related | V1: Number | W1: level | X1: schooling | Y1: vt_level | Z1: vt_place | AA1: fe_cert | AB1: Yesno2
B2: 1.NI_CĐ Kỹ thuật Công nghệ LILAMA 2 | C2: Nam | D2: A1.Làm công ăn lương | E2: 1.Trước khi TN | F2: Do trường giới thiệu | G2: 1.Dưới 2 triệu | H2: 1. Dưới 2 tuần | I2: 1. Nhân viên trong thời gian thử việc (thợ học việc | J2: 1. Nông - lâm - ngư nghiệp | K2: Không tìm được việc làm -Could not find a job | L2: 1.CV liên quan đến nghề được đào tạo | M2: Ngành nghề được đào tạo đang dư thừa lao động trên thị trường | N2: Tài liệu,chương trình (sách, v.v.) | Q2: Có | R2: 1.Hoàn toàn đồng ý | S2: 1.Rất tốt | T2: 5.Trung bình | U2: 1.Có liên quan | V2: 1. 1 người | W2: 1.Đại học | X2: 1.Trung học cơ sở | Y2: 1.Sơ cấp nghề | Z2: 1.Trung tâm dạy nghề | AA2: 1.Đại học | AB2: Rồi
B3: 2.NI_CĐN Bách Nghệ Hải Phòng | C3: Nữ | D3: A2.Tự SX-KD | E3: 2.Dưới 1 tháng | F3: Do cơ quan dịch vụ việc làm | G3: 2. Từ 2-4 triệu | H3: 2. Từ 2-4 tuần | I3: 2. Nhân viên chính thức | J3: 2. Công nghiệp khai thác | K3: Đi học tiếp-further education | L3: 2.CV không liên quan đến nghề được đào tạo | M3: Kỹ năng nghề không đáp ứng được yêu cầu công việc | N3: Trang thiết bị (máy móc, công cụ, v.v.) | Q3: Không | R3: 2.Đồng ý | S3: 2.Tốt | T3: 4.Trung bình khá | U3: 2.Liên quan | V3: 2. Từ 2-10người | W3: 2.Cao đẳng | X3: 2.Trung học phổ thông | Y3: 2.Trung cấp nghề | Z3: 2.Trung cấp nghề | AA3: 2.Cao đẳng | AB3: Chưa
B4: 3.NI_CĐN Đồng Nai | D4: B1.Vừa học vừa làm | E4: 3. Từ 1-3 tháng | F4: Qua quảng cáo trên báo/đài/TV | G4: 3.Từ 4-6 triệu | H4: 3. Từ 4-6 tuần | I4: 3.Kỹ thuật viên kiêm tổ trưởng | J4: 3. Công nghiệp chế biến | K4: Khác, ghi cụ thể -other | L4: 3.Cả 2 công việc trên | M4: Ngoại ngữ không đạt | N4: Cơ sở vật chất (phòng học, thư việnv.v.) | R4: 3.Đồng ý phần nào | S4: 3.Trung bình | T4: 3.Khá | U4: 3.Không liên quan | V4: 3. Từ 10-200 người | W4: 3.Trung cấp | X4: 3.Trung cấp | Y4: 3.Cao đẳng nghề | Z4: 3.Cao đẳng nghề | AA4: 3.Trung cấp
B5: 4.NI_CĐN Công nghiệp Hải Phòng | D5: B2.Đang đi học | E5: 4.Trên 3 tháng | F5: Quan hệ cá nhân | G5: 4. Từ 6-8 triệu | H5: 4. Từ 6-8 tuần | I5: 4.Cán bộ quản lý (chuyên trách) | J5: 4. Xây dựng | M5: Trình độ máy tính không đạt | N5: Thực tập/ thực hành tại doanh nghiệp | R5: 4.Không đồng ý | S5: 4.Kém | T5: 2.Giỏi | V5: 4. Từ 200-300 người | W5: 4.Sơ cấp | X5: 4.Cao đẳng | Y5: 4.Khác | Z5: 4.Cơ sở dạy nghề khác | AA5: 4.Sơ cấp | AB5: Rồi/yes
B6: 5.NI_CĐ Cơ khí Nông nghiệp Vĩnh Phúc | D6: C.Không tìm được việc làm | F6: Qua quảng cáo trên Internet | G6: 5. Trên 8 triệu | H6: 5.Trên 8 tuần | I6: 5. Vị trí khác | J6: 5. Sản xuất, phân phối điện, ga, nước | M6: Thiếu kinh nghiệm làm việc | N6: Phương pháp giảng dạy của giáo viên | R6: 5.Hoàn toàn không đồng ý | S6: 5.Rất kém | T6: 1.Xuất sắc | V6: 5. Trên 300 người | W6: 5.Khác | X6: 5.Đại học | AA6: 5.Khác | AB6: Chưa/not yet
B7: 6.NI_CĐN Kỹ thuật Công nghệ Hà Nội | D7: D.Khác | F7: Hội chợ việc làm | J7: 6.Thương mại & Dịch vụ (Bán buôn, bán lẻ) | M7: Thiếu thông tin về việc làm | N7: Kỹ năng thực hành của giáo viên | X7: 6.Khác | AC7: :
B8: 7.NI_CĐN Hồ Chí Minh | F8: Khác, ghi cụ thể | J8: 7.Khách sạn, Nhà hàng và Lữ hành | M8: Lý do khác | N8: Khác | S8: Rất tốt/very good | X8: TN tiểu học | Y8: Sơ cấp nghề | Z8: Trung tâm dạy nghề/VT Center | AA8: Đại học/university | AC8: lydohocnghe
B9: 1.PVT_Trung cấp nghề Ninh Thuận | J9: 8.Thông tin liên lạc, Công nghệ thông tin | S9: Tốt/Good | T9: Trung bình/pass | X9: TN trung học cơ sở/lower secondary | Y9: Trung cấp nghề/secondary VT | Z9: Trung cấp nghề/Secondary VT School | AA9: Cao đẳng/college | AC9: Học nâng cao trình độ
B10: 2.PVT_Cao đẳng nghề công nghiệp Việt Bắc Vinacomin | D10: CapTD | J10: 9.Giao thông vận tải | Q10: Có/Yes | R10: Hoàn toàn đồng ý/strongly agree | S10: Trung bình/average | T10: Trung bình khá/pass plus | X10: TN/ trung học phổ thông/upper secondary | Y10: Cao đẳng nghề/technical college training | Z10: Cao đẳng nghề/VT College | AA10: Trung cấp/secondary | AC10: Học nghề mới do không tìm được việc làm theo nghề đã học
B11: 4.PVT_Cao đẳng nghề kinh tế kỹ thuật Bắc Ninh | H11: Dưới 2 tuần/<2 weeks | J11: 10.Giáo dục / đào tạo | Q11: Không/No | R11: Đồng ý/agree | S11: Kém/bad | T11: Khá/good | X11: TN cao đẳng/college | Y11: Giấy chứng nhận học nghề hướng nghiệp/job -guidance certificate | Z11: Cơ sở dạy nghề khác/Other training institution | AA11: Khác/other | AC11: Học nghề mới do muốn làm công việc khác với nghề đã học
B12: 3.PVT_Trường Cao đẳng nghề Long An | H12: 2-5 tuần/2-5 weeks | J12: 11.Khác, ghi cụ thể | M12: Ngành nghề được đào tạo đang dư thừa lao động trên thị trường | R12: Đồng ý phần nào/somewhat agree | S12: Rất kém/very bad | T12: Giỏi/very good | X12: TN đại học/university | Y12: Khác/other | AC12: Lý do khác
B13: 5.PVT_Cao đẳng nghề An Giang | H13: 1-2 tháng/1-2 months | R13: Không đồng ý/disagree | T13: Xuất sắc/excellent | X13: Khác/other
B14: 6.CG_Cơ điện Luyện Kim Thái Nguyên | H14: 2-5 tháng/2 – 5 months | R14: Hoàn toàn không đồng ý/ strongly disagree
B15: 7.CG_Kinh tế-Công nghệ LADEC | H15: Trên 5 tháng/> 5 months | M15: LydokoVL
B16: 8.CG_TCN KT-KT Công đoàn An Giang | D16: 1.Cao đẳng nghề | M16: Vì không tìm được bất cứ việc làm nào
B17: 9.CG_CĐN Cơ điện Xây dựng Bắc Ninh | D17: 2.Trung cấp nghề | I17: N) | J17: Giáo dục/đào tạo-Education/ training | M17: Vì không tìm được việc làm đúng với ngành nghề được đào tạo | R17: Tài liệu- learning materials
B18: 10.OI_CĐN Nguyễn Tất Thành | D18: 3. Sơ cấp nghề | I18: Nhân viên chính thức (đã được ký hợp đồng lao động) | J18: Xây dựng -construction | M18: Lý do khác | R18: Trang thiết bị-equipment
B19: 12.OI_CĐN Việt - Đức Nghệ An | I19: Kỹ thuật viên kiêm tổ trưởng (trưởng nhóm) làm việc | J19: Dịch vụ (KS, nhà hàng, ngân hàng)-other services | R19: Cơ sở vật chất-facilities
